BEGIN:VCALENDAR
VERSION:2.0
PRODID:-//Brock Community Health Centre - ECPv6.15.20//NONSGML v1.0//EN
CALSCALE:GREGORIAN
METHOD:PUBLISH
X-WR-CALNAME:Brock Community Health Centre
X-ORIGINAL-URL:https://www.brockchc.ca
X-WR-CALDESC:Events for Brock Community Health Centre
REFRESH-INTERVAL;VALUE=DURATION:PT1H
X-Robots-Tag:noindex
X-PUBLISHED-TTL:PT1H
BEGIN:VTIMEZONE
TZID:UTC
BEGIN:STANDARD
TZOFFSETFROM:+0000
TZOFFSETTO:+0000
TZNAME:UTC
DTSTART:20270101T000000
END:STANDARD
END:VTIMEZONE
BEGIN:VTIMEZONE
TZID:America/Toronto
BEGIN:DAYLIGHT
TZOFFSETFROM:-0500
TZOFFSETTO:-0400
TZNAME:EDT
DTSTART:20270314T070000
END:DAYLIGHT
BEGIN:STANDARD
TZOFFSETFROM:-0400
TZOFFSETTO:-0500
TZNAME:EST
DTSTART:20271107T060000
END:STANDARD
BEGIN:DAYLIGHT
TZOFFSETFROM:-0500
TZOFFSETTO:-0400
TZNAME:EDT
DTSTART:20280312T070000
END:DAYLIGHT
BEGIN:STANDARD
TZOFFSETFROM:-0400
TZOFFSETTO:-0500
TZNAME:EST
DTSTART:20281105T060000
END:STANDARD
BEGIN:DAYLIGHT
TZOFFSETFROM:-0500
TZOFFSETTO:-0400
TZNAME:EDT
DTSTART:20290311T070000
END:DAYLIGHT
BEGIN:STANDARD
TZOFFSETFROM:-0400
TZOFFSETTO:-0500
TZNAME:EST
DTSTART:20291104T060000
END:STANDARD
BEGIN:DAYLIGHT
TZOFFSETFROM:-0500
TZOFFSETTO:-0400
TZNAME:EDT
DTSTART:20300310T070000
END:DAYLIGHT
BEGIN:STANDARD
TZOFFSETFROM:-0400
TZOFFSETTO:-0500
TZNAME:EST
DTSTART:20301103T060000
END:STANDARD
END:VTIMEZONE
BEGIN:VEVENT
DTSTART;TZID=UTC:20281031T090000
DTEND;TZID=UTC:20281031T100000
DTSTAMP:20260420T172324
CREATED:20250108T153628Z
LAST-MODIFIED:20250108T153628Z
UID:10007292-1856595600-1856599200@www.brockchc.ca
SUMMARY:Gentle Fit (Virtual)
DESCRIPTION:This instructor-led class is a means of improving and maintaining functional performance through strength\, balance and cardiovascular development. This class will aid in the prevention of future injury\, including those that may be the results of falls. Exercises progress at the pace of the participants at the discretion of the instructor. Contact Jennifer to register.
URL:https://www.brockchc.ca/calendar/gentle-fit-2-2/2028-10-31/
LOCATION:Virtual via Zoom
ATTACH;FMTTYPE=image/jpeg:https://www.brockchc.ca/wp-content/uploads/2023/03/gentle.jpg
END:VEVENT
BEGIN:VEVENT
DTSTART;TZID=America/Toronto:20281103T100000
DTEND;TZID=America/Toronto:20281103T110000
DTSTAMP:20260420T172324
CREATED:20250108T155449Z
LAST-MODIFIED:20250108T155449Z
UID:10006993-1856858400-1856862000@www.brockchc.ca
SUMMARY:Guided Meditation
DESCRIPTION:Learn to relax your mind and body to reduce stress\, improve your breathing\, help the healing process\, and find calm and balance in your life.  Complement your path to health and wellness.  No experience necessary.  To register\, contact Loretta Fernandes-Heaslip at 705.432.3322 ext. 106 or lfheaslip@brockchc.ca.
URL:https://www.brockchc.ca/calendar/guided-meditation-2/2028-11-03/
LOCATION:Virtual via Zoom
ATTACH;FMTTYPE=image/jpeg:https://www.brockchc.ca/wp-content/uploads/2023/03/mindful.jpg
END:VEVENT
BEGIN:VEVENT
DTSTART;TZID=UTC:20281107T090000
DTEND;TZID=UTC:20281107T100000
DTSTAMP:20260420T172324
CREATED:20250108T153628Z
LAST-MODIFIED:20250108T153628Z
UID:10007293-1857200400-1857204000@www.brockchc.ca
SUMMARY:Gentle Fit (Virtual)
DESCRIPTION:This instructor-led class is a means of improving and maintaining functional performance through strength\, balance and cardiovascular development. This class will aid in the prevention of future injury\, including those that may be the results of falls. Exercises progress at the pace of the participants at the discretion of the instructor. Contact Jennifer to register.
URL:https://www.brockchc.ca/calendar/gentle-fit-2-2/2028-11-07/
LOCATION:Virtual via Zoom
ATTACH;FMTTYPE=image/jpeg:https://www.brockchc.ca/wp-content/uploads/2023/03/gentle.jpg
END:VEVENT
BEGIN:VEVENT
DTSTART;TZID=America/Toronto:20281110T100000
DTEND;TZID=America/Toronto:20281110T110000
DTSTAMP:20260420T172324
CREATED:20250108T155449Z
LAST-MODIFIED:20250108T155449Z
UID:10006999-1857463200-1857466800@www.brockchc.ca
SUMMARY:Guided Meditation
DESCRIPTION:Learn to relax your mind and body to reduce stress\, improve your breathing\, help the healing process\, and find calm and balance in your life.  Complement your path to health and wellness.  No experience necessary.  To register\, contact Loretta Fernandes-Heaslip at 705.432.3322 ext. 106 or lfheaslip@brockchc.ca.
URL:https://www.brockchc.ca/calendar/guided-meditation-2/2028-11-10/
LOCATION:Virtual via Zoom
ATTACH;FMTTYPE=image/jpeg:https://www.brockchc.ca/wp-content/uploads/2023/03/mindful.jpg
END:VEVENT
BEGIN:VEVENT
DTSTART;TZID=UTC:20281114T090000
DTEND;TZID=UTC:20281114T100000
DTSTAMP:20260420T172324
CREATED:20250108T153628Z
LAST-MODIFIED:20250108T153628Z
UID:10007294-1857805200-1857808800@www.brockchc.ca
SUMMARY:Gentle Fit (Virtual)
DESCRIPTION:This instructor-led class is a means of improving and maintaining functional performance through strength\, balance and cardiovascular development. This class will aid in the prevention of future injury\, including those that may be the results of falls. Exercises progress at the pace of the participants at the discretion of the instructor. Contact Jennifer to register.
URL:https://www.brockchc.ca/calendar/gentle-fit-2-2/2028-11-14/
LOCATION:Virtual via Zoom
ATTACH;FMTTYPE=image/jpeg:https://www.brockchc.ca/wp-content/uploads/2023/03/gentle.jpg
END:VEVENT
BEGIN:VEVENT
DTSTART;TZID=America/Toronto:20281117T100000
DTEND;TZID=America/Toronto:20281117T110000
DTSTAMP:20260420T172324
CREATED:20250108T155449Z
LAST-MODIFIED:20250108T155449Z
UID:10007010-1858068000-1858071600@www.brockchc.ca
SUMMARY:Guided Meditation
DESCRIPTION:Learn to relax your mind and body to reduce stress\, improve your breathing\, help the healing process\, and find calm and balance in your life.  Complement your path to health and wellness.  No experience necessary.  To register\, contact Loretta Fernandes-Heaslip at 705.432.3322 ext. 106 or lfheaslip@brockchc.ca.
URL:https://www.brockchc.ca/calendar/guided-meditation-2/2028-11-17/
LOCATION:Virtual via Zoom
ATTACH;FMTTYPE=image/jpeg:https://www.brockchc.ca/wp-content/uploads/2023/03/mindful.jpg
END:VEVENT
BEGIN:VEVENT
DTSTART;TZID=UTC:20281121T090000
DTEND;TZID=UTC:20281121T100000
DTSTAMP:20260420T172324
CREATED:20250108T153628Z
LAST-MODIFIED:20250108T153628Z
UID:10007295-1858410000-1858413600@www.brockchc.ca
SUMMARY:Gentle Fit (Virtual)
DESCRIPTION:This instructor-led class is a means of improving and maintaining functional performance through strength\, balance and cardiovascular development. This class will aid in the prevention of future injury\, including those that may be the results of falls. Exercises progress at the pace of the participants at the discretion of the instructor. Contact Jennifer to register.
URL:https://www.brockchc.ca/calendar/gentle-fit-2-2/2028-11-21/
LOCATION:Virtual via Zoom
ATTACH;FMTTYPE=image/jpeg:https://www.brockchc.ca/wp-content/uploads/2023/03/gentle.jpg
END:VEVENT
BEGIN:VEVENT
DTSTART;TZID=America/Toronto:20281124T100000
DTEND;TZID=America/Toronto:20281124T110000
DTSTAMP:20260420T172324
CREATED:20250108T155449Z
LAST-MODIFIED:20250108T155449Z
UID:10007018-1858672800-1858676400@www.brockchc.ca
SUMMARY:Guided Meditation
DESCRIPTION:Learn to relax your mind and body to reduce stress\, improve your breathing\, help the healing process\, and find calm and balance in your life.  Complement your path to health and wellness.  No experience necessary.  To register\, contact Loretta Fernandes-Heaslip at 705.432.3322 ext. 106 or lfheaslip@brockchc.ca.
URL:https://www.brockchc.ca/calendar/guided-meditation-2/2028-11-24/
LOCATION:Virtual via Zoom
ATTACH;FMTTYPE=image/jpeg:https://www.brockchc.ca/wp-content/uploads/2023/03/mindful.jpg
END:VEVENT
BEGIN:VEVENT
DTSTART;TZID=UTC:20281128T090000
DTEND;TZID=UTC:20281128T100000
DTSTAMP:20260420T172324
CREATED:20250108T153628Z
LAST-MODIFIED:20250108T153628Z
UID:10007296-1859014800-1859018400@www.brockchc.ca
SUMMARY:Gentle Fit (Virtual)
DESCRIPTION:This instructor-led class is a means of improving and maintaining functional performance through strength\, balance and cardiovascular development. This class will aid in the prevention of future injury\, including those that may be the results of falls. Exercises progress at the pace of the participants at the discretion of the instructor. Contact Jennifer to register.
URL:https://www.brockchc.ca/calendar/gentle-fit-2-2/2028-11-28/
LOCATION:Virtual via Zoom
ATTACH;FMTTYPE=image/jpeg:https://www.brockchc.ca/wp-content/uploads/2023/03/gentle.jpg
END:VEVENT
BEGIN:VEVENT
DTSTART;TZID=America/Toronto:20281201T100000
DTEND;TZID=America/Toronto:20281201T110000
DTSTAMP:20260420T172324
CREATED:20250108T155449Z
LAST-MODIFIED:20250108T155449Z
UID:10007026-1859277600-1859281200@www.brockchc.ca
SUMMARY:Guided Meditation
DESCRIPTION:Learn to relax your mind and body to reduce stress\, improve your breathing\, help the healing process\, and find calm and balance in your life.  Complement your path to health and wellness.  No experience necessary.  To register\, contact Loretta Fernandes-Heaslip at 705.432.3322 ext. 106 or lfheaslip@brockchc.ca.
URL:https://www.brockchc.ca/calendar/guided-meditation-2/2028-12-01/
LOCATION:Virtual via Zoom
ATTACH;FMTTYPE=image/jpeg:https://www.brockchc.ca/wp-content/uploads/2023/03/mindful.jpg
END:VEVENT
BEGIN:VEVENT
DTSTART;TZID=UTC:20281205T090000
DTEND;TZID=UTC:20281205T100000
DTSTAMP:20260420T172324
CREATED:20250108T153628Z
LAST-MODIFIED:20250108T153628Z
UID:10007297-1859619600-1859623200@www.brockchc.ca
SUMMARY:Gentle Fit (Virtual)
DESCRIPTION:This instructor-led class is a means of improving and maintaining functional performance through strength\, balance and cardiovascular development. This class will aid in the prevention of future injury\, including those that may be the results of falls. Exercises progress at the pace of the participants at the discretion of the instructor. Contact Jennifer to register.
URL:https://www.brockchc.ca/calendar/gentle-fit-2-2/2028-12-05/
LOCATION:Virtual via Zoom
ATTACH;FMTTYPE=image/jpeg:https://www.brockchc.ca/wp-content/uploads/2023/03/gentle.jpg
END:VEVENT
BEGIN:VEVENT
DTSTART;TZID=America/Toronto:20281208T100000
DTEND;TZID=America/Toronto:20281208T110000
DTSTAMP:20260420T172324
CREATED:20250108T155449Z
LAST-MODIFIED:20250108T155449Z
UID:10007034-1859882400-1859886000@www.brockchc.ca
SUMMARY:Guided Meditation
DESCRIPTION:Learn to relax your mind and body to reduce stress\, improve your breathing\, help the healing process\, and find calm and balance in your life.  Complement your path to health and wellness.  No experience necessary.  To register\, contact Loretta Fernandes-Heaslip at 705.432.3322 ext. 106 or lfheaslip@brockchc.ca.
URL:https://www.brockchc.ca/calendar/guided-meditation-2/2028-12-08/
LOCATION:Virtual via Zoom
ATTACH;FMTTYPE=image/jpeg:https://www.brockchc.ca/wp-content/uploads/2023/03/mindful.jpg
END:VEVENT
BEGIN:VEVENT
DTSTART;TZID=UTC:20281212T090000
DTEND;TZID=UTC:20281212T100000
DTSTAMP:20260420T172324
CREATED:20250108T153628Z
LAST-MODIFIED:20250108T153628Z
UID:10007298-1860224400-1860228000@www.brockchc.ca
SUMMARY:Gentle Fit (Virtual)
DESCRIPTION:This instructor-led class is a means of improving and maintaining functional performance through strength\, balance and cardiovascular development. This class will aid in the prevention of future injury\, including those that may be the results of falls. Exercises progress at the pace of the participants at the discretion of the instructor. Contact Jennifer to register.
URL:https://www.brockchc.ca/calendar/gentle-fit-2-2/2028-12-12/
LOCATION:Virtual via Zoom
ATTACH;FMTTYPE=image/jpeg:https://www.brockchc.ca/wp-content/uploads/2023/03/gentle.jpg
END:VEVENT
BEGIN:VEVENT
DTSTART;TZID=America/Toronto:20281215T100000
DTEND;TZID=America/Toronto:20281215T110000
DTSTAMP:20260420T172324
CREATED:20250108T155449Z
LAST-MODIFIED:20250108T155449Z
UID:10009908-1860487200-1860490800@www.brockchc.ca
SUMMARY:Guided Meditation
DESCRIPTION:Learn to relax your mind and body to reduce stress\, improve your breathing\, help the healing process\, and find calm and balance in your life.  Complement your path to health and wellness.  No experience necessary.  To register\, contact Loretta Fernandes-Heaslip at 705.432.3322 ext. 106 or lfheaslip@brockchc.ca.
URL:https://www.brockchc.ca/calendar/guided-meditation-2/2028-12-15/
LOCATION:Virtual via Zoom
ATTACH;FMTTYPE=image/jpeg:https://www.brockchc.ca/wp-content/uploads/2023/03/mindful.jpg
END:VEVENT
BEGIN:VEVENT
DTSTART;TZID=UTC:20281219T090000
DTEND;TZID=UTC:20281219T100000
DTSTAMP:20260420T172324
CREATED:20250108T153628Z
LAST-MODIFIED:20250108T153628Z
UID:10007299-1860829200-1860832800@www.brockchc.ca
SUMMARY:Gentle Fit (Virtual)
DESCRIPTION:This instructor-led class is a means of improving and maintaining functional performance through strength\, balance and cardiovascular development. This class will aid in the prevention of future injury\, including those that may be the results of falls. Exercises progress at the pace of the participants at the discretion of the instructor. Contact Jennifer to register.
URL:https://www.brockchc.ca/calendar/gentle-fit-2-2/2028-12-19/
LOCATION:Virtual via Zoom
ATTACH;FMTTYPE=image/jpeg:https://www.brockchc.ca/wp-content/uploads/2023/03/gentle.jpg
END:VEVENT
BEGIN:VEVENT
DTSTART;TZID=America/Toronto:20281222T100000
DTEND;TZID=America/Toronto:20281222T110000
DTSTAMP:20260420T172324
CREATED:20250108T155449Z
LAST-MODIFIED:20250108T155449Z
UID:10009909-1861092000-1861095600@www.brockchc.ca
SUMMARY:Guided Meditation
DESCRIPTION:Learn to relax your mind and body to reduce stress\, improve your breathing\, help the healing process\, and find calm and balance in your life.  Complement your path to health and wellness.  No experience necessary.  To register\, contact Loretta Fernandes-Heaslip at 705.432.3322 ext. 106 or lfheaslip@brockchc.ca.
URL:https://www.brockchc.ca/calendar/guided-meditation-2/2028-12-22/
LOCATION:Virtual via Zoom
ATTACH;FMTTYPE=image/jpeg:https://www.brockchc.ca/wp-content/uploads/2023/03/mindful.jpg
END:VEVENT
BEGIN:VEVENT
DTSTART;TZID=UTC:20281226T090000
DTEND;TZID=UTC:20281226T100000
DTSTAMP:20260420T172324
CREATED:20250108T153628Z
LAST-MODIFIED:20250108T153628Z
UID:10009942-1861434000-1861437600@www.brockchc.ca
SUMMARY:Gentle Fit (Virtual)
DESCRIPTION:This instructor-led class is a means of improving and maintaining functional performance through strength\, balance and cardiovascular development. This class will aid in the prevention of future injury\, including those that may be the results of falls. Exercises progress at the pace of the participants at the discretion of the instructor. Contact Jennifer to register.
URL:https://www.brockchc.ca/calendar/gentle-fit-2-2/2028-12-26/
LOCATION:Virtual via Zoom
ATTACH;FMTTYPE=image/jpeg:https://www.brockchc.ca/wp-content/uploads/2023/03/gentle.jpg
END:VEVENT
BEGIN:VEVENT
DTSTART;TZID=America/Toronto:20281229T100000
DTEND;TZID=America/Toronto:20281229T110000
DTSTAMP:20260420T172324
CREATED:20250108T155449Z
LAST-MODIFIED:20250108T155449Z
UID:10009923-1861696800-1861700400@www.brockchc.ca
SUMMARY:Guided Meditation
DESCRIPTION:Learn to relax your mind and body to reduce stress\, improve your breathing\, help the healing process\, and find calm and balance in your life.  Complement your path to health and wellness.  No experience necessary.  To register\, contact Loretta Fernandes-Heaslip at 705.432.3322 ext. 106 or lfheaslip@brockchc.ca.
URL:https://www.brockchc.ca/calendar/guided-meditation-2/2028-12-29/
LOCATION:Virtual via Zoom
ATTACH;FMTTYPE=image/jpeg:https://www.brockchc.ca/wp-content/uploads/2023/03/mindful.jpg
END:VEVENT
BEGIN:VEVENT
DTSTART;TZID=UTC:20290102T090000
DTEND;TZID=UTC:20290102T100000
DTSTAMP:20260420T172324
CREATED:20250108T153628Z
LAST-MODIFIED:20250108T153628Z
UID:10009943-1862038800-1862042400@www.brockchc.ca
SUMMARY:Gentle Fit (Virtual)
DESCRIPTION:This instructor-led class is a means of improving and maintaining functional performance through strength\, balance and cardiovascular development. This class will aid in the prevention of future injury\, including those that may be the results of falls. Exercises progress at the pace of the participants at the discretion of the instructor. Contact Jennifer to register.
URL:https://www.brockchc.ca/calendar/gentle-fit-2-2/2029-01-02/
LOCATION:Virtual via Zoom
ATTACH;FMTTYPE=image/jpeg:https://www.brockchc.ca/wp-content/uploads/2023/03/gentle.jpg
END:VEVENT
BEGIN:VEVENT
DTSTART;TZID=America/Toronto:20290105T100000
DTEND;TZID=America/Toronto:20290105T110000
DTSTAMP:20260420T172324
CREATED:20250108T155449Z
LAST-MODIFIED:20250108T155449Z
UID:10009924-1862301600-1862305200@www.brockchc.ca
SUMMARY:Guided Meditation
DESCRIPTION:Learn to relax your mind and body to reduce stress\, improve your breathing\, help the healing process\, and find calm and balance in your life.  Complement your path to health and wellness.  No experience necessary.  To register\, contact Loretta Fernandes-Heaslip at 705.432.3322 ext. 106 or lfheaslip@brockchc.ca.
URL:https://www.brockchc.ca/calendar/guided-meditation-2/2029-01-05/
LOCATION:Virtual via Zoom
ATTACH;FMTTYPE=image/jpeg:https://www.brockchc.ca/wp-content/uploads/2023/03/mindful.jpg
END:VEVENT
BEGIN:VEVENT
DTSTART;TZID=UTC:20290109T090000
DTEND;TZID=UTC:20290109T100000
DTSTAMP:20260420T172324
CREATED:20250108T153628Z
LAST-MODIFIED:20250108T153628Z
UID:10009944-1862643600-1862647200@www.brockchc.ca
SUMMARY:Gentle Fit (Virtual)
DESCRIPTION:This instructor-led class is a means of improving and maintaining functional performance through strength\, balance and cardiovascular development. This class will aid in the prevention of future injury\, including those that may be the results of falls. Exercises progress at the pace of the participants at the discretion of the instructor. Contact Jennifer to register.
URL:https://www.brockchc.ca/calendar/gentle-fit-2-2/2029-01-09/
LOCATION:Virtual via Zoom
ATTACH;FMTTYPE=image/jpeg:https://www.brockchc.ca/wp-content/uploads/2023/03/gentle.jpg
END:VEVENT
BEGIN:VEVENT
DTSTART;TZID=America/Toronto:20290112T100000
DTEND;TZID=America/Toronto:20290112T110000
DTSTAMP:20260420T172324
CREATED:20250108T155449Z
LAST-MODIFIED:20250108T155449Z
UID:10009925-1862906400-1862910000@www.brockchc.ca
SUMMARY:Guided Meditation
DESCRIPTION:Learn to relax your mind and body to reduce stress\, improve your breathing\, help the healing process\, and find calm and balance in your life.  Complement your path to health and wellness.  No experience necessary.  To register\, contact Loretta Fernandes-Heaslip at 705.432.3322 ext. 106 or lfheaslip@brockchc.ca.
URL:https://www.brockchc.ca/calendar/guided-meditation-2/2029-01-12/
LOCATION:Virtual via Zoom
ATTACH;FMTTYPE=image/jpeg:https://www.brockchc.ca/wp-content/uploads/2023/03/mindful.jpg
END:VEVENT
BEGIN:VEVENT
DTSTART;TZID=UTC:20290116T090000
DTEND;TZID=UTC:20290116T100000
DTSTAMP:20260420T172324
CREATED:20250108T153628Z
LAST-MODIFIED:20250108T153628Z
UID:10009945-1863248400-1863252000@www.brockchc.ca
SUMMARY:Gentle Fit (Virtual)
DESCRIPTION:This instructor-led class is a means of improving and maintaining functional performance through strength\, balance and cardiovascular development. This class will aid in the prevention of future injury\, including those that may be the results of falls. Exercises progress at the pace of the participants at the discretion of the instructor. Contact Jennifer to register.
URL:https://www.brockchc.ca/calendar/gentle-fit-2-2/2029-01-16/
LOCATION:Virtual via Zoom
ATTACH;FMTTYPE=image/jpeg:https://www.brockchc.ca/wp-content/uploads/2023/03/gentle.jpg
END:VEVENT
BEGIN:VEVENT
DTSTART;TZID=America/Toronto:20290119T100000
DTEND;TZID=America/Toronto:20290119T110000
DTSTAMP:20260420T172324
CREATED:20250108T155449Z
LAST-MODIFIED:20250108T155449Z
UID:10009926-1863511200-1863514800@www.brockchc.ca
SUMMARY:Guided Meditation
DESCRIPTION:Learn to relax your mind and body to reduce stress\, improve your breathing\, help the healing process\, and find calm and balance in your life.  Complement your path to health and wellness.  No experience necessary.  To register\, contact Loretta Fernandes-Heaslip at 705.432.3322 ext. 106 or lfheaslip@brockchc.ca.
URL:https://www.brockchc.ca/calendar/guided-meditation-2/2029-01-19/
LOCATION:Virtual via Zoom
ATTACH;FMTTYPE=image/jpeg:https://www.brockchc.ca/wp-content/uploads/2023/03/mindful.jpg
END:VEVENT
BEGIN:VEVENT
DTSTART;TZID=UTC:20290123T090000
DTEND;TZID=UTC:20290123T100000
DTSTAMP:20260420T172324
CREATED:20250108T153628Z
LAST-MODIFIED:20250108T153628Z
UID:10009946-1863853200-1863856800@www.brockchc.ca
SUMMARY:Gentle Fit (Virtual)
DESCRIPTION:This instructor-led class is a means of improving and maintaining functional performance through strength\, balance and cardiovascular development. This class will aid in the prevention of future injury\, including those that may be the results of falls. Exercises progress at the pace of the participants at the discretion of the instructor. Contact Jennifer to register.
URL:https://www.brockchc.ca/calendar/gentle-fit-2-2/2029-01-23/
LOCATION:Virtual via Zoom
ATTACH;FMTTYPE=image/jpeg:https://www.brockchc.ca/wp-content/uploads/2023/03/gentle.jpg
END:VEVENT
BEGIN:VEVENT
DTSTART;TZID=America/Toronto:20290126T100000
DTEND;TZID=America/Toronto:20290126T110000
DTSTAMP:20260420T172324
CREATED:20250108T155449Z
LAST-MODIFIED:20250108T155449Z
UID:10009927-1864116000-1864119600@www.brockchc.ca
SUMMARY:Guided Meditation
DESCRIPTION:Learn to relax your mind and body to reduce stress\, improve your breathing\, help the healing process\, and find calm and balance in your life.  Complement your path to health and wellness.  No experience necessary.  To register\, contact Loretta Fernandes-Heaslip at 705.432.3322 ext. 106 or lfheaslip@brockchc.ca.
URL:https://www.brockchc.ca/calendar/guided-meditation-2/2029-01-26/
LOCATION:Virtual via Zoom
ATTACH;FMTTYPE=image/jpeg:https://www.brockchc.ca/wp-content/uploads/2023/03/mindful.jpg
END:VEVENT
BEGIN:VEVENT
DTSTART;TZID=UTC:20290130T090000
DTEND;TZID=UTC:20290130T100000
DTSTAMP:20260420T172324
CREATED:20250108T153628Z
LAST-MODIFIED:20250108T153628Z
UID:10009985-1864458000-1864461600@www.brockchc.ca
SUMMARY:Gentle Fit (Virtual)
DESCRIPTION:This instructor-led class is a means of improving and maintaining functional performance through strength\, balance and cardiovascular development. This class will aid in the prevention of future injury\, including those that may be the results of falls. Exercises progress at the pace of the participants at the discretion of the instructor. Contact Jennifer to register.
URL:https://www.brockchc.ca/calendar/gentle-fit-2-2/2029-01-30/
LOCATION:Virtual via Zoom
ATTACH;FMTTYPE=image/jpeg:https://www.brockchc.ca/wp-content/uploads/2023/03/gentle.jpg
END:VEVENT
BEGIN:VEVENT
DTSTART;TZID=America/Toronto:20290202T100000
DTEND;TZID=America/Toronto:20290202T110000
DTSTAMP:20260420T172324
CREATED:20250108T155449Z
LAST-MODIFIED:20250108T155449Z
UID:10010012-1864720800-1864724400@www.brockchc.ca
SUMMARY:Guided Meditation
DESCRIPTION:Learn to relax your mind and body to reduce stress\, improve your breathing\, help the healing process\, and find calm and balance in your life.  Complement your path to health and wellness.  No experience necessary.  To register\, contact Loretta Fernandes-Heaslip at 705.432.3322 ext. 106 or lfheaslip@brockchc.ca.
URL:https://www.brockchc.ca/calendar/guided-meditation-2/2029-02-02/
LOCATION:Virtual via Zoom
ATTACH;FMTTYPE=image/jpeg:https://www.brockchc.ca/wp-content/uploads/2023/03/mindful.jpg
END:VEVENT
BEGIN:VEVENT
DTSTART;TZID=UTC:20290206T090000
DTEND;TZID=UTC:20290206T100000
DTSTAMP:20260420T172324
CREATED:20250108T153628Z
LAST-MODIFIED:20250108T153628Z
UID:10009986-1865062800-1865066400@www.brockchc.ca
SUMMARY:Gentle Fit (Virtual)
DESCRIPTION:This instructor-led class is a means of improving and maintaining functional performance through strength\, balance and cardiovascular development. This class will aid in the prevention of future injury\, including those that may be the results of falls. Exercises progress at the pace of the participants at the discretion of the instructor. Contact Jennifer to register.
URL:https://www.brockchc.ca/calendar/gentle-fit-2-2/2029-02-06/
LOCATION:Virtual via Zoom
ATTACH;FMTTYPE=image/jpeg:https://www.brockchc.ca/wp-content/uploads/2023/03/gentle.jpg
END:VEVENT
BEGIN:VEVENT
DTSTART;TZID=America/Toronto:20290209T100000
DTEND;TZID=America/Toronto:20290209T110000
DTSTAMP:20260420T172324
CREATED:20250108T155449Z
LAST-MODIFIED:20250108T155449Z
UID:10010013-1865325600-1865329200@www.brockchc.ca
SUMMARY:Guided Meditation
DESCRIPTION:Learn to relax your mind and body to reduce stress\, improve your breathing\, help the healing process\, and find calm and balance in your life.  Complement your path to health and wellness.  No experience necessary.  To register\, contact Loretta Fernandes-Heaslip at 705.432.3322 ext. 106 or lfheaslip@brockchc.ca.
URL:https://www.brockchc.ca/calendar/guided-meditation-2/2029-02-09/
LOCATION:Virtual via Zoom
ATTACH;FMTTYPE=image/jpeg:https://www.brockchc.ca/wp-content/uploads/2023/03/mindful.jpg
END:VEVENT
END:VCALENDAR