BEGIN:VCALENDAR
VERSION:2.0
PRODID:-//Brock Community Health Centre - ECPv6.15.20//NONSGML v1.0//EN
CALSCALE:GREGORIAN
METHOD:PUBLISH
X-WR-CALNAME:Brock Community Health Centre
X-ORIGINAL-URL:https://www.brockchc.ca
X-WR-CALDESC:Events for Brock Community Health Centre
REFRESH-INTERVAL;VALUE=DURATION:PT1H
X-Robots-Tag:noindex
X-PUBLISHED-TTL:PT1H
BEGIN:VTIMEZONE
TZID:UTC
BEGIN:STANDARD
TZOFFSETFROM:+0000
TZOFFSETTO:+0000
TZNAME:UTC
DTSTART:20270101T000000
END:STANDARD
END:VTIMEZONE
BEGIN:VTIMEZONE
TZID:America/Toronto
BEGIN:DAYLIGHT
TZOFFSETFROM:-0500
TZOFFSETTO:-0400
TZNAME:EDT
DTSTART:20270314T070000
END:DAYLIGHT
BEGIN:STANDARD
TZOFFSETFROM:-0400
TZOFFSETTO:-0500
TZNAME:EST
DTSTART:20271107T060000
END:STANDARD
BEGIN:DAYLIGHT
TZOFFSETFROM:-0500
TZOFFSETTO:-0400
TZNAME:EDT
DTSTART:20280312T070000
END:DAYLIGHT
BEGIN:STANDARD
TZOFFSETFROM:-0400
TZOFFSETTO:-0500
TZNAME:EST
DTSTART:20281105T060000
END:STANDARD
BEGIN:DAYLIGHT
TZOFFSETFROM:-0500
TZOFFSETTO:-0400
TZNAME:EDT
DTSTART:20290311T070000
END:DAYLIGHT
BEGIN:STANDARD
TZOFFSETFROM:-0400
TZOFFSETTO:-0500
TZNAME:EST
DTSTART:20291104T060000
END:STANDARD
END:VTIMEZONE
BEGIN:VEVENT
DTSTART;TZID=UTC:20280111T090000
DTEND;TZID=UTC:20280111T100000
DTSTAMP:20260420T060841
CREATED:20250108T153628Z
LAST-MODIFIED:20250108T153628Z
UID:10007250-1831194000-1831197600@www.brockchc.ca
SUMMARY:Gentle Fit (Virtual)
DESCRIPTION:This instructor-led class is a means of improving and maintaining functional performance through strength\, balance and cardiovascular development. This class will aid in the prevention of future injury\, including those that may be the results of falls. Exercises progress at the pace of the participants at the discretion of the instructor. Contact Jennifer to register.
URL:https://www.brockchc.ca/calendar/gentle-fit-2-2/2028-01-11/
LOCATION:Virtual via Zoom
ATTACH;FMTTYPE=image/jpeg:https://www.brockchc.ca/wp-content/uploads/2023/03/gentle.jpg
END:VEVENT
BEGIN:VEVENT
DTSTART;TZID=America/Toronto:20280114T100000
DTEND;TZID=America/Toronto:20280114T110000
DTSTAMP:20260420T060841
CREATED:20250108T155449Z
LAST-MODIFIED:20250108T155449Z
UID:10004836-1831456800-1831460400@www.brockchc.ca
SUMMARY:Guided Meditation
DESCRIPTION:Learn to relax your mind and body to reduce stress\, improve your breathing\, help the healing process\, and find calm and balance in your life.  Complement your path to health and wellness.  No experience necessary.  To register\, contact Loretta Fernandes-Heaslip at 705.432.3322 ext. 106 or lfheaslip@brockchc.ca.
URL:https://www.brockchc.ca/calendar/guided-meditation-2/2028-01-14/
LOCATION:Virtual via Zoom
ATTACH;FMTTYPE=image/jpeg:https://www.brockchc.ca/wp-content/uploads/2023/03/mindful.jpg
END:VEVENT
BEGIN:VEVENT
DTSTART;TZID=UTC:20280118T090000
DTEND;TZID=UTC:20280118T100000
DTSTAMP:20260420T060841
CREATED:20250108T153628Z
LAST-MODIFIED:20250108T153628Z
UID:10007251-1831798800-1831802400@www.brockchc.ca
SUMMARY:Gentle Fit (Virtual)
DESCRIPTION:This instructor-led class is a means of improving and maintaining functional performance through strength\, balance and cardiovascular development. This class will aid in the prevention of future injury\, including those that may be the results of falls. Exercises progress at the pace of the participants at the discretion of the instructor. Contact Jennifer to register.
URL:https://www.brockchc.ca/calendar/gentle-fit-2-2/2028-01-18/
LOCATION:Virtual via Zoom
ATTACH;FMTTYPE=image/jpeg:https://www.brockchc.ca/wp-content/uploads/2023/03/gentle.jpg
END:VEVENT
BEGIN:VEVENT
DTSTART;TZID=America/Toronto:20280121T100000
DTEND;TZID=America/Toronto:20280121T110000
DTSTAMP:20260420T060841
CREATED:20250108T155449Z
LAST-MODIFIED:20250108T155449Z
UID:10004837-1832061600-1832065200@www.brockchc.ca
SUMMARY:Guided Meditation
DESCRIPTION:Learn to relax your mind and body to reduce stress\, improve your breathing\, help the healing process\, and find calm and balance in your life.  Complement your path to health and wellness.  No experience necessary.  To register\, contact Loretta Fernandes-Heaslip at 705.432.3322 ext. 106 or lfheaslip@brockchc.ca.
URL:https://www.brockchc.ca/calendar/guided-meditation-2/2028-01-21/
LOCATION:Virtual via Zoom
ATTACH;FMTTYPE=image/jpeg:https://www.brockchc.ca/wp-content/uploads/2023/03/mindful.jpg
END:VEVENT
BEGIN:VEVENT
DTSTART;TZID=UTC:20280125T090000
DTEND;TZID=UTC:20280125T100000
DTSTAMP:20260420T060841
CREATED:20250108T153628Z
LAST-MODIFIED:20250108T153628Z
UID:10007252-1832403600-1832407200@www.brockchc.ca
SUMMARY:Gentle Fit (Virtual)
DESCRIPTION:This instructor-led class is a means of improving and maintaining functional performance through strength\, balance and cardiovascular development. This class will aid in the prevention of future injury\, including those that may be the results of falls. Exercises progress at the pace of the participants at the discretion of the instructor. Contact Jennifer to register.
URL:https://www.brockchc.ca/calendar/gentle-fit-2-2/2028-01-25/
LOCATION:Virtual via Zoom
ATTACH;FMTTYPE=image/jpeg:https://www.brockchc.ca/wp-content/uploads/2023/03/gentle.jpg
END:VEVENT
BEGIN:VEVENT
DTSTART;TZID=America/Toronto:20280128T100000
DTEND;TZID=America/Toronto:20280128T110000
DTSTAMP:20260420T060841
CREATED:20250108T155449Z
LAST-MODIFIED:20250108T155449Z
UID:10004838-1832666400-1832670000@www.brockchc.ca
SUMMARY:Guided Meditation
DESCRIPTION:Learn to relax your mind and body to reduce stress\, improve your breathing\, help the healing process\, and find calm and balance in your life.  Complement your path to health and wellness.  No experience necessary.  To register\, contact Loretta Fernandes-Heaslip at 705.432.3322 ext. 106 or lfheaslip@brockchc.ca.
URL:https://www.brockchc.ca/calendar/guided-meditation-2/2028-01-28/
LOCATION:Virtual via Zoom
ATTACH;FMTTYPE=image/jpeg:https://www.brockchc.ca/wp-content/uploads/2023/03/mindful.jpg
END:VEVENT
BEGIN:VEVENT
DTSTART;TZID=UTC:20280201T090000
DTEND;TZID=UTC:20280201T100000
DTSTAMP:20260420T060841
CREATED:20250108T153628Z
LAST-MODIFIED:20250108T153628Z
UID:10007253-1833008400-1833012000@www.brockchc.ca
SUMMARY:Gentle Fit (Virtual)
DESCRIPTION:This instructor-led class is a means of improving and maintaining functional performance through strength\, balance and cardiovascular development. This class will aid in the prevention of future injury\, including those that may be the results of falls. Exercises progress at the pace of the participants at the discretion of the instructor. Contact Jennifer to register.
URL:https://www.brockchc.ca/calendar/gentle-fit-2-2/2028-02-01/
LOCATION:Virtual via Zoom
ATTACH;FMTTYPE=image/jpeg:https://www.brockchc.ca/wp-content/uploads/2023/03/gentle.jpg
END:VEVENT
BEGIN:VEVENT
DTSTART;TZID=America/Toronto:20280204T100000
DTEND;TZID=America/Toronto:20280204T110000
DTSTAMP:20260420T060841
CREATED:20250108T155449Z
LAST-MODIFIED:20250108T155449Z
UID:10004839-1833271200-1833274800@www.brockchc.ca
SUMMARY:Guided Meditation
DESCRIPTION:Learn to relax your mind and body to reduce stress\, improve your breathing\, help the healing process\, and find calm and balance in your life.  Complement your path to health and wellness.  No experience necessary.  To register\, contact Loretta Fernandes-Heaslip at 705.432.3322 ext. 106 or lfheaslip@brockchc.ca.
URL:https://www.brockchc.ca/calendar/guided-meditation-2/2028-02-04/
LOCATION:Virtual via Zoom
ATTACH;FMTTYPE=image/jpeg:https://www.brockchc.ca/wp-content/uploads/2023/03/mindful.jpg
END:VEVENT
BEGIN:VEVENT
DTSTART;TZID=UTC:20280208T090000
DTEND;TZID=UTC:20280208T100000
DTSTAMP:20260420T060841
CREATED:20250108T153628Z
LAST-MODIFIED:20250108T153628Z
UID:10007254-1833613200-1833616800@www.brockchc.ca
SUMMARY:Gentle Fit (Virtual)
DESCRIPTION:This instructor-led class is a means of improving and maintaining functional performance through strength\, balance and cardiovascular development. This class will aid in the prevention of future injury\, including those that may be the results of falls. Exercises progress at the pace of the participants at the discretion of the instructor. Contact Jennifer to register.
URL:https://www.brockchc.ca/calendar/gentle-fit-2-2/2028-02-08/
LOCATION:Virtual via Zoom
ATTACH;FMTTYPE=image/jpeg:https://www.brockchc.ca/wp-content/uploads/2023/03/gentle.jpg
END:VEVENT
BEGIN:VEVENT
DTSTART;TZID=America/Toronto:20280211T100000
DTEND;TZID=America/Toronto:20280211T110000
DTSTAMP:20260420T060841
CREATED:20250108T155449Z
LAST-MODIFIED:20250108T155449Z
UID:10004840-1833876000-1833879600@www.brockchc.ca
SUMMARY:Guided Meditation
DESCRIPTION:Learn to relax your mind and body to reduce stress\, improve your breathing\, help the healing process\, and find calm and balance in your life.  Complement your path to health and wellness.  No experience necessary.  To register\, contact Loretta Fernandes-Heaslip at 705.432.3322 ext. 106 or lfheaslip@brockchc.ca.
URL:https://www.brockchc.ca/calendar/guided-meditation-2/2028-02-11/
LOCATION:Virtual via Zoom
ATTACH;FMTTYPE=image/jpeg:https://www.brockchc.ca/wp-content/uploads/2023/03/mindful.jpg
END:VEVENT
BEGIN:VEVENT
DTSTART;TZID=UTC:20280215T090000
DTEND;TZID=UTC:20280215T100000
DTSTAMP:20260420T060841
CREATED:20250108T153628Z
LAST-MODIFIED:20250108T153628Z
UID:10007255-1834218000-1834221600@www.brockchc.ca
SUMMARY:Gentle Fit (Virtual)
DESCRIPTION:This instructor-led class is a means of improving and maintaining functional performance through strength\, balance and cardiovascular development. This class will aid in the prevention of future injury\, including those that may be the results of falls. Exercises progress at the pace of the participants at the discretion of the instructor. Contact Jennifer to register.
URL:https://www.brockchc.ca/calendar/gentle-fit-2-2/2028-02-15/
LOCATION:Virtual via Zoom
ATTACH;FMTTYPE=image/jpeg:https://www.brockchc.ca/wp-content/uploads/2023/03/gentle.jpg
END:VEVENT
BEGIN:VEVENT
DTSTART;TZID=America/Toronto:20280218T100000
DTEND;TZID=America/Toronto:20280218T110000
DTSTAMP:20260420T060841
CREATED:20250108T155449Z
LAST-MODIFIED:20250108T155449Z
UID:10004841-1834480800-1834484400@www.brockchc.ca
SUMMARY:Guided Meditation
DESCRIPTION:Learn to relax your mind and body to reduce stress\, improve your breathing\, help the healing process\, and find calm and balance in your life.  Complement your path to health and wellness.  No experience necessary.  To register\, contact Loretta Fernandes-Heaslip at 705.432.3322 ext. 106 or lfheaslip@brockchc.ca.
URL:https://www.brockchc.ca/calendar/guided-meditation-2/2028-02-18/
LOCATION:Virtual via Zoom
ATTACH;FMTTYPE=image/jpeg:https://www.brockchc.ca/wp-content/uploads/2023/03/mindful.jpg
END:VEVENT
BEGIN:VEVENT
DTSTART;TZID=UTC:20280222T090000
DTEND;TZID=UTC:20280222T100000
DTSTAMP:20260420T060841
CREATED:20250108T153628Z
LAST-MODIFIED:20250108T153628Z
UID:10007256-1834822800-1834826400@www.brockchc.ca
SUMMARY:Gentle Fit (Virtual)
DESCRIPTION:This instructor-led class is a means of improving and maintaining functional performance through strength\, balance and cardiovascular development. This class will aid in the prevention of future injury\, including those that may be the results of falls. Exercises progress at the pace of the participants at the discretion of the instructor. Contact Jennifer to register.
URL:https://www.brockchc.ca/calendar/gentle-fit-2-2/2028-02-22/
LOCATION:Virtual via Zoom
ATTACH;FMTTYPE=image/jpeg:https://www.brockchc.ca/wp-content/uploads/2023/03/gentle.jpg
END:VEVENT
BEGIN:VEVENT
DTSTART;TZID=America/Toronto:20280225T100000
DTEND;TZID=America/Toronto:20280225T110000
DTSTAMP:20260420T060841
CREATED:20250108T155449Z
LAST-MODIFIED:20250108T155449Z
UID:10004842-1835085600-1835089200@www.brockchc.ca
SUMMARY:Guided Meditation
DESCRIPTION:Learn to relax your mind and body to reduce stress\, improve your breathing\, help the healing process\, and find calm and balance in your life.  Complement your path to health and wellness.  No experience necessary.  To register\, contact Loretta Fernandes-Heaslip at 705.432.3322 ext. 106 or lfheaslip@brockchc.ca.
URL:https://www.brockchc.ca/calendar/guided-meditation-2/2028-02-25/
LOCATION:Virtual via Zoom
ATTACH;FMTTYPE=image/jpeg:https://www.brockchc.ca/wp-content/uploads/2023/03/mindful.jpg
END:VEVENT
BEGIN:VEVENT
DTSTART;TZID=UTC:20280229T090000
DTEND;TZID=UTC:20280229T100000
DTSTAMP:20260420T060841
CREATED:20250108T153628Z
LAST-MODIFIED:20250108T153628Z
UID:10007257-1835427600-1835431200@www.brockchc.ca
SUMMARY:Gentle Fit (Virtual)
DESCRIPTION:This instructor-led class is a means of improving and maintaining functional performance through strength\, balance and cardiovascular development. This class will aid in the prevention of future injury\, including those that may be the results of falls. Exercises progress at the pace of the participants at the discretion of the instructor. Contact Jennifer to register.
URL:https://www.brockchc.ca/calendar/gentle-fit-2-2/2028-02-29/
LOCATION:Virtual via Zoom
ATTACH;FMTTYPE=image/jpeg:https://www.brockchc.ca/wp-content/uploads/2023/03/gentle.jpg
END:VEVENT
BEGIN:VEVENT
DTSTART;TZID=America/Toronto:20280303T100000
DTEND;TZID=America/Toronto:20280303T110000
DTSTAMP:20260420T060841
CREATED:20250108T155449Z
LAST-MODIFIED:20250108T155449Z
UID:10004843-1835690400-1835694000@www.brockchc.ca
SUMMARY:Guided Meditation
DESCRIPTION:Learn to relax your mind and body to reduce stress\, improve your breathing\, help the healing process\, and find calm and balance in your life.  Complement your path to health and wellness.  No experience necessary.  To register\, contact Loretta Fernandes-Heaslip at 705.432.3322 ext. 106 or lfheaslip@brockchc.ca.
URL:https://www.brockchc.ca/calendar/guided-meditation-2/2028-03-03/
LOCATION:Virtual via Zoom
ATTACH;FMTTYPE=image/jpeg:https://www.brockchc.ca/wp-content/uploads/2023/03/mindful.jpg
END:VEVENT
BEGIN:VEVENT
DTSTART;TZID=UTC:20280307T090000
DTEND;TZID=UTC:20280307T100000
DTSTAMP:20260420T060841
CREATED:20250108T153628Z
LAST-MODIFIED:20250108T153628Z
UID:10007258-1836032400-1836036000@www.brockchc.ca
SUMMARY:Gentle Fit (Virtual)
DESCRIPTION:This instructor-led class is a means of improving and maintaining functional performance through strength\, balance and cardiovascular development. This class will aid in the prevention of future injury\, including those that may be the results of falls. Exercises progress at the pace of the participants at the discretion of the instructor. Contact Jennifer to register.
URL:https://www.brockchc.ca/calendar/gentle-fit-2-2/2028-03-07/
LOCATION:Virtual via Zoom
ATTACH;FMTTYPE=image/jpeg:https://www.brockchc.ca/wp-content/uploads/2023/03/gentle.jpg
END:VEVENT
BEGIN:VEVENT
DTSTART;TZID=America/Toronto:20280310T100000
DTEND;TZID=America/Toronto:20280310T110000
DTSTAMP:20260420T060841
CREATED:20250108T155449Z
LAST-MODIFIED:20250108T155449Z
UID:10004844-1836295200-1836298800@www.brockchc.ca
SUMMARY:Guided Meditation
DESCRIPTION:Learn to relax your mind and body to reduce stress\, improve your breathing\, help the healing process\, and find calm and balance in your life.  Complement your path to health and wellness.  No experience necessary.  To register\, contact Loretta Fernandes-Heaslip at 705.432.3322 ext. 106 or lfheaslip@brockchc.ca.
URL:https://www.brockchc.ca/calendar/guided-meditation-2/2028-03-10/
LOCATION:Virtual via Zoom
ATTACH;FMTTYPE=image/jpeg:https://www.brockchc.ca/wp-content/uploads/2023/03/mindful.jpg
END:VEVENT
BEGIN:VEVENT
DTSTART;TZID=UTC:20280314T090000
DTEND;TZID=UTC:20280314T100000
DTSTAMP:20260420T060841
CREATED:20250108T153628Z
LAST-MODIFIED:20250108T153628Z
UID:10007259-1836637200-1836640800@www.brockchc.ca
SUMMARY:Gentle Fit (Virtual)
DESCRIPTION:This instructor-led class is a means of improving and maintaining functional performance through strength\, balance and cardiovascular development. This class will aid in the prevention of future injury\, including those that may be the results of falls. Exercises progress at the pace of the participants at the discretion of the instructor. Contact Jennifer to register.
URL:https://www.brockchc.ca/calendar/gentle-fit-2-2/2028-03-14/
LOCATION:Virtual via Zoom
ATTACH;FMTTYPE=image/jpeg:https://www.brockchc.ca/wp-content/uploads/2023/03/gentle.jpg
END:VEVENT
BEGIN:VEVENT
DTSTART;TZID=America/Toronto:20280317T100000
DTEND;TZID=America/Toronto:20280317T110000
DTSTAMP:20260420T060841
CREATED:20250108T155449Z
LAST-MODIFIED:20250108T155449Z
UID:10004845-1836900000-1836903600@www.brockchc.ca
SUMMARY:Guided Meditation
DESCRIPTION:Learn to relax your mind and body to reduce stress\, improve your breathing\, help the healing process\, and find calm and balance in your life.  Complement your path to health and wellness.  No experience necessary.  To register\, contact Loretta Fernandes-Heaslip at 705.432.3322 ext. 106 or lfheaslip@brockchc.ca.
URL:https://www.brockchc.ca/calendar/guided-meditation-2/2028-03-17/
LOCATION:Virtual via Zoom
ATTACH;FMTTYPE=image/jpeg:https://www.brockchc.ca/wp-content/uploads/2023/03/mindful.jpg
END:VEVENT
BEGIN:VEVENT
DTSTART;TZID=UTC:20280321T090000
DTEND;TZID=UTC:20280321T100000
DTSTAMP:20260420T060841
CREATED:20250108T153628Z
LAST-MODIFIED:20250108T153628Z
UID:10007260-1837242000-1837245600@www.brockchc.ca
SUMMARY:Gentle Fit (Virtual)
DESCRIPTION:This instructor-led class is a means of improving and maintaining functional performance through strength\, balance and cardiovascular development. This class will aid in the prevention of future injury\, including those that may be the results of falls. Exercises progress at the pace of the participants at the discretion of the instructor. Contact Jennifer to register.
URL:https://www.brockchc.ca/calendar/gentle-fit-2-2/2028-03-21/
LOCATION:Virtual via Zoom
ATTACH;FMTTYPE=image/jpeg:https://www.brockchc.ca/wp-content/uploads/2023/03/gentle.jpg
END:VEVENT
BEGIN:VEVENT
DTSTART;TZID=America/Toronto:20280324T100000
DTEND;TZID=America/Toronto:20280324T110000
DTSTAMP:20260420T060841
CREATED:20250108T155449Z
LAST-MODIFIED:20250108T155449Z
UID:10004846-1837504800-1837508400@www.brockchc.ca
SUMMARY:Guided Meditation
DESCRIPTION:Learn to relax your mind and body to reduce stress\, improve your breathing\, help the healing process\, and find calm and balance in your life.  Complement your path to health and wellness.  No experience necessary.  To register\, contact Loretta Fernandes-Heaslip at 705.432.3322 ext. 106 or lfheaslip@brockchc.ca.
URL:https://www.brockchc.ca/calendar/guided-meditation-2/2028-03-24/
LOCATION:Virtual via Zoom
ATTACH;FMTTYPE=image/jpeg:https://www.brockchc.ca/wp-content/uploads/2023/03/mindful.jpg
END:VEVENT
BEGIN:VEVENT
DTSTART;TZID=UTC:20280328T090000
DTEND;TZID=UTC:20280328T100000
DTSTAMP:20260420T060841
CREATED:20250108T153628Z
LAST-MODIFIED:20250108T153628Z
UID:10007261-1837846800-1837850400@www.brockchc.ca
SUMMARY:Gentle Fit (Virtual)
DESCRIPTION:This instructor-led class is a means of improving and maintaining functional performance through strength\, balance and cardiovascular development. This class will aid in the prevention of future injury\, including those that may be the results of falls. Exercises progress at the pace of the participants at the discretion of the instructor. Contact Jennifer to register.
URL:https://www.brockchc.ca/calendar/gentle-fit-2-2/2028-03-28/
LOCATION:Virtual via Zoom
ATTACH;FMTTYPE=image/jpeg:https://www.brockchc.ca/wp-content/uploads/2023/03/gentle.jpg
END:VEVENT
BEGIN:VEVENT
DTSTART;TZID=America/Toronto:20280331T100000
DTEND;TZID=America/Toronto:20280331T110000
DTSTAMP:20260420T060841
CREATED:20250108T155449Z
LAST-MODIFIED:20250108T155449Z
UID:10004847-1838109600-1838113200@www.brockchc.ca
SUMMARY:Guided Meditation
DESCRIPTION:Learn to relax your mind and body to reduce stress\, improve your breathing\, help the healing process\, and find calm and balance in your life.  Complement your path to health and wellness.  No experience necessary.  To register\, contact Loretta Fernandes-Heaslip at 705.432.3322 ext. 106 or lfheaslip@brockchc.ca.
URL:https://www.brockchc.ca/calendar/guided-meditation-2/2028-03-31/
LOCATION:Virtual via Zoom
ATTACH;FMTTYPE=image/jpeg:https://www.brockchc.ca/wp-content/uploads/2023/03/mindful.jpg
END:VEVENT
BEGIN:VEVENT
DTSTART;TZID=UTC:20280404T090000
DTEND;TZID=UTC:20280404T100000
DTSTAMP:20260420T060841
CREATED:20250108T153628Z
LAST-MODIFIED:20250108T153628Z
UID:10007262-1838451600-1838455200@www.brockchc.ca
SUMMARY:Gentle Fit (Virtual)
DESCRIPTION:This instructor-led class is a means of improving and maintaining functional performance through strength\, balance and cardiovascular development. This class will aid in the prevention of future injury\, including those that may be the results of falls. Exercises progress at the pace of the participants at the discretion of the instructor. Contact Jennifer to register.
URL:https://www.brockchc.ca/calendar/gentle-fit-2-2/2028-04-04/
LOCATION:Virtual via Zoom
ATTACH;FMTTYPE=image/jpeg:https://www.brockchc.ca/wp-content/uploads/2023/03/gentle.jpg
END:VEVENT
BEGIN:VEVENT
DTSTART;TZID=America/Toronto:20280407T100000
DTEND;TZID=America/Toronto:20280407T110000
DTSTAMP:20260420T060841
CREATED:20250108T155449Z
LAST-MODIFIED:20250108T155449Z
UID:10004848-1838714400-1838718000@www.brockchc.ca
SUMMARY:Guided Meditation
DESCRIPTION:Learn to relax your mind and body to reduce stress\, improve your breathing\, help the healing process\, and find calm and balance in your life.  Complement your path to health and wellness.  No experience necessary.  To register\, contact Loretta Fernandes-Heaslip at 705.432.3322 ext. 106 or lfheaslip@brockchc.ca.
URL:https://www.brockchc.ca/calendar/guided-meditation-2/2028-04-07/
LOCATION:Virtual via Zoom
ATTACH;FMTTYPE=image/jpeg:https://www.brockchc.ca/wp-content/uploads/2023/03/mindful.jpg
END:VEVENT
BEGIN:VEVENT
DTSTART;TZID=UTC:20280411T090000
DTEND;TZID=UTC:20280411T100000
DTSTAMP:20260420T060841
CREATED:20250108T153628Z
LAST-MODIFIED:20250108T153628Z
UID:10007263-1839056400-1839060000@www.brockchc.ca
SUMMARY:Gentle Fit (Virtual)
DESCRIPTION:This instructor-led class is a means of improving and maintaining functional performance through strength\, balance and cardiovascular development. This class will aid in the prevention of future injury\, including those that may be the results of falls. Exercises progress at the pace of the participants at the discretion of the instructor. Contact Jennifer to register.
URL:https://www.brockchc.ca/calendar/gentle-fit-2-2/2028-04-11/
LOCATION:Virtual via Zoom
ATTACH;FMTTYPE=image/jpeg:https://www.brockchc.ca/wp-content/uploads/2023/03/gentle.jpg
END:VEVENT
BEGIN:VEVENT
DTSTART;TZID=America/Toronto:20280414T100000
DTEND;TZID=America/Toronto:20280414T110000
DTSTAMP:20260420T060841
CREATED:20250108T155449Z
LAST-MODIFIED:20250108T155449Z
UID:10004849-1839319200-1839322800@www.brockchc.ca
SUMMARY:Guided Meditation
DESCRIPTION:Learn to relax your mind and body to reduce stress\, improve your breathing\, help the healing process\, and find calm and balance in your life.  Complement your path to health and wellness.  No experience necessary.  To register\, contact Loretta Fernandes-Heaslip at 705.432.3322 ext. 106 or lfheaslip@brockchc.ca.
URL:https://www.brockchc.ca/calendar/guided-meditation-2/2028-04-14/
LOCATION:Virtual via Zoom
ATTACH;FMTTYPE=image/jpeg:https://www.brockchc.ca/wp-content/uploads/2023/03/mindful.jpg
END:VEVENT
BEGIN:VEVENT
DTSTART;TZID=UTC:20280418T090000
DTEND;TZID=UTC:20280418T100000
DTSTAMP:20260420T060841
CREATED:20250108T153628Z
LAST-MODIFIED:20250108T153628Z
UID:10007264-1839661200-1839664800@www.brockchc.ca
SUMMARY:Gentle Fit (Virtual)
DESCRIPTION:This instructor-led class is a means of improving and maintaining functional performance through strength\, balance and cardiovascular development. This class will aid in the prevention of future injury\, including those that may be the results of falls. Exercises progress at the pace of the participants at the discretion of the instructor. Contact Jennifer to register.
URL:https://www.brockchc.ca/calendar/gentle-fit-2-2/2028-04-18/
LOCATION:Virtual via Zoom
ATTACH;FMTTYPE=image/jpeg:https://www.brockchc.ca/wp-content/uploads/2023/03/gentle.jpg
END:VEVENT
BEGIN:VEVENT
DTSTART;TZID=America/Toronto:20280421T100000
DTEND;TZID=America/Toronto:20280421T110000
DTSTAMP:20260420T060841
CREATED:20250108T155449Z
LAST-MODIFIED:20250108T155449Z
UID:10004850-1839924000-1839927600@www.brockchc.ca
SUMMARY:Guided Meditation
DESCRIPTION:Learn to relax your mind and body to reduce stress\, improve your breathing\, help the healing process\, and find calm and balance in your life.  Complement your path to health and wellness.  No experience necessary.  To register\, contact Loretta Fernandes-Heaslip at 705.432.3322 ext. 106 or lfheaslip@brockchc.ca.
URL:https://www.brockchc.ca/calendar/guided-meditation-2/2028-04-21/
LOCATION:Virtual via Zoom
ATTACH;FMTTYPE=image/jpeg:https://www.brockchc.ca/wp-content/uploads/2023/03/mindful.jpg
END:VEVENT
END:VCALENDAR