BEGIN:VCALENDAR
VERSION:2.0
PRODID:-//Brock Community Health Centre - ECPv6.15.20//NONSGML v1.0//EN
CALSCALE:GREGORIAN
METHOD:PUBLISH
X-WR-CALNAME:Brock Community Health Centre
X-ORIGINAL-URL:https://www.brockchc.ca
X-WR-CALDESC:Events for Brock Community Health Centre
REFRESH-INTERVAL;VALUE=DURATION:PT1H
X-Robots-Tag:noindex
X-PUBLISHED-TTL:PT1H
BEGIN:VTIMEZONE
TZID:UTC
BEGIN:STANDARD
TZOFFSETFROM:+0000
TZOFFSETTO:+0000
TZNAME:UTC
DTSTART:20260101T000000
END:STANDARD
END:VTIMEZONE
BEGIN:VTIMEZONE
TZID:America/Toronto
BEGIN:DAYLIGHT
TZOFFSETFROM:-0500
TZOFFSETTO:-0400
TZNAME:EDT
DTSTART:20260308T070000
END:DAYLIGHT
BEGIN:STANDARD
TZOFFSETFROM:-0400
TZOFFSETTO:-0500
TZNAME:EST
DTSTART:20261101T060000
END:STANDARD
BEGIN:DAYLIGHT
TZOFFSETFROM:-0500
TZOFFSETTO:-0400
TZNAME:EDT
DTSTART:20270314T070000
END:DAYLIGHT
BEGIN:STANDARD
TZOFFSETFROM:-0400
TZOFFSETTO:-0500
TZNAME:EST
DTSTART:20271107T060000
END:STANDARD
BEGIN:DAYLIGHT
TZOFFSETFROM:-0500
TZOFFSETTO:-0400
TZNAME:EDT
DTSTART:20280312T070000
END:DAYLIGHT
BEGIN:STANDARD
TZOFFSETFROM:-0400
TZOFFSETTO:-0500
TZNAME:EST
DTSTART:20281105T060000
END:STANDARD
END:VTIMEZONE
BEGIN:VEVENT
DTSTART;TZID=UTC:20270727T090000
DTEND;TZID=UTC:20270727T100000
DTSTAMP:20260419T234419
CREATED:20250108T153628Z
LAST-MODIFIED:20250108T153628Z
UID:10007226-1816678800-1816682400@www.brockchc.ca
SUMMARY:Gentle Fit (Virtual)
DESCRIPTION:This instructor-led class is a means of improving and maintaining functional performance through strength\, balance and cardiovascular development. This class will aid in the prevention of future injury\, including those that may be the results of falls. Exercises progress at the pace of the participants at the discretion of the instructor. Contact Jennifer to register.
URL:https://www.brockchc.ca/calendar/gentle-fit-2-2/2027-07-27/
LOCATION:Virtual via Zoom
ATTACH;FMTTYPE=image/jpeg:https://www.brockchc.ca/wp-content/uploads/2023/03/gentle.jpg
END:VEVENT
BEGIN:VEVENT
DTSTART;TZID=America/Toronto:20270730T100000
DTEND;TZID=America/Toronto:20270730T110000
DTSTAMP:20260419T234420
CREATED:20250108T155449Z
LAST-MODIFIED:20250108T155449Z
UID:10004812-1816941600-1816945200@www.brockchc.ca
SUMMARY:Guided Meditation
DESCRIPTION:Learn to relax your mind and body to reduce stress\, improve your breathing\, help the healing process\, and find calm and balance in your life.  Complement your path to health and wellness.  No experience necessary.  To register\, contact Loretta Fernandes-Heaslip at 705.432.3322 ext. 106 or lfheaslip@brockchc.ca.
URL:https://www.brockchc.ca/calendar/guided-meditation-2/2027-07-30/
LOCATION:Virtual via Zoom
ATTACH;FMTTYPE=image/jpeg:https://www.brockchc.ca/wp-content/uploads/2023/03/mindful.jpg
END:VEVENT
BEGIN:VEVENT
DTSTART;TZID=UTC:20270803T090000
DTEND;TZID=UTC:20270803T100000
DTSTAMP:20260419T234420
CREATED:20250108T153628Z
LAST-MODIFIED:20250108T153628Z
UID:10007227-1817283600-1817287200@www.brockchc.ca
SUMMARY:Gentle Fit (Virtual)
DESCRIPTION:This instructor-led class is a means of improving and maintaining functional performance through strength\, balance and cardiovascular development. This class will aid in the prevention of future injury\, including those that may be the results of falls. Exercises progress at the pace of the participants at the discretion of the instructor. Contact Jennifer to register.
URL:https://www.brockchc.ca/calendar/gentle-fit-2-2/2027-08-03/
LOCATION:Virtual via Zoom
ATTACH;FMTTYPE=image/jpeg:https://www.brockchc.ca/wp-content/uploads/2023/03/gentle.jpg
END:VEVENT
BEGIN:VEVENT
DTSTART;TZID=America/Toronto:20270806T100000
DTEND;TZID=America/Toronto:20270806T110000
DTSTAMP:20260419T234420
CREATED:20250108T155449Z
LAST-MODIFIED:20250108T155449Z
UID:10004813-1817546400-1817550000@www.brockchc.ca
SUMMARY:Guided Meditation
DESCRIPTION:Learn to relax your mind and body to reduce stress\, improve your breathing\, help the healing process\, and find calm and balance in your life.  Complement your path to health and wellness.  No experience necessary.  To register\, contact Loretta Fernandes-Heaslip at 705.432.3322 ext. 106 or lfheaslip@brockchc.ca.
URL:https://www.brockchc.ca/calendar/guided-meditation-2/2027-08-06/
LOCATION:Virtual via Zoom
ATTACH;FMTTYPE=image/jpeg:https://www.brockchc.ca/wp-content/uploads/2023/03/mindful.jpg
END:VEVENT
BEGIN:VEVENT
DTSTART;TZID=UTC:20270810T090000
DTEND;TZID=UTC:20270810T100000
DTSTAMP:20260419T234420
CREATED:20250108T153628Z
LAST-MODIFIED:20250108T153628Z
UID:10007228-1817888400-1817892000@www.brockchc.ca
SUMMARY:Gentle Fit (Virtual)
DESCRIPTION:This instructor-led class is a means of improving and maintaining functional performance through strength\, balance and cardiovascular development. This class will aid in the prevention of future injury\, including those that may be the results of falls. Exercises progress at the pace of the participants at the discretion of the instructor. Contact Jennifer to register.
URL:https://www.brockchc.ca/calendar/gentle-fit-2-2/2027-08-10/
LOCATION:Virtual via Zoom
ATTACH;FMTTYPE=image/jpeg:https://www.brockchc.ca/wp-content/uploads/2023/03/gentle.jpg
END:VEVENT
BEGIN:VEVENT
DTSTART;TZID=America/Toronto:20270813T100000
DTEND;TZID=America/Toronto:20270813T110000
DTSTAMP:20260419T234420
CREATED:20250108T155449Z
LAST-MODIFIED:20250108T155449Z
UID:10004814-1818151200-1818154800@www.brockchc.ca
SUMMARY:Guided Meditation
DESCRIPTION:Learn to relax your mind and body to reduce stress\, improve your breathing\, help the healing process\, and find calm and balance in your life.  Complement your path to health and wellness.  No experience necessary.  To register\, contact Loretta Fernandes-Heaslip at 705.432.3322 ext. 106 or lfheaslip@brockchc.ca.
URL:https://www.brockchc.ca/calendar/guided-meditation-2/2027-08-13/
LOCATION:Virtual via Zoom
ATTACH;FMTTYPE=image/jpeg:https://www.brockchc.ca/wp-content/uploads/2023/03/mindful.jpg
END:VEVENT
BEGIN:VEVENT
DTSTART;TZID=UTC:20270817T090000
DTEND;TZID=UTC:20270817T100000
DTSTAMP:20260419T234420
CREATED:20250108T153628Z
LAST-MODIFIED:20250108T153628Z
UID:10007229-1818493200-1818496800@www.brockchc.ca
SUMMARY:Gentle Fit (Virtual)
DESCRIPTION:This instructor-led class is a means of improving and maintaining functional performance through strength\, balance and cardiovascular development. This class will aid in the prevention of future injury\, including those that may be the results of falls. Exercises progress at the pace of the participants at the discretion of the instructor. Contact Jennifer to register.
URL:https://www.brockchc.ca/calendar/gentle-fit-2-2/2027-08-17/
LOCATION:Virtual via Zoom
ATTACH;FMTTYPE=image/jpeg:https://www.brockchc.ca/wp-content/uploads/2023/03/gentle.jpg
END:VEVENT
BEGIN:VEVENT
DTSTART;TZID=America/Toronto:20270820T100000
DTEND;TZID=America/Toronto:20270820T110000
DTSTAMP:20260419T234420
CREATED:20250108T155449Z
LAST-MODIFIED:20250108T155449Z
UID:10004815-1818756000-1818759600@www.brockchc.ca
SUMMARY:Guided Meditation
DESCRIPTION:Learn to relax your mind and body to reduce stress\, improve your breathing\, help the healing process\, and find calm and balance in your life.  Complement your path to health and wellness.  No experience necessary.  To register\, contact Loretta Fernandes-Heaslip at 705.432.3322 ext. 106 or lfheaslip@brockchc.ca.
URL:https://www.brockchc.ca/calendar/guided-meditation-2/2027-08-20/
LOCATION:Virtual via Zoom
ATTACH;FMTTYPE=image/jpeg:https://www.brockchc.ca/wp-content/uploads/2023/03/mindful.jpg
END:VEVENT
BEGIN:VEVENT
DTSTART;TZID=UTC:20270824T090000
DTEND;TZID=UTC:20270824T100000
DTSTAMP:20260419T234420
CREATED:20250108T153628Z
LAST-MODIFIED:20250108T153628Z
UID:10007230-1819098000-1819101600@www.brockchc.ca
SUMMARY:Gentle Fit (Virtual)
DESCRIPTION:This instructor-led class is a means of improving and maintaining functional performance through strength\, balance and cardiovascular development. This class will aid in the prevention of future injury\, including those that may be the results of falls. Exercises progress at the pace of the participants at the discretion of the instructor. Contact Jennifer to register.
URL:https://www.brockchc.ca/calendar/gentle-fit-2-2/2027-08-24/
LOCATION:Virtual via Zoom
ATTACH;FMTTYPE=image/jpeg:https://www.brockchc.ca/wp-content/uploads/2023/03/gentle.jpg
END:VEVENT
BEGIN:VEVENT
DTSTART;TZID=America/Toronto:20270827T100000
DTEND;TZID=America/Toronto:20270827T110000
DTSTAMP:20260419T234420
CREATED:20250108T155449Z
LAST-MODIFIED:20250108T155449Z
UID:10004816-1819360800-1819364400@www.brockchc.ca
SUMMARY:Guided Meditation
DESCRIPTION:Learn to relax your mind and body to reduce stress\, improve your breathing\, help the healing process\, and find calm and balance in your life.  Complement your path to health and wellness.  No experience necessary.  To register\, contact Loretta Fernandes-Heaslip at 705.432.3322 ext. 106 or lfheaslip@brockchc.ca.
URL:https://www.brockchc.ca/calendar/guided-meditation-2/2027-08-27/
LOCATION:Virtual via Zoom
ATTACH;FMTTYPE=image/jpeg:https://www.brockchc.ca/wp-content/uploads/2023/03/mindful.jpg
END:VEVENT
BEGIN:VEVENT
DTSTART;TZID=UTC:20270831T090000
DTEND;TZID=UTC:20270831T100000
DTSTAMP:20260419T234420
CREATED:20250108T153628Z
LAST-MODIFIED:20250108T153628Z
UID:10007231-1819702800-1819706400@www.brockchc.ca
SUMMARY:Gentle Fit (Virtual)
DESCRIPTION:This instructor-led class is a means of improving and maintaining functional performance through strength\, balance and cardiovascular development. This class will aid in the prevention of future injury\, including those that may be the results of falls. Exercises progress at the pace of the participants at the discretion of the instructor. Contact Jennifer to register.
URL:https://www.brockchc.ca/calendar/gentle-fit-2-2/2027-08-31/
LOCATION:Virtual via Zoom
ATTACH;FMTTYPE=image/jpeg:https://www.brockchc.ca/wp-content/uploads/2023/03/gentle.jpg
END:VEVENT
BEGIN:VEVENT
DTSTART;TZID=America/Toronto:20270903T100000
DTEND;TZID=America/Toronto:20270903T110000
DTSTAMP:20260419T234420
CREATED:20250108T155449Z
LAST-MODIFIED:20250108T155449Z
UID:10004817-1819965600-1819969200@www.brockchc.ca
SUMMARY:Guided Meditation
DESCRIPTION:Learn to relax your mind and body to reduce stress\, improve your breathing\, help the healing process\, and find calm and balance in your life.  Complement your path to health and wellness.  No experience necessary.  To register\, contact Loretta Fernandes-Heaslip at 705.432.3322 ext. 106 or lfheaslip@brockchc.ca.
URL:https://www.brockchc.ca/calendar/guided-meditation-2/2027-09-03/
LOCATION:Virtual via Zoom
ATTACH;FMTTYPE=image/jpeg:https://www.brockchc.ca/wp-content/uploads/2023/03/mindful.jpg
END:VEVENT
BEGIN:VEVENT
DTSTART;TZID=UTC:20270907T090000
DTEND;TZID=UTC:20270907T100000
DTSTAMP:20260419T234420
CREATED:20250108T153628Z
LAST-MODIFIED:20250108T153628Z
UID:10007232-1820307600-1820311200@www.brockchc.ca
SUMMARY:Gentle Fit (Virtual)
DESCRIPTION:This instructor-led class is a means of improving and maintaining functional performance through strength\, balance and cardiovascular development. This class will aid in the prevention of future injury\, including those that may be the results of falls. Exercises progress at the pace of the participants at the discretion of the instructor. Contact Jennifer to register.
URL:https://www.brockchc.ca/calendar/gentle-fit-2-2/2027-09-07/
LOCATION:Virtual via Zoom
ATTACH;FMTTYPE=image/jpeg:https://www.brockchc.ca/wp-content/uploads/2023/03/gentle.jpg
END:VEVENT
BEGIN:VEVENT
DTSTART;TZID=America/Toronto:20270910T100000
DTEND;TZID=America/Toronto:20270910T110000
DTSTAMP:20260419T234420
CREATED:20250108T155449Z
LAST-MODIFIED:20250108T155449Z
UID:10004818-1820570400-1820574000@www.brockchc.ca
SUMMARY:Guided Meditation
DESCRIPTION:Learn to relax your mind and body to reduce stress\, improve your breathing\, help the healing process\, and find calm and balance in your life.  Complement your path to health and wellness.  No experience necessary.  To register\, contact Loretta Fernandes-Heaslip at 705.432.3322 ext. 106 or lfheaslip@brockchc.ca.
URL:https://www.brockchc.ca/calendar/guided-meditation-2/2027-09-10/
LOCATION:Virtual via Zoom
ATTACH;FMTTYPE=image/jpeg:https://www.brockchc.ca/wp-content/uploads/2023/03/mindful.jpg
END:VEVENT
BEGIN:VEVENT
DTSTART;TZID=UTC:20270914T090000
DTEND;TZID=UTC:20270914T100000
DTSTAMP:20260419T234420
CREATED:20250108T153628Z
LAST-MODIFIED:20250108T153628Z
UID:10007233-1820912400-1820916000@www.brockchc.ca
SUMMARY:Gentle Fit (Virtual)
DESCRIPTION:This instructor-led class is a means of improving and maintaining functional performance through strength\, balance and cardiovascular development. This class will aid in the prevention of future injury\, including those that may be the results of falls. Exercises progress at the pace of the participants at the discretion of the instructor. Contact Jennifer to register.
URL:https://www.brockchc.ca/calendar/gentle-fit-2-2/2027-09-14/
LOCATION:Virtual via Zoom
ATTACH;FMTTYPE=image/jpeg:https://www.brockchc.ca/wp-content/uploads/2023/03/gentle.jpg
END:VEVENT
BEGIN:VEVENT
DTSTART;TZID=America/Toronto:20270917T100000
DTEND;TZID=America/Toronto:20270917T110000
DTSTAMP:20260419T234420
CREATED:20250108T155449Z
LAST-MODIFIED:20250108T155449Z
UID:10004819-1821175200-1821178800@www.brockchc.ca
SUMMARY:Guided Meditation
DESCRIPTION:Learn to relax your mind and body to reduce stress\, improve your breathing\, help the healing process\, and find calm and balance in your life.  Complement your path to health and wellness.  No experience necessary.  To register\, contact Loretta Fernandes-Heaslip at 705.432.3322 ext. 106 or lfheaslip@brockchc.ca.
URL:https://www.brockchc.ca/calendar/guided-meditation-2/2027-09-17/
LOCATION:Virtual via Zoom
ATTACH;FMTTYPE=image/jpeg:https://www.brockchc.ca/wp-content/uploads/2023/03/mindful.jpg
END:VEVENT
BEGIN:VEVENT
DTSTART;TZID=UTC:20270921T090000
DTEND;TZID=UTC:20270921T100000
DTSTAMP:20260419T234420
CREATED:20250108T153628Z
LAST-MODIFIED:20250108T153628Z
UID:10007234-1821517200-1821520800@www.brockchc.ca
SUMMARY:Gentle Fit (Virtual)
DESCRIPTION:This instructor-led class is a means of improving and maintaining functional performance through strength\, balance and cardiovascular development. This class will aid in the prevention of future injury\, including those that may be the results of falls. Exercises progress at the pace of the participants at the discretion of the instructor. Contact Jennifer to register.
URL:https://www.brockchc.ca/calendar/gentle-fit-2-2/2027-09-21/
LOCATION:Virtual via Zoom
ATTACH;FMTTYPE=image/jpeg:https://www.brockchc.ca/wp-content/uploads/2023/03/gentle.jpg
END:VEVENT
BEGIN:VEVENT
DTSTART;TZID=America/Toronto:20270924T100000
DTEND;TZID=America/Toronto:20270924T110000
DTSTAMP:20260419T234420
CREATED:20250108T155449Z
LAST-MODIFIED:20250108T155449Z
UID:10004820-1821780000-1821783600@www.brockchc.ca
SUMMARY:Guided Meditation
DESCRIPTION:Learn to relax your mind and body to reduce stress\, improve your breathing\, help the healing process\, and find calm and balance in your life.  Complement your path to health and wellness.  No experience necessary.  To register\, contact Loretta Fernandes-Heaslip at 705.432.3322 ext. 106 or lfheaslip@brockchc.ca.
URL:https://www.brockchc.ca/calendar/guided-meditation-2/2027-09-24/
LOCATION:Virtual via Zoom
ATTACH;FMTTYPE=image/jpeg:https://www.brockchc.ca/wp-content/uploads/2023/03/mindful.jpg
END:VEVENT
BEGIN:VEVENT
DTSTART;TZID=UTC:20270928T090000
DTEND;TZID=UTC:20270928T100000
DTSTAMP:20260419T234420
CREATED:20250108T153628Z
LAST-MODIFIED:20250108T153628Z
UID:10007235-1822122000-1822125600@www.brockchc.ca
SUMMARY:Gentle Fit (Virtual)
DESCRIPTION:This instructor-led class is a means of improving and maintaining functional performance through strength\, balance and cardiovascular development. This class will aid in the prevention of future injury\, including those that may be the results of falls. Exercises progress at the pace of the participants at the discretion of the instructor. Contact Jennifer to register.
URL:https://www.brockchc.ca/calendar/gentle-fit-2-2/2027-09-28/
LOCATION:Virtual via Zoom
ATTACH;FMTTYPE=image/jpeg:https://www.brockchc.ca/wp-content/uploads/2023/03/gentle.jpg
END:VEVENT
BEGIN:VEVENT
DTSTART;TZID=America/Toronto:20271001T100000
DTEND;TZID=America/Toronto:20271001T110000
DTSTAMP:20260419T234420
CREATED:20250108T155449Z
LAST-MODIFIED:20250108T155449Z
UID:10004821-1822384800-1822388400@www.brockchc.ca
SUMMARY:Guided Meditation
DESCRIPTION:Learn to relax your mind and body to reduce stress\, improve your breathing\, help the healing process\, and find calm and balance in your life.  Complement your path to health and wellness.  No experience necessary.  To register\, contact Loretta Fernandes-Heaslip at 705.432.3322 ext. 106 or lfheaslip@brockchc.ca.
URL:https://www.brockchc.ca/calendar/guided-meditation-2/2027-10-01/
LOCATION:Virtual via Zoom
ATTACH;FMTTYPE=image/jpeg:https://www.brockchc.ca/wp-content/uploads/2023/03/mindful.jpg
END:VEVENT
BEGIN:VEVENT
DTSTART;TZID=UTC:20271005T090000
DTEND;TZID=UTC:20271005T100000
DTSTAMP:20260419T234420
CREATED:20250108T153628Z
LAST-MODIFIED:20250108T153628Z
UID:10007236-1822726800-1822730400@www.brockchc.ca
SUMMARY:Gentle Fit (Virtual)
DESCRIPTION:This instructor-led class is a means of improving and maintaining functional performance through strength\, balance and cardiovascular development. This class will aid in the prevention of future injury\, including those that may be the results of falls. Exercises progress at the pace of the participants at the discretion of the instructor. Contact Jennifer to register.
URL:https://www.brockchc.ca/calendar/gentle-fit-2-2/2027-10-05/
LOCATION:Virtual via Zoom
ATTACH;FMTTYPE=image/jpeg:https://www.brockchc.ca/wp-content/uploads/2023/03/gentle.jpg
END:VEVENT
BEGIN:VEVENT
DTSTART;TZID=America/Toronto:20271008T100000
DTEND;TZID=America/Toronto:20271008T110000
DTSTAMP:20260419T234420
CREATED:20250108T155449Z
LAST-MODIFIED:20250108T155449Z
UID:10004822-1822989600-1822993200@www.brockchc.ca
SUMMARY:Guided Meditation
DESCRIPTION:Learn to relax your mind and body to reduce stress\, improve your breathing\, help the healing process\, and find calm and balance in your life.  Complement your path to health and wellness.  No experience necessary.  To register\, contact Loretta Fernandes-Heaslip at 705.432.3322 ext. 106 or lfheaslip@brockchc.ca.
URL:https://www.brockchc.ca/calendar/guided-meditation-2/2027-10-08/
LOCATION:Virtual via Zoom
ATTACH;FMTTYPE=image/jpeg:https://www.brockchc.ca/wp-content/uploads/2023/03/mindful.jpg
END:VEVENT
BEGIN:VEVENT
DTSTART;TZID=UTC:20271012T090000
DTEND;TZID=UTC:20271012T100000
DTSTAMP:20260419T234420
CREATED:20250108T153628Z
LAST-MODIFIED:20250108T153628Z
UID:10007237-1823331600-1823335200@www.brockchc.ca
SUMMARY:Gentle Fit (Virtual)
DESCRIPTION:This instructor-led class is a means of improving and maintaining functional performance through strength\, balance and cardiovascular development. This class will aid in the prevention of future injury\, including those that may be the results of falls. Exercises progress at the pace of the participants at the discretion of the instructor. Contact Jennifer to register.
URL:https://www.brockchc.ca/calendar/gentle-fit-2-2/2027-10-12/
LOCATION:Virtual via Zoom
ATTACH;FMTTYPE=image/jpeg:https://www.brockchc.ca/wp-content/uploads/2023/03/gentle.jpg
END:VEVENT
BEGIN:VEVENT
DTSTART;TZID=America/Toronto:20271015T100000
DTEND;TZID=America/Toronto:20271015T110000
DTSTAMP:20260419T234420
CREATED:20250108T155449Z
LAST-MODIFIED:20250108T155449Z
UID:10004823-1823594400-1823598000@www.brockchc.ca
SUMMARY:Guided Meditation
DESCRIPTION:Learn to relax your mind and body to reduce stress\, improve your breathing\, help the healing process\, and find calm and balance in your life.  Complement your path to health and wellness.  No experience necessary.  To register\, contact Loretta Fernandes-Heaslip at 705.432.3322 ext. 106 or lfheaslip@brockchc.ca.
URL:https://www.brockchc.ca/calendar/guided-meditation-2/2027-10-15/
LOCATION:Virtual via Zoom
ATTACH;FMTTYPE=image/jpeg:https://www.brockchc.ca/wp-content/uploads/2023/03/mindful.jpg
END:VEVENT
BEGIN:VEVENT
DTSTART;TZID=UTC:20271019T090000
DTEND;TZID=UTC:20271019T100000
DTSTAMP:20260419T234420
CREATED:20250108T153628Z
LAST-MODIFIED:20250108T153628Z
UID:10007238-1823936400-1823940000@www.brockchc.ca
SUMMARY:Gentle Fit (Virtual)
DESCRIPTION:This instructor-led class is a means of improving and maintaining functional performance through strength\, balance and cardiovascular development. This class will aid in the prevention of future injury\, including those that may be the results of falls. Exercises progress at the pace of the participants at the discretion of the instructor. Contact Jennifer to register.
URL:https://www.brockchc.ca/calendar/gentle-fit-2-2/2027-10-19/
LOCATION:Virtual via Zoom
ATTACH;FMTTYPE=image/jpeg:https://www.brockchc.ca/wp-content/uploads/2023/03/gentle.jpg
END:VEVENT
BEGIN:VEVENT
DTSTART;TZID=America/Toronto:20271022T100000
DTEND;TZID=America/Toronto:20271022T110000
DTSTAMP:20260419T234420
CREATED:20250108T155449Z
LAST-MODIFIED:20250108T155449Z
UID:10004824-1824199200-1824202800@www.brockchc.ca
SUMMARY:Guided Meditation
DESCRIPTION:Learn to relax your mind and body to reduce stress\, improve your breathing\, help the healing process\, and find calm and balance in your life.  Complement your path to health and wellness.  No experience necessary.  To register\, contact Loretta Fernandes-Heaslip at 705.432.3322 ext. 106 or lfheaslip@brockchc.ca.
URL:https://www.brockchc.ca/calendar/guided-meditation-2/2027-10-22/
LOCATION:Virtual via Zoom
ATTACH;FMTTYPE=image/jpeg:https://www.brockchc.ca/wp-content/uploads/2023/03/mindful.jpg
END:VEVENT
BEGIN:VEVENT
DTSTART;TZID=UTC:20271026T090000
DTEND;TZID=UTC:20271026T100000
DTSTAMP:20260419T234420
CREATED:20250108T153628Z
LAST-MODIFIED:20250108T153628Z
UID:10007239-1824541200-1824544800@www.brockchc.ca
SUMMARY:Gentle Fit (Virtual)
DESCRIPTION:This instructor-led class is a means of improving and maintaining functional performance through strength\, balance and cardiovascular development. This class will aid in the prevention of future injury\, including those that may be the results of falls. Exercises progress at the pace of the participants at the discretion of the instructor. Contact Jennifer to register.
URL:https://www.brockchc.ca/calendar/gentle-fit-2-2/2027-10-26/
LOCATION:Virtual via Zoom
ATTACH;FMTTYPE=image/jpeg:https://www.brockchc.ca/wp-content/uploads/2023/03/gentle.jpg
END:VEVENT
BEGIN:VEVENT
DTSTART;TZID=America/Toronto:20271029T100000
DTEND;TZID=America/Toronto:20271029T110000
DTSTAMP:20260419T234420
CREATED:20250108T155449Z
LAST-MODIFIED:20250108T155449Z
UID:10004825-1824804000-1824807600@www.brockchc.ca
SUMMARY:Guided Meditation
DESCRIPTION:Learn to relax your mind and body to reduce stress\, improve your breathing\, help the healing process\, and find calm and balance in your life.  Complement your path to health and wellness.  No experience necessary.  To register\, contact Loretta Fernandes-Heaslip at 705.432.3322 ext. 106 or lfheaslip@brockchc.ca.
URL:https://www.brockchc.ca/calendar/guided-meditation-2/2027-10-29/
LOCATION:Virtual via Zoom
ATTACH;FMTTYPE=image/jpeg:https://www.brockchc.ca/wp-content/uploads/2023/03/mindful.jpg
END:VEVENT
BEGIN:VEVENT
DTSTART;TZID=UTC:20271102T090000
DTEND;TZID=UTC:20271102T100000
DTSTAMP:20260419T234420
CREATED:20250108T153628Z
LAST-MODIFIED:20250108T153628Z
UID:10007240-1825146000-1825149600@www.brockchc.ca
SUMMARY:Gentle Fit (Virtual)
DESCRIPTION:This instructor-led class is a means of improving and maintaining functional performance through strength\, balance and cardiovascular development. This class will aid in the prevention of future injury\, including those that may be the results of falls. Exercises progress at the pace of the participants at the discretion of the instructor. Contact Jennifer to register.
URL:https://www.brockchc.ca/calendar/gentle-fit-2-2/2027-11-02/
LOCATION:Virtual via Zoom
ATTACH;FMTTYPE=image/jpeg:https://www.brockchc.ca/wp-content/uploads/2023/03/gentle.jpg
END:VEVENT
BEGIN:VEVENT
DTSTART;TZID=America/Toronto:20271105T100000
DTEND;TZID=America/Toronto:20271105T110000
DTSTAMP:20260419T234420
CREATED:20250108T155449Z
LAST-MODIFIED:20250108T155449Z
UID:10004826-1825408800-1825412400@www.brockchc.ca
SUMMARY:Guided Meditation
DESCRIPTION:Learn to relax your mind and body to reduce stress\, improve your breathing\, help the healing process\, and find calm and balance in your life.  Complement your path to health and wellness.  No experience necessary.  To register\, contact Loretta Fernandes-Heaslip at 705.432.3322 ext. 106 or lfheaslip@brockchc.ca.
URL:https://www.brockchc.ca/calendar/guided-meditation-2/2027-11-05/
LOCATION:Virtual via Zoom
ATTACH;FMTTYPE=image/jpeg:https://www.brockchc.ca/wp-content/uploads/2023/03/mindful.jpg
END:VEVENT
END:VCALENDAR