BEGIN:VCALENDAR
VERSION:2.0
PRODID:-//Brock Community Health Centre - ECPv6.15.20//NONSGML v1.0//EN
CALSCALE:GREGORIAN
METHOD:PUBLISH
X-WR-CALNAME:Brock Community Health Centre
X-ORIGINAL-URL:https://www.brockchc.ca
X-WR-CALDESC:Events for Brock Community Health Centre
REFRESH-INTERVAL;VALUE=DURATION:PT1H
X-Robots-Tag:noindex
X-PUBLISHED-TTL:PT1H
BEGIN:VTIMEZONE
TZID:America/Toronto
BEGIN:DAYLIGHT
TZOFFSETFROM:-0500
TZOFFSETTO:-0400
TZNAME:EDT
DTSTART:20270314T070000
END:DAYLIGHT
BEGIN:STANDARD
TZOFFSETFROM:-0400
TZOFFSETTO:-0500
TZNAME:EST
DTSTART:20271107T060000
END:STANDARD
BEGIN:DAYLIGHT
TZOFFSETFROM:-0500
TZOFFSETTO:-0400
TZNAME:EDT
DTSTART:20280312T070000
END:DAYLIGHT
BEGIN:STANDARD
TZOFFSETFROM:-0400
TZOFFSETTO:-0500
TZNAME:EST
DTSTART:20281105T060000
END:STANDARD
BEGIN:DAYLIGHT
TZOFFSETFROM:-0500
TZOFFSETTO:-0400
TZNAME:EDT
DTSTART:20290311T070000
END:DAYLIGHT
BEGIN:STANDARD
TZOFFSETFROM:-0400
TZOFFSETTO:-0500
TZNAME:EST
DTSTART:20291104T060000
END:STANDARD
END:VTIMEZONE
BEGIN:VEVENT
DTSTART;TZID=America/Toronto:20280321T133000
DTEND;TZID=America/Toronto:20280321T143000
DTSTAMP:20260420T135334
CREATED:20250108T154256Z
LAST-MODIFIED:20251211T154948Z
UID:10003558-1837258200-1837261800@www.brockchc.ca
SUMMARY:Tai Chi Practice Sessions
DESCRIPTION:Join these community-led tai chi practice sessions to maintain awareness of the body with gentle movements that harmonize breathing with careful coordination of arm and leg movements.  All are welcome. To register\, contact Loretta Fernandes-Heaslip at 705.432.3322 ext. 106 or lfheaslip@brockchc.ca.
URL:https://www.brockchc.ca/calendar/tai-chi-practice-sessions-2/2028-03-21/
LOCATION:Gillespie Gardens\, 75 Nine Mile Road\, Beaverton\, Ontario\, L0K 1A0\, Canada
ATTACH;FMTTYPE=image/jpeg:https://www.brockchc.ca/wp-content/uploads/2023/03/iStock-864654586-scaled.jpg
END:VEVENT
BEGIN:VEVENT
DTSTART;TZID=America/Toronto:20280322T130000
DTEND;TZID=America/Toronto:20280322T140000
DTSTAMP:20260420T135334
CREATED:20240109T145607Z
LAST-MODIFIED:20240109T145608Z
UID:10006319-1837342800-1837346400@www.brockchc.ca
SUMMARY:Yoga with Michelle
DESCRIPTION:Yoga combines physical exercise\, mental meditation\, and breathing techniques to strengthen the muscles and relieve stress.  General health benefits include improved balance\, flexibility\, muscle strength and strategies to manage symptoms of chronic conditions.  This class is suitable for all levels of practice and offers hands on adjustments and modifications to each asana (pose).  To register\, contact Loretta at 705.432.3322\, ext. 106 or lfheaslip@brockchc.ca.
URL:https://www.brockchc.ca/calendar/gentle-yoga-2-2-2/2028-03-22/
LOCATION:Gillespie Gardens\, 75 Nine Mile Road\, Beaverton\, Ontario\, L0K 1A0\, Canada
ATTACH;FMTTYPE=image/jpeg:https://www.brockchc.ca/wp-content/uploads/2023/03/meditation.jpg
END:VEVENT
BEGIN:VEVENT
DTSTART;TZID=America/Toronto:20280323T130000
DTEND;TZID=America/Toronto:20280323T140000
DTSTAMP:20260420T135334
CREATED:20231222T155254Z
LAST-MODIFIED:20251211T155941Z
UID:10008298-1837429200-1837432800@www.brockchc.ca
SUMMARY:Gentle Fit Beaverton
DESCRIPTION:This low-impact exercise program is a means of improving and maintaining functional performance through strength\, balance and cardiovascular development.  Classes will aid in the prevention of future injury\, including those that may be the results of  falls.  Exercises progress at the pace of the participants and at the discretion of the instructor.  To register\, please email Jennifer at jjosephson@brockchc.ca or call 705.432.3322\, ext. 105.
URL:https://www.brockchc.ca/calendar/gentle-fit-beaverton/2028-03-23/
LOCATION:Gillespie Gardens\, 75 Nine Mile Road\, Beaverton\, Ontario\, L0K 1A0\, Canada
ATTACH;FMTTYPE=image/jpeg:https://www.brockchc.ca/wp-content/uploads/2023/03/gentle.jpg
END:VEVENT
BEGIN:VEVENT
DTSTART;TZID=America/Toronto:20280328T133000
DTEND;TZID=America/Toronto:20280328T143000
DTSTAMP:20260420T135334
CREATED:20250108T154256Z
LAST-MODIFIED:20251211T154948Z
UID:10003559-1837863000-1837866600@www.brockchc.ca
SUMMARY:Tai Chi Practice Sessions
DESCRIPTION:Join these community-led tai chi practice sessions to maintain awareness of the body with gentle movements that harmonize breathing with careful coordination of arm and leg movements.  All are welcome. To register\, contact Loretta Fernandes-Heaslip at 705.432.3322 ext. 106 or lfheaslip@brockchc.ca.
URL:https://www.brockchc.ca/calendar/tai-chi-practice-sessions-2/2028-03-28/
LOCATION:Gillespie Gardens\, 75 Nine Mile Road\, Beaverton\, Ontario\, L0K 1A0\, Canada
ATTACH;FMTTYPE=image/jpeg:https://www.brockchc.ca/wp-content/uploads/2023/03/iStock-864654586-scaled.jpg
END:VEVENT
BEGIN:VEVENT
DTSTART;TZID=America/Toronto:20280329T130000
DTEND;TZID=America/Toronto:20280329T140000
DTSTAMP:20260420T135334
CREATED:20240109T145607Z
LAST-MODIFIED:20240109T145608Z
UID:10006320-1837947600-1837951200@www.brockchc.ca
SUMMARY:Yoga with Michelle
DESCRIPTION:Yoga combines physical exercise\, mental meditation\, and breathing techniques to strengthen the muscles and relieve stress.  General health benefits include improved balance\, flexibility\, muscle strength and strategies to manage symptoms of chronic conditions.  This class is suitable for all levels of practice and offers hands on adjustments and modifications to each asana (pose).  To register\, contact Loretta at 705.432.3322\, ext. 106 or lfheaslip@brockchc.ca.
URL:https://www.brockchc.ca/calendar/gentle-yoga-2-2-2/2028-03-29/
LOCATION:Gillespie Gardens\, 75 Nine Mile Road\, Beaverton\, Ontario\, L0K 1A0\, Canada
ATTACH;FMTTYPE=image/jpeg:https://www.brockchc.ca/wp-content/uploads/2023/03/meditation.jpg
END:VEVENT
BEGIN:VEVENT
DTSTART;TZID=America/Toronto:20280330T130000
DTEND;TZID=America/Toronto:20280330T140000
DTSTAMP:20260420T135334
CREATED:20231222T155254Z
LAST-MODIFIED:20251211T155941Z
UID:10008299-1838034000-1838037600@www.brockchc.ca
SUMMARY:Gentle Fit Beaverton
DESCRIPTION:This low-impact exercise program is a means of improving and maintaining functional performance through strength\, balance and cardiovascular development.  Classes will aid in the prevention of future injury\, including those that may be the results of  falls.  Exercises progress at the pace of the participants and at the discretion of the instructor.  To register\, please email Jennifer at jjosephson@brockchc.ca or call 705.432.3322\, ext. 105.
URL:https://www.brockchc.ca/calendar/gentle-fit-beaverton/2028-03-30/
LOCATION:Gillespie Gardens\, 75 Nine Mile Road\, Beaverton\, Ontario\, L0K 1A0\, Canada
ATTACH;FMTTYPE=image/jpeg:https://www.brockchc.ca/wp-content/uploads/2023/03/gentle.jpg
END:VEVENT
BEGIN:VEVENT
DTSTART;TZID=America/Toronto:20280404T133000
DTEND;TZID=America/Toronto:20280404T143000
DTSTAMP:20260420T135334
CREATED:20250108T154256Z
LAST-MODIFIED:20251211T154948Z
UID:10003560-1838467800-1838471400@www.brockchc.ca
SUMMARY:Tai Chi Practice Sessions
DESCRIPTION:Join these community-led tai chi practice sessions to maintain awareness of the body with gentle movements that harmonize breathing with careful coordination of arm and leg movements.  All are welcome. To register\, contact Loretta Fernandes-Heaslip at 705.432.3322 ext. 106 or lfheaslip@brockchc.ca.
URL:https://www.brockchc.ca/calendar/tai-chi-practice-sessions-2/2028-04-04/
LOCATION:Gillespie Gardens\, 75 Nine Mile Road\, Beaverton\, Ontario\, L0K 1A0\, Canada
ATTACH;FMTTYPE=image/jpeg:https://www.brockchc.ca/wp-content/uploads/2023/03/iStock-864654586-scaled.jpg
END:VEVENT
BEGIN:VEVENT
DTSTART;TZID=America/Toronto:20280405T130000
DTEND;TZID=America/Toronto:20280405T140000
DTSTAMP:20260420T135334
CREATED:20240109T145607Z
LAST-MODIFIED:20240109T145608Z
UID:10006321-1838552400-1838556000@www.brockchc.ca
SUMMARY:Yoga with Michelle
DESCRIPTION:Yoga combines physical exercise\, mental meditation\, and breathing techniques to strengthen the muscles and relieve stress.  General health benefits include improved balance\, flexibility\, muscle strength and strategies to manage symptoms of chronic conditions.  This class is suitable for all levels of practice and offers hands on adjustments and modifications to each asana (pose).  To register\, contact Loretta at 705.432.3322\, ext. 106 or lfheaslip@brockchc.ca.
URL:https://www.brockchc.ca/calendar/gentle-yoga-2-2-2/2028-04-05/
LOCATION:Gillespie Gardens\, 75 Nine Mile Road\, Beaverton\, Ontario\, L0K 1A0\, Canada
ATTACH;FMTTYPE=image/jpeg:https://www.brockchc.ca/wp-content/uploads/2023/03/meditation.jpg
END:VEVENT
BEGIN:VEVENT
DTSTART;TZID=America/Toronto:20280406T130000
DTEND;TZID=America/Toronto:20280406T140000
DTSTAMP:20260420T135334
CREATED:20231222T155254Z
LAST-MODIFIED:20251211T155941Z
UID:10008300-1838638800-1838642400@www.brockchc.ca
SUMMARY:Gentle Fit Beaverton
DESCRIPTION:This low-impact exercise program is a means of improving and maintaining functional performance through strength\, balance and cardiovascular development.  Classes will aid in the prevention of future injury\, including those that may be the results of  falls.  Exercises progress at the pace of the participants and at the discretion of the instructor.  To register\, please email Jennifer at jjosephson@brockchc.ca or call 705.432.3322\, ext. 105.
URL:https://www.brockchc.ca/calendar/gentle-fit-beaverton/2028-04-06/
LOCATION:Gillespie Gardens\, 75 Nine Mile Road\, Beaverton\, Ontario\, L0K 1A0\, Canada
ATTACH;FMTTYPE=image/jpeg:https://www.brockchc.ca/wp-content/uploads/2023/03/gentle.jpg
END:VEVENT
BEGIN:VEVENT
DTSTART;TZID=America/Toronto:20280411T133000
DTEND;TZID=America/Toronto:20280411T143000
DTSTAMP:20260420T135334
CREATED:20250108T154256Z
LAST-MODIFIED:20251211T154948Z
UID:10003561-1839072600-1839076200@www.brockchc.ca
SUMMARY:Tai Chi Practice Sessions
DESCRIPTION:Join these community-led tai chi practice sessions to maintain awareness of the body with gentle movements that harmonize breathing with careful coordination of arm and leg movements.  All are welcome. To register\, contact Loretta Fernandes-Heaslip at 705.432.3322 ext. 106 or lfheaslip@brockchc.ca.
URL:https://www.brockchc.ca/calendar/tai-chi-practice-sessions-2/2028-04-11/
LOCATION:Gillespie Gardens\, 75 Nine Mile Road\, Beaverton\, Ontario\, L0K 1A0\, Canada
ATTACH;FMTTYPE=image/jpeg:https://www.brockchc.ca/wp-content/uploads/2023/03/iStock-864654586-scaled.jpg
END:VEVENT
BEGIN:VEVENT
DTSTART;TZID=America/Toronto:20280412T130000
DTEND;TZID=America/Toronto:20280412T140000
DTSTAMP:20260420T135334
CREATED:20240109T145607Z
LAST-MODIFIED:20240109T145608Z
UID:10006322-1839157200-1839160800@www.brockchc.ca
SUMMARY:Yoga with Michelle
DESCRIPTION:Yoga combines physical exercise\, mental meditation\, and breathing techniques to strengthen the muscles and relieve stress.  General health benefits include improved balance\, flexibility\, muscle strength and strategies to manage symptoms of chronic conditions.  This class is suitable for all levels of practice and offers hands on adjustments and modifications to each asana (pose).  To register\, contact Loretta at 705.432.3322\, ext. 106 or lfheaslip@brockchc.ca.
URL:https://www.brockchc.ca/calendar/gentle-yoga-2-2-2/2028-04-12/
LOCATION:Gillespie Gardens\, 75 Nine Mile Road\, Beaverton\, Ontario\, L0K 1A0\, Canada
ATTACH;FMTTYPE=image/jpeg:https://www.brockchc.ca/wp-content/uploads/2023/03/meditation.jpg
END:VEVENT
BEGIN:VEVENT
DTSTART;TZID=America/Toronto:20280413T130000
DTEND;TZID=America/Toronto:20280413T140000
DTSTAMP:20260420T135334
CREATED:20231222T155254Z
LAST-MODIFIED:20251211T155941Z
UID:10008301-1839243600-1839247200@www.brockchc.ca
SUMMARY:Gentle Fit Beaverton
DESCRIPTION:This low-impact exercise program is a means of improving and maintaining functional performance through strength\, balance and cardiovascular development.  Classes will aid in the prevention of future injury\, including those that may be the results of  falls.  Exercises progress at the pace of the participants and at the discretion of the instructor.  To register\, please email Jennifer at jjosephson@brockchc.ca or call 705.432.3322\, ext. 105.
URL:https://www.brockchc.ca/calendar/gentle-fit-beaverton/2028-04-13/
LOCATION:Gillespie Gardens\, 75 Nine Mile Road\, Beaverton\, Ontario\, L0K 1A0\, Canada
ATTACH;FMTTYPE=image/jpeg:https://www.brockchc.ca/wp-content/uploads/2023/03/gentle.jpg
END:VEVENT
BEGIN:VEVENT
DTSTART;TZID=America/Toronto:20280418T133000
DTEND;TZID=America/Toronto:20280418T143000
DTSTAMP:20260420T135334
CREATED:20250108T154256Z
LAST-MODIFIED:20251211T154948Z
UID:10003562-1839677400-1839681000@www.brockchc.ca
SUMMARY:Tai Chi Practice Sessions
DESCRIPTION:Join these community-led tai chi practice sessions to maintain awareness of the body with gentle movements that harmonize breathing with careful coordination of arm and leg movements.  All are welcome. To register\, contact Loretta Fernandes-Heaslip at 705.432.3322 ext. 106 or lfheaslip@brockchc.ca.
URL:https://www.brockchc.ca/calendar/tai-chi-practice-sessions-2/2028-04-18/
LOCATION:Gillespie Gardens\, 75 Nine Mile Road\, Beaverton\, Ontario\, L0K 1A0\, Canada
ATTACH;FMTTYPE=image/jpeg:https://www.brockchc.ca/wp-content/uploads/2023/03/iStock-864654586-scaled.jpg
END:VEVENT
BEGIN:VEVENT
DTSTART;TZID=America/Toronto:20280419T130000
DTEND;TZID=America/Toronto:20280419T140000
DTSTAMP:20260420T135334
CREATED:20240109T145607Z
LAST-MODIFIED:20240109T145608Z
UID:10006323-1839762000-1839765600@www.brockchc.ca
SUMMARY:Yoga with Michelle
DESCRIPTION:Yoga combines physical exercise\, mental meditation\, and breathing techniques to strengthen the muscles and relieve stress.  General health benefits include improved balance\, flexibility\, muscle strength and strategies to manage symptoms of chronic conditions.  This class is suitable for all levels of practice and offers hands on adjustments and modifications to each asana (pose).  To register\, contact Loretta at 705.432.3322\, ext. 106 or lfheaslip@brockchc.ca.
URL:https://www.brockchc.ca/calendar/gentle-yoga-2-2-2/2028-04-19/
LOCATION:Gillespie Gardens\, 75 Nine Mile Road\, Beaverton\, Ontario\, L0K 1A0\, Canada
ATTACH;FMTTYPE=image/jpeg:https://www.brockchc.ca/wp-content/uploads/2023/03/meditation.jpg
END:VEVENT
BEGIN:VEVENT
DTSTART;TZID=America/Toronto:20280420T130000
DTEND;TZID=America/Toronto:20280420T140000
DTSTAMP:20260420T135334
CREATED:20231222T155254Z
LAST-MODIFIED:20251211T155941Z
UID:10008302-1839848400-1839852000@www.brockchc.ca
SUMMARY:Gentle Fit Beaverton
DESCRIPTION:This low-impact exercise program is a means of improving and maintaining functional performance through strength\, balance and cardiovascular development.  Classes will aid in the prevention of future injury\, including those that may be the results of  falls.  Exercises progress at the pace of the participants and at the discretion of the instructor.  To register\, please email Jennifer at jjosephson@brockchc.ca or call 705.432.3322\, ext. 105.
URL:https://www.brockchc.ca/calendar/gentle-fit-beaverton/2028-04-20/
LOCATION:Gillespie Gardens\, 75 Nine Mile Road\, Beaverton\, Ontario\, L0K 1A0\, Canada
ATTACH;FMTTYPE=image/jpeg:https://www.brockchc.ca/wp-content/uploads/2023/03/gentle.jpg
END:VEVENT
BEGIN:VEVENT
DTSTART;TZID=America/Toronto:20280425T133000
DTEND;TZID=America/Toronto:20280425T143000
DTSTAMP:20260420T135334
CREATED:20250108T154256Z
LAST-MODIFIED:20251211T154948Z
UID:10003563-1840282200-1840285800@www.brockchc.ca
SUMMARY:Tai Chi Practice Sessions
DESCRIPTION:Join these community-led tai chi practice sessions to maintain awareness of the body with gentle movements that harmonize breathing with careful coordination of arm and leg movements.  All are welcome. To register\, contact Loretta Fernandes-Heaslip at 705.432.3322 ext. 106 or lfheaslip@brockchc.ca.
URL:https://www.brockchc.ca/calendar/tai-chi-practice-sessions-2/2028-04-25/
LOCATION:Gillespie Gardens\, 75 Nine Mile Road\, Beaverton\, Ontario\, L0K 1A0\, Canada
ATTACH;FMTTYPE=image/jpeg:https://www.brockchc.ca/wp-content/uploads/2023/03/iStock-864654586-scaled.jpg
END:VEVENT
BEGIN:VEVENT
DTSTART;TZID=America/Toronto:20280426T130000
DTEND;TZID=America/Toronto:20280426T140000
DTSTAMP:20260420T135334
CREATED:20240109T145607Z
LAST-MODIFIED:20240109T145608Z
UID:10006324-1840366800-1840370400@www.brockchc.ca
SUMMARY:Yoga with Michelle
DESCRIPTION:Yoga combines physical exercise\, mental meditation\, and breathing techniques to strengthen the muscles and relieve stress.  General health benefits include improved balance\, flexibility\, muscle strength and strategies to manage symptoms of chronic conditions.  This class is suitable for all levels of practice and offers hands on adjustments and modifications to each asana (pose).  To register\, contact Loretta at 705.432.3322\, ext. 106 or lfheaslip@brockchc.ca.
URL:https://www.brockchc.ca/calendar/gentle-yoga-2-2-2/2028-04-26/
LOCATION:Gillespie Gardens\, 75 Nine Mile Road\, Beaverton\, Ontario\, L0K 1A0\, Canada
ATTACH;FMTTYPE=image/jpeg:https://www.brockchc.ca/wp-content/uploads/2023/03/meditation.jpg
END:VEVENT
BEGIN:VEVENT
DTSTART;TZID=America/Toronto:20280427T130000
DTEND;TZID=America/Toronto:20280427T140000
DTSTAMP:20260420T135334
CREATED:20231222T155254Z
LAST-MODIFIED:20251211T155941Z
UID:10008303-1840453200-1840456800@www.brockchc.ca
SUMMARY:Gentle Fit Beaverton
DESCRIPTION:This low-impact exercise program is a means of improving and maintaining functional performance through strength\, balance and cardiovascular development.  Classes will aid in the prevention of future injury\, including those that may be the results of  falls.  Exercises progress at the pace of the participants and at the discretion of the instructor.  To register\, please email Jennifer at jjosephson@brockchc.ca or call 705.432.3322\, ext. 105.
URL:https://www.brockchc.ca/calendar/gentle-fit-beaverton/2028-04-27/
LOCATION:Gillespie Gardens\, 75 Nine Mile Road\, Beaverton\, Ontario\, L0K 1A0\, Canada
ATTACH;FMTTYPE=image/jpeg:https://www.brockchc.ca/wp-content/uploads/2023/03/gentle.jpg
END:VEVENT
BEGIN:VEVENT
DTSTART;TZID=America/Toronto:20280502T133000
DTEND;TZID=America/Toronto:20280502T143000
DTSTAMP:20260420T135334
CREATED:20250108T154256Z
LAST-MODIFIED:20251211T154948Z
UID:10003564-1840887000-1840890600@www.brockchc.ca
SUMMARY:Tai Chi Practice Sessions
DESCRIPTION:Join these community-led tai chi practice sessions to maintain awareness of the body with gentle movements that harmonize breathing with careful coordination of arm and leg movements.  All are welcome. To register\, contact Loretta Fernandes-Heaslip at 705.432.3322 ext. 106 or lfheaslip@brockchc.ca.
URL:https://www.brockchc.ca/calendar/tai-chi-practice-sessions-2/2028-05-02/
LOCATION:Gillespie Gardens\, 75 Nine Mile Road\, Beaverton\, Ontario\, L0K 1A0\, Canada
ATTACH;FMTTYPE=image/jpeg:https://www.brockchc.ca/wp-content/uploads/2023/03/iStock-864654586-scaled.jpg
END:VEVENT
BEGIN:VEVENT
DTSTART;TZID=America/Toronto:20280503T130000
DTEND;TZID=America/Toronto:20280503T140000
DTSTAMP:20260420T135334
CREATED:20240109T145607Z
LAST-MODIFIED:20240109T145608Z
UID:10006325-1840971600-1840975200@www.brockchc.ca
SUMMARY:Yoga with Michelle
DESCRIPTION:Yoga combines physical exercise\, mental meditation\, and breathing techniques to strengthen the muscles and relieve stress.  General health benefits include improved balance\, flexibility\, muscle strength and strategies to manage symptoms of chronic conditions.  This class is suitable for all levels of practice and offers hands on adjustments and modifications to each asana (pose).  To register\, contact Loretta at 705.432.3322\, ext. 106 or lfheaslip@brockchc.ca.
URL:https://www.brockchc.ca/calendar/gentle-yoga-2-2-2/2028-05-03/
LOCATION:Gillespie Gardens\, 75 Nine Mile Road\, Beaverton\, Ontario\, L0K 1A0\, Canada
ATTACH;FMTTYPE=image/jpeg:https://www.brockchc.ca/wp-content/uploads/2023/03/meditation.jpg
END:VEVENT
BEGIN:VEVENT
DTSTART;TZID=America/Toronto:20280504T130000
DTEND;TZID=America/Toronto:20280504T140000
DTSTAMP:20260420T135334
CREATED:20231222T155254Z
LAST-MODIFIED:20251211T155941Z
UID:10008304-1841058000-1841061600@www.brockchc.ca
SUMMARY:Gentle Fit Beaverton
DESCRIPTION:This low-impact exercise program is a means of improving and maintaining functional performance through strength\, balance and cardiovascular development.  Classes will aid in the prevention of future injury\, including those that may be the results of  falls.  Exercises progress at the pace of the participants and at the discretion of the instructor.  To register\, please email Jennifer at jjosephson@brockchc.ca or call 705.432.3322\, ext. 105.
URL:https://www.brockchc.ca/calendar/gentle-fit-beaverton/2028-05-04/
LOCATION:Gillespie Gardens\, 75 Nine Mile Road\, Beaverton\, Ontario\, L0K 1A0\, Canada
ATTACH;FMTTYPE=image/jpeg:https://www.brockchc.ca/wp-content/uploads/2023/03/gentle.jpg
END:VEVENT
BEGIN:VEVENT
DTSTART;TZID=America/Toronto:20280509T133000
DTEND;TZID=America/Toronto:20280509T143000
DTSTAMP:20260420T135334
CREATED:20250108T154256Z
LAST-MODIFIED:20251211T154948Z
UID:10003565-1841491800-1841495400@www.brockchc.ca
SUMMARY:Tai Chi Practice Sessions
DESCRIPTION:Join these community-led tai chi practice sessions to maintain awareness of the body with gentle movements that harmonize breathing with careful coordination of arm and leg movements.  All are welcome. To register\, contact Loretta Fernandes-Heaslip at 705.432.3322 ext. 106 or lfheaslip@brockchc.ca.
URL:https://www.brockchc.ca/calendar/tai-chi-practice-sessions-2/2028-05-09/
LOCATION:Gillespie Gardens\, 75 Nine Mile Road\, Beaverton\, Ontario\, L0K 1A0\, Canada
ATTACH;FMTTYPE=image/jpeg:https://www.brockchc.ca/wp-content/uploads/2023/03/iStock-864654586-scaled.jpg
END:VEVENT
BEGIN:VEVENT
DTSTART;TZID=America/Toronto:20280510T130000
DTEND;TZID=America/Toronto:20280510T140000
DTSTAMP:20260420T135334
CREATED:20240109T145607Z
LAST-MODIFIED:20240109T145608Z
UID:10006326-1841576400-1841580000@www.brockchc.ca
SUMMARY:Yoga with Michelle
DESCRIPTION:Yoga combines physical exercise\, mental meditation\, and breathing techniques to strengthen the muscles and relieve stress.  General health benefits include improved balance\, flexibility\, muscle strength and strategies to manage symptoms of chronic conditions.  This class is suitable for all levels of practice and offers hands on adjustments and modifications to each asana (pose).  To register\, contact Loretta at 705.432.3322\, ext. 106 or lfheaslip@brockchc.ca.
URL:https://www.brockchc.ca/calendar/gentle-yoga-2-2-2/2028-05-10/
LOCATION:Gillespie Gardens\, 75 Nine Mile Road\, Beaverton\, Ontario\, L0K 1A0\, Canada
ATTACH;FMTTYPE=image/jpeg:https://www.brockchc.ca/wp-content/uploads/2023/03/meditation.jpg
END:VEVENT
BEGIN:VEVENT
DTSTART;TZID=America/Toronto:20280511T130000
DTEND;TZID=America/Toronto:20280511T140000
DTSTAMP:20260420T135334
CREATED:20231222T155254Z
LAST-MODIFIED:20251211T155941Z
UID:10008305-1841662800-1841666400@www.brockchc.ca
SUMMARY:Gentle Fit Beaverton
DESCRIPTION:This low-impact exercise program is a means of improving and maintaining functional performance through strength\, balance and cardiovascular development.  Classes will aid in the prevention of future injury\, including those that may be the results of  falls.  Exercises progress at the pace of the participants and at the discretion of the instructor.  To register\, please email Jennifer at jjosephson@brockchc.ca or call 705.432.3322\, ext. 105.
URL:https://www.brockchc.ca/calendar/gentle-fit-beaverton/2028-05-11/
LOCATION:Gillespie Gardens\, 75 Nine Mile Road\, Beaverton\, Ontario\, L0K 1A0\, Canada
ATTACH;FMTTYPE=image/jpeg:https://www.brockchc.ca/wp-content/uploads/2023/03/gentle.jpg
END:VEVENT
BEGIN:VEVENT
DTSTART;TZID=America/Toronto:20280516T133000
DTEND;TZID=America/Toronto:20280516T143000
DTSTAMP:20260420T135334
CREATED:20250108T154256Z
LAST-MODIFIED:20251211T154948Z
UID:10003566-1842096600-1842100200@www.brockchc.ca
SUMMARY:Tai Chi Practice Sessions
DESCRIPTION:Join these community-led tai chi practice sessions to maintain awareness of the body with gentle movements that harmonize breathing with careful coordination of arm and leg movements.  All are welcome. To register\, contact Loretta Fernandes-Heaslip at 705.432.3322 ext. 106 or lfheaslip@brockchc.ca.
URL:https://www.brockchc.ca/calendar/tai-chi-practice-sessions-2/2028-05-16/
LOCATION:Gillespie Gardens\, 75 Nine Mile Road\, Beaverton\, Ontario\, L0K 1A0\, Canada
ATTACH;FMTTYPE=image/jpeg:https://www.brockchc.ca/wp-content/uploads/2023/03/iStock-864654586-scaled.jpg
END:VEVENT
BEGIN:VEVENT
DTSTART;TZID=America/Toronto:20280517T130000
DTEND;TZID=America/Toronto:20280517T140000
DTSTAMP:20260420T135334
CREATED:20240109T145607Z
LAST-MODIFIED:20240109T145608Z
UID:10006327-1842181200-1842184800@www.brockchc.ca
SUMMARY:Yoga with Michelle
DESCRIPTION:Yoga combines physical exercise\, mental meditation\, and breathing techniques to strengthen the muscles and relieve stress.  General health benefits include improved balance\, flexibility\, muscle strength and strategies to manage symptoms of chronic conditions.  This class is suitable for all levels of practice and offers hands on adjustments and modifications to each asana (pose).  To register\, contact Loretta at 705.432.3322\, ext. 106 or lfheaslip@brockchc.ca.
URL:https://www.brockchc.ca/calendar/gentle-yoga-2-2-2/2028-05-17/
LOCATION:Gillespie Gardens\, 75 Nine Mile Road\, Beaverton\, Ontario\, L0K 1A0\, Canada
ATTACH;FMTTYPE=image/jpeg:https://www.brockchc.ca/wp-content/uploads/2023/03/meditation.jpg
END:VEVENT
BEGIN:VEVENT
DTSTART;TZID=America/Toronto:20280518T130000
DTEND;TZID=America/Toronto:20280518T140000
DTSTAMP:20260420T135334
CREATED:20231222T155254Z
LAST-MODIFIED:20251211T155941Z
UID:10008306-1842267600-1842271200@www.brockchc.ca
SUMMARY:Gentle Fit Beaverton
DESCRIPTION:This low-impact exercise program is a means of improving and maintaining functional performance through strength\, balance and cardiovascular development.  Classes will aid in the prevention of future injury\, including those that may be the results of  falls.  Exercises progress at the pace of the participants and at the discretion of the instructor.  To register\, please email Jennifer at jjosephson@brockchc.ca or call 705.432.3322\, ext. 105.
URL:https://www.brockchc.ca/calendar/gentle-fit-beaverton/2028-05-18/
LOCATION:Gillespie Gardens\, 75 Nine Mile Road\, Beaverton\, Ontario\, L0K 1A0\, Canada
ATTACH;FMTTYPE=image/jpeg:https://www.brockchc.ca/wp-content/uploads/2023/03/gentle.jpg
END:VEVENT
BEGIN:VEVENT
DTSTART;TZID=America/Toronto:20280523T133000
DTEND;TZID=America/Toronto:20280523T143000
DTSTAMP:20260420T135334
CREATED:20250108T154256Z
LAST-MODIFIED:20251211T154948Z
UID:10005431-1842701400-1842705000@www.brockchc.ca
SUMMARY:Tai Chi Practice Sessions
DESCRIPTION:Join these community-led tai chi practice sessions to maintain awareness of the body with gentle movements that harmonize breathing with careful coordination of arm and leg movements.  All are welcome. To register\, contact Loretta Fernandes-Heaslip at 705.432.3322 ext. 106 or lfheaslip@brockchc.ca.
URL:https://www.brockchc.ca/calendar/tai-chi-practice-sessions-2/2028-05-23/
LOCATION:Gillespie Gardens\, 75 Nine Mile Road\, Beaverton\, Ontario\, L0K 1A0\, Canada
ATTACH;FMTTYPE=image/jpeg:https://www.brockchc.ca/wp-content/uploads/2023/03/iStock-864654586-scaled.jpg
END:VEVENT
BEGIN:VEVENT
DTSTART;TZID=America/Toronto:20280524T130000
DTEND;TZID=America/Toronto:20280524T140000
DTSTAMP:20260420T135334
CREATED:20240109T145607Z
LAST-MODIFIED:20240109T145608Z
UID:10006328-1842786000-1842789600@www.brockchc.ca
SUMMARY:Yoga with Michelle
DESCRIPTION:Yoga combines physical exercise\, mental meditation\, and breathing techniques to strengthen the muscles and relieve stress.  General health benefits include improved balance\, flexibility\, muscle strength and strategies to manage symptoms of chronic conditions.  This class is suitable for all levels of practice and offers hands on adjustments and modifications to each asana (pose).  To register\, contact Loretta at 705.432.3322\, ext. 106 or lfheaslip@brockchc.ca.
URL:https://www.brockchc.ca/calendar/gentle-yoga-2-2-2/2028-05-24/
LOCATION:Gillespie Gardens\, 75 Nine Mile Road\, Beaverton\, Ontario\, L0K 1A0\, Canada
ATTACH;FMTTYPE=image/jpeg:https://www.brockchc.ca/wp-content/uploads/2023/03/meditation.jpg
END:VEVENT
BEGIN:VEVENT
DTSTART;TZID=America/Toronto:20280525T130000
DTEND;TZID=America/Toronto:20280525T140000
DTSTAMP:20260420T135334
CREATED:20231222T155254Z
LAST-MODIFIED:20251211T155941Z
UID:10008307-1842872400-1842876000@www.brockchc.ca
SUMMARY:Gentle Fit Beaverton
DESCRIPTION:This low-impact exercise program is a means of improving and maintaining functional performance through strength\, balance and cardiovascular development.  Classes will aid in the prevention of future injury\, including those that may be the results of  falls.  Exercises progress at the pace of the participants and at the discretion of the instructor.  To register\, please email Jennifer at jjosephson@brockchc.ca or call 705.432.3322\, ext. 105.
URL:https://www.brockchc.ca/calendar/gentle-fit-beaverton/2028-05-25/
LOCATION:Gillespie Gardens\, 75 Nine Mile Road\, Beaverton\, Ontario\, L0K 1A0\, Canada
ATTACH;FMTTYPE=image/jpeg:https://www.brockchc.ca/wp-content/uploads/2023/03/gentle.jpg
END:VEVENT
END:VCALENDAR