BEGIN:VCALENDAR
VERSION:2.0
PRODID:-//Brock Community Health Centre - ECPv6.15.20//NONSGML v1.0//EN
CALSCALE:GREGORIAN
METHOD:PUBLISH
X-WR-CALNAME:Brock Community Health Centre
X-ORIGINAL-URL:https://www.brockchc.ca
X-WR-CALDESC:Events for Brock Community Health Centre
REFRESH-INTERVAL;VALUE=DURATION:PT1H
X-Robots-Tag:noindex
X-PUBLISHED-TTL:PT1H
BEGIN:VTIMEZONE
TZID:America/Toronto
BEGIN:DAYLIGHT
TZOFFSETFROM:-0500
TZOFFSETTO:-0400
TZNAME:EDT
DTSTART:20260308T070000
END:DAYLIGHT
BEGIN:STANDARD
TZOFFSETFROM:-0400
TZOFFSETTO:-0500
TZNAME:EST
DTSTART:20261101T060000
END:STANDARD
BEGIN:DAYLIGHT
TZOFFSETFROM:-0500
TZOFFSETTO:-0400
TZNAME:EDT
DTSTART:20270314T070000
END:DAYLIGHT
BEGIN:STANDARD
TZOFFSETFROM:-0400
TZOFFSETTO:-0500
TZNAME:EST
DTSTART:20271107T060000
END:STANDARD
BEGIN:DAYLIGHT
TZOFFSETFROM:-0500
TZOFFSETTO:-0400
TZNAME:EDT
DTSTART:20280312T070000
END:DAYLIGHT
BEGIN:STANDARD
TZOFFSETFROM:-0400
TZOFFSETTO:-0500
TZNAME:EST
DTSTART:20281105T060000
END:STANDARD
END:VTIMEZONE
BEGIN:VEVENT
DTSTART;TZID=America/Toronto:20270907T133000
DTEND;TZID=America/Toronto:20270907T143000
DTSTAMP:20260420T030943
CREATED:20250108T154256Z
LAST-MODIFIED:20251211T154948Z
UID:10003530-1820323800-1820327400@www.brockchc.ca
SUMMARY:Tai Chi Practice Sessions
DESCRIPTION:Join these community-led tai chi practice sessions to maintain awareness of the body with gentle movements that harmonize breathing with careful coordination of arm and leg movements.  All are welcome. To register\, contact Loretta Fernandes-Heaslip at 705.432.3322 ext. 106 or lfheaslip@brockchc.ca.
URL:https://www.brockchc.ca/calendar/tai-chi-practice-sessions-2/2027-09-07/
LOCATION:Gillespie Gardens\, 75 Nine Mile Road\, Beaverton\, Ontario\, L0K 1A0\, Canada
ATTACH;FMTTYPE=image/jpeg:https://www.brockchc.ca/wp-content/uploads/2023/03/iStock-864654586-scaled.jpg
END:VEVENT
BEGIN:VEVENT
DTSTART;TZID=America/Toronto:20270908T130000
DTEND;TZID=America/Toronto:20270908T140000
DTSTAMP:20260420T030943
CREATED:20240109T145607Z
LAST-MODIFIED:20240109T145608Z
UID:10006291-1820408400-1820412000@www.brockchc.ca
SUMMARY:Yoga with Michelle
DESCRIPTION:Yoga combines physical exercise\, mental meditation\, and breathing techniques to strengthen the muscles and relieve stress.  General health benefits include improved balance\, flexibility\, muscle strength and strategies to manage symptoms of chronic conditions.  This class is suitable for all levels of practice and offers hands on adjustments and modifications to each asana (pose).  To register\, contact Loretta at 705.432.3322\, ext. 106 or lfheaslip@brockchc.ca.
URL:https://www.brockchc.ca/calendar/gentle-yoga-2-2-2/2027-09-08/
LOCATION:Gillespie Gardens\, 75 Nine Mile Road\, Beaverton\, Ontario\, L0K 1A0\, Canada
ATTACH;FMTTYPE=image/jpeg:https://www.brockchc.ca/wp-content/uploads/2023/03/meditation.jpg
END:VEVENT
BEGIN:VEVENT
DTSTART;TZID=America/Toronto:20270909T130000
DTEND;TZID=America/Toronto:20270909T140000
DTSTAMP:20260420T030943
CREATED:20231222T155254Z
LAST-MODIFIED:20251211T155941Z
UID:10008270-1820494800-1820498400@www.brockchc.ca
SUMMARY:Gentle Fit Beaverton
DESCRIPTION:This low-impact exercise program is a means of improving and maintaining functional performance through strength\, balance and cardiovascular development.  Classes will aid in the prevention of future injury\, including those that may be the results of  falls.  Exercises progress at the pace of the participants and at the discretion of the instructor.  To register\, please email Jennifer at jjosephson@brockchc.ca or call 705.432.3322\, ext. 105.
URL:https://www.brockchc.ca/calendar/gentle-fit-beaverton/2027-09-09/
LOCATION:Gillespie Gardens\, 75 Nine Mile Road\, Beaverton\, Ontario\, L0K 1A0\, Canada
ATTACH;FMTTYPE=image/jpeg:https://www.brockchc.ca/wp-content/uploads/2023/03/gentle.jpg
END:VEVENT
BEGIN:VEVENT
DTSTART;TZID=America/Toronto:20270914T133000
DTEND;TZID=America/Toronto:20270914T143000
DTSTAMP:20260420T030943
CREATED:20250108T154256Z
LAST-MODIFIED:20251211T154948Z
UID:10003531-1820928600-1820932200@www.brockchc.ca
SUMMARY:Tai Chi Practice Sessions
DESCRIPTION:Join these community-led tai chi practice sessions to maintain awareness of the body with gentle movements that harmonize breathing with careful coordination of arm and leg movements.  All are welcome. To register\, contact Loretta Fernandes-Heaslip at 705.432.3322 ext. 106 or lfheaslip@brockchc.ca.
URL:https://www.brockchc.ca/calendar/tai-chi-practice-sessions-2/2027-09-14/
LOCATION:Gillespie Gardens\, 75 Nine Mile Road\, Beaverton\, Ontario\, L0K 1A0\, Canada
ATTACH;FMTTYPE=image/jpeg:https://www.brockchc.ca/wp-content/uploads/2023/03/iStock-864654586-scaled.jpg
END:VEVENT
BEGIN:VEVENT
DTSTART;TZID=America/Toronto:20270915T130000
DTEND;TZID=America/Toronto:20270915T140000
DTSTAMP:20260420T030943
CREATED:20240109T145607Z
LAST-MODIFIED:20240109T145608Z
UID:10006292-1821013200-1821016800@www.brockchc.ca
SUMMARY:Yoga with Michelle
DESCRIPTION:Yoga combines physical exercise\, mental meditation\, and breathing techniques to strengthen the muscles and relieve stress.  General health benefits include improved balance\, flexibility\, muscle strength and strategies to manage symptoms of chronic conditions.  This class is suitable for all levels of practice and offers hands on adjustments and modifications to each asana (pose).  To register\, contact Loretta at 705.432.3322\, ext. 106 or lfheaslip@brockchc.ca.
URL:https://www.brockchc.ca/calendar/gentle-yoga-2-2-2/2027-09-15/
LOCATION:Gillespie Gardens\, 75 Nine Mile Road\, Beaverton\, Ontario\, L0K 1A0\, Canada
ATTACH;FMTTYPE=image/jpeg:https://www.brockchc.ca/wp-content/uploads/2023/03/meditation.jpg
END:VEVENT
BEGIN:VEVENT
DTSTART;TZID=America/Toronto:20270916T130000
DTEND;TZID=America/Toronto:20270916T140000
DTSTAMP:20260420T030943
CREATED:20231222T155254Z
LAST-MODIFIED:20251211T155941Z
UID:10008271-1821099600-1821103200@www.brockchc.ca
SUMMARY:Gentle Fit Beaverton
DESCRIPTION:This low-impact exercise program is a means of improving and maintaining functional performance through strength\, balance and cardiovascular development.  Classes will aid in the prevention of future injury\, including those that may be the results of  falls.  Exercises progress at the pace of the participants and at the discretion of the instructor.  To register\, please email Jennifer at jjosephson@brockchc.ca or call 705.432.3322\, ext. 105.
URL:https://www.brockchc.ca/calendar/gentle-fit-beaverton/2027-09-16/
LOCATION:Gillespie Gardens\, 75 Nine Mile Road\, Beaverton\, Ontario\, L0K 1A0\, Canada
ATTACH;FMTTYPE=image/jpeg:https://www.brockchc.ca/wp-content/uploads/2023/03/gentle.jpg
END:VEVENT
BEGIN:VEVENT
DTSTART;TZID=America/Toronto:20270921T133000
DTEND;TZID=America/Toronto:20270921T143000
DTSTAMP:20260420T030943
CREATED:20250108T154256Z
LAST-MODIFIED:20251211T154948Z
UID:10003532-1821533400-1821537000@www.brockchc.ca
SUMMARY:Tai Chi Practice Sessions
DESCRIPTION:Join these community-led tai chi practice sessions to maintain awareness of the body with gentle movements that harmonize breathing with careful coordination of arm and leg movements.  All are welcome. To register\, contact Loretta Fernandes-Heaslip at 705.432.3322 ext. 106 or lfheaslip@brockchc.ca.
URL:https://www.brockchc.ca/calendar/tai-chi-practice-sessions-2/2027-09-21/
LOCATION:Gillespie Gardens\, 75 Nine Mile Road\, Beaverton\, Ontario\, L0K 1A0\, Canada
ATTACH;FMTTYPE=image/jpeg:https://www.brockchc.ca/wp-content/uploads/2023/03/iStock-864654586-scaled.jpg
END:VEVENT
BEGIN:VEVENT
DTSTART;TZID=America/Toronto:20270922T130000
DTEND;TZID=America/Toronto:20270922T140000
DTSTAMP:20260420T030943
CREATED:20240109T145607Z
LAST-MODIFIED:20240109T145608Z
UID:10006293-1821618000-1821621600@www.brockchc.ca
SUMMARY:Yoga with Michelle
DESCRIPTION:Yoga combines physical exercise\, mental meditation\, and breathing techniques to strengthen the muscles and relieve stress.  General health benefits include improved balance\, flexibility\, muscle strength and strategies to manage symptoms of chronic conditions.  This class is suitable for all levels of practice and offers hands on adjustments and modifications to each asana (pose).  To register\, contact Loretta at 705.432.3322\, ext. 106 or lfheaslip@brockchc.ca.
URL:https://www.brockchc.ca/calendar/gentle-yoga-2-2-2/2027-09-22/
LOCATION:Gillespie Gardens\, 75 Nine Mile Road\, Beaverton\, Ontario\, L0K 1A0\, Canada
ATTACH;FMTTYPE=image/jpeg:https://www.brockchc.ca/wp-content/uploads/2023/03/meditation.jpg
END:VEVENT
BEGIN:VEVENT
DTSTART;TZID=America/Toronto:20270923T130000
DTEND;TZID=America/Toronto:20270923T140000
DTSTAMP:20260420T030943
CREATED:20231222T155254Z
LAST-MODIFIED:20251211T155941Z
UID:10008272-1821704400-1821708000@www.brockchc.ca
SUMMARY:Gentle Fit Beaverton
DESCRIPTION:This low-impact exercise program is a means of improving and maintaining functional performance through strength\, balance and cardiovascular development.  Classes will aid in the prevention of future injury\, including those that may be the results of  falls.  Exercises progress at the pace of the participants and at the discretion of the instructor.  To register\, please email Jennifer at jjosephson@brockchc.ca or call 705.432.3322\, ext. 105.
URL:https://www.brockchc.ca/calendar/gentle-fit-beaverton/2027-09-23/
LOCATION:Gillespie Gardens\, 75 Nine Mile Road\, Beaverton\, Ontario\, L0K 1A0\, Canada
ATTACH;FMTTYPE=image/jpeg:https://www.brockchc.ca/wp-content/uploads/2023/03/gentle.jpg
END:VEVENT
BEGIN:VEVENT
DTSTART;TZID=America/Toronto:20270928T133000
DTEND;TZID=America/Toronto:20270928T143000
DTSTAMP:20260420T030943
CREATED:20250108T154256Z
LAST-MODIFIED:20251211T154948Z
UID:10003533-1822138200-1822141800@www.brockchc.ca
SUMMARY:Tai Chi Practice Sessions
DESCRIPTION:Join these community-led tai chi practice sessions to maintain awareness of the body with gentle movements that harmonize breathing with careful coordination of arm and leg movements.  All are welcome. To register\, contact Loretta Fernandes-Heaslip at 705.432.3322 ext. 106 or lfheaslip@brockchc.ca.
URL:https://www.brockchc.ca/calendar/tai-chi-practice-sessions-2/2027-09-28/
LOCATION:Gillespie Gardens\, 75 Nine Mile Road\, Beaverton\, Ontario\, L0K 1A0\, Canada
ATTACH;FMTTYPE=image/jpeg:https://www.brockchc.ca/wp-content/uploads/2023/03/iStock-864654586-scaled.jpg
END:VEVENT
BEGIN:VEVENT
DTSTART;TZID=America/Toronto:20270929T130000
DTEND;TZID=America/Toronto:20270929T140000
DTSTAMP:20260420T030943
CREATED:20240109T145607Z
LAST-MODIFIED:20240109T145608Z
UID:10006294-1822222800-1822226400@www.brockchc.ca
SUMMARY:Yoga with Michelle
DESCRIPTION:Yoga combines physical exercise\, mental meditation\, and breathing techniques to strengthen the muscles and relieve stress.  General health benefits include improved balance\, flexibility\, muscle strength and strategies to manage symptoms of chronic conditions.  This class is suitable for all levels of practice and offers hands on adjustments and modifications to each asana (pose).  To register\, contact Loretta at 705.432.3322\, ext. 106 or lfheaslip@brockchc.ca.
URL:https://www.brockchc.ca/calendar/gentle-yoga-2-2-2/2027-09-29/
LOCATION:Gillespie Gardens\, 75 Nine Mile Road\, Beaverton\, Ontario\, L0K 1A0\, Canada
ATTACH;FMTTYPE=image/jpeg:https://www.brockchc.ca/wp-content/uploads/2023/03/meditation.jpg
END:VEVENT
BEGIN:VEVENT
DTSTART;TZID=America/Toronto:20270930T130000
DTEND;TZID=America/Toronto:20270930T140000
DTSTAMP:20260420T030943
CREATED:20231222T155254Z
LAST-MODIFIED:20251211T155941Z
UID:10008273-1822309200-1822312800@www.brockchc.ca
SUMMARY:Gentle Fit Beaverton
DESCRIPTION:This low-impact exercise program is a means of improving and maintaining functional performance through strength\, balance and cardiovascular development.  Classes will aid in the prevention of future injury\, including those that may be the results of  falls.  Exercises progress at the pace of the participants and at the discretion of the instructor.  To register\, please email Jennifer at jjosephson@brockchc.ca or call 705.432.3322\, ext. 105.
URL:https://www.brockchc.ca/calendar/gentle-fit-beaverton/2027-09-30/
LOCATION:Gillespie Gardens\, 75 Nine Mile Road\, Beaverton\, Ontario\, L0K 1A0\, Canada
ATTACH;FMTTYPE=image/jpeg:https://www.brockchc.ca/wp-content/uploads/2023/03/gentle.jpg
END:VEVENT
BEGIN:VEVENT
DTSTART;TZID=America/Toronto:20271005T133000
DTEND;TZID=America/Toronto:20271005T143000
DTSTAMP:20260420T030943
CREATED:20250108T154256Z
LAST-MODIFIED:20251211T154948Z
UID:10003534-1822743000-1822746600@www.brockchc.ca
SUMMARY:Tai Chi Practice Sessions
DESCRIPTION:Join these community-led tai chi practice sessions to maintain awareness of the body with gentle movements that harmonize breathing with careful coordination of arm and leg movements.  All are welcome. To register\, contact Loretta Fernandes-Heaslip at 705.432.3322 ext. 106 or lfheaslip@brockchc.ca.
URL:https://www.brockchc.ca/calendar/tai-chi-practice-sessions-2/2027-10-05/
LOCATION:Gillespie Gardens\, 75 Nine Mile Road\, Beaverton\, Ontario\, L0K 1A0\, Canada
ATTACH;FMTTYPE=image/jpeg:https://www.brockchc.ca/wp-content/uploads/2023/03/iStock-864654586-scaled.jpg
END:VEVENT
BEGIN:VEVENT
DTSTART;TZID=America/Toronto:20271006T130000
DTEND;TZID=America/Toronto:20271006T140000
DTSTAMP:20260420T030943
CREATED:20240109T145607Z
LAST-MODIFIED:20240109T145608Z
UID:10006295-1822827600-1822831200@www.brockchc.ca
SUMMARY:Yoga with Michelle
DESCRIPTION:Yoga combines physical exercise\, mental meditation\, and breathing techniques to strengthen the muscles and relieve stress.  General health benefits include improved balance\, flexibility\, muscle strength and strategies to manage symptoms of chronic conditions.  This class is suitable for all levels of practice and offers hands on adjustments and modifications to each asana (pose).  To register\, contact Loretta at 705.432.3322\, ext. 106 or lfheaslip@brockchc.ca.
URL:https://www.brockchc.ca/calendar/gentle-yoga-2-2-2/2027-10-06/
LOCATION:Gillespie Gardens\, 75 Nine Mile Road\, Beaverton\, Ontario\, L0K 1A0\, Canada
ATTACH;FMTTYPE=image/jpeg:https://www.brockchc.ca/wp-content/uploads/2023/03/meditation.jpg
END:VEVENT
BEGIN:VEVENT
DTSTART;TZID=America/Toronto:20271007T130000
DTEND;TZID=America/Toronto:20271007T140000
DTSTAMP:20260420T030943
CREATED:20231222T155254Z
LAST-MODIFIED:20251211T155941Z
UID:10008274-1822914000-1822917600@www.brockchc.ca
SUMMARY:Gentle Fit Beaverton
DESCRIPTION:This low-impact exercise program is a means of improving and maintaining functional performance through strength\, balance and cardiovascular development.  Classes will aid in the prevention of future injury\, including those that may be the results of  falls.  Exercises progress at the pace of the participants and at the discretion of the instructor.  To register\, please email Jennifer at jjosephson@brockchc.ca or call 705.432.3322\, ext. 105.
URL:https://www.brockchc.ca/calendar/gentle-fit-beaverton/2027-10-07/
LOCATION:Gillespie Gardens\, 75 Nine Mile Road\, Beaverton\, Ontario\, L0K 1A0\, Canada
ATTACH;FMTTYPE=image/jpeg:https://www.brockchc.ca/wp-content/uploads/2023/03/gentle.jpg
END:VEVENT
BEGIN:VEVENT
DTSTART;TZID=America/Toronto:20271012T133000
DTEND;TZID=America/Toronto:20271012T143000
DTSTAMP:20260420T030943
CREATED:20250108T154256Z
LAST-MODIFIED:20251211T154948Z
UID:10003535-1823347800-1823351400@www.brockchc.ca
SUMMARY:Tai Chi Practice Sessions
DESCRIPTION:Join these community-led tai chi practice sessions to maintain awareness of the body with gentle movements that harmonize breathing with careful coordination of arm and leg movements.  All are welcome. To register\, contact Loretta Fernandes-Heaslip at 705.432.3322 ext. 106 or lfheaslip@brockchc.ca.
URL:https://www.brockchc.ca/calendar/tai-chi-practice-sessions-2/2027-10-12/
LOCATION:Gillespie Gardens\, 75 Nine Mile Road\, Beaverton\, Ontario\, L0K 1A0\, Canada
ATTACH;FMTTYPE=image/jpeg:https://www.brockchc.ca/wp-content/uploads/2023/03/iStock-864654586-scaled.jpg
END:VEVENT
BEGIN:VEVENT
DTSTART;TZID=America/Toronto:20271013T130000
DTEND;TZID=America/Toronto:20271013T140000
DTSTAMP:20260420T030943
CREATED:20240109T145607Z
LAST-MODIFIED:20240109T145608Z
UID:10006296-1823432400-1823436000@www.brockchc.ca
SUMMARY:Yoga with Michelle
DESCRIPTION:Yoga combines physical exercise\, mental meditation\, and breathing techniques to strengthen the muscles and relieve stress.  General health benefits include improved balance\, flexibility\, muscle strength and strategies to manage symptoms of chronic conditions.  This class is suitable for all levels of practice and offers hands on adjustments and modifications to each asana (pose).  To register\, contact Loretta at 705.432.3322\, ext. 106 or lfheaslip@brockchc.ca.
URL:https://www.brockchc.ca/calendar/gentle-yoga-2-2-2/2027-10-13/
LOCATION:Gillespie Gardens\, 75 Nine Mile Road\, Beaverton\, Ontario\, L0K 1A0\, Canada
ATTACH;FMTTYPE=image/jpeg:https://www.brockchc.ca/wp-content/uploads/2023/03/meditation.jpg
END:VEVENT
BEGIN:VEVENT
DTSTART;TZID=America/Toronto:20271014T130000
DTEND;TZID=America/Toronto:20271014T140000
DTSTAMP:20260420T030943
CREATED:20231222T155254Z
LAST-MODIFIED:20251211T155941Z
UID:10008275-1823518800-1823522400@www.brockchc.ca
SUMMARY:Gentle Fit Beaverton
DESCRIPTION:This low-impact exercise program is a means of improving and maintaining functional performance through strength\, balance and cardiovascular development.  Classes will aid in the prevention of future injury\, including those that may be the results of  falls.  Exercises progress at the pace of the participants and at the discretion of the instructor.  To register\, please email Jennifer at jjosephson@brockchc.ca or call 705.432.3322\, ext. 105.
URL:https://www.brockchc.ca/calendar/gentle-fit-beaverton/2027-10-14/
LOCATION:Gillespie Gardens\, 75 Nine Mile Road\, Beaverton\, Ontario\, L0K 1A0\, Canada
ATTACH;FMTTYPE=image/jpeg:https://www.brockchc.ca/wp-content/uploads/2023/03/gentle.jpg
END:VEVENT
BEGIN:VEVENT
DTSTART;TZID=America/Toronto:20271019T133000
DTEND;TZID=America/Toronto:20271019T143000
DTSTAMP:20260420T030943
CREATED:20250108T154256Z
LAST-MODIFIED:20251211T154948Z
UID:10003536-1823952600-1823956200@www.brockchc.ca
SUMMARY:Tai Chi Practice Sessions
DESCRIPTION:Join these community-led tai chi practice sessions to maintain awareness of the body with gentle movements that harmonize breathing with careful coordination of arm and leg movements.  All are welcome. To register\, contact Loretta Fernandes-Heaslip at 705.432.3322 ext. 106 or lfheaslip@brockchc.ca.
URL:https://www.brockchc.ca/calendar/tai-chi-practice-sessions-2/2027-10-19/
LOCATION:Gillespie Gardens\, 75 Nine Mile Road\, Beaverton\, Ontario\, L0K 1A0\, Canada
ATTACH;FMTTYPE=image/jpeg:https://www.brockchc.ca/wp-content/uploads/2023/03/iStock-864654586-scaled.jpg
END:VEVENT
BEGIN:VEVENT
DTSTART;TZID=America/Toronto:20271020T130000
DTEND;TZID=America/Toronto:20271020T140000
DTSTAMP:20260420T030943
CREATED:20240109T145607Z
LAST-MODIFIED:20240109T145608Z
UID:10006297-1824037200-1824040800@www.brockchc.ca
SUMMARY:Yoga with Michelle
DESCRIPTION:Yoga combines physical exercise\, mental meditation\, and breathing techniques to strengthen the muscles and relieve stress.  General health benefits include improved balance\, flexibility\, muscle strength and strategies to manage symptoms of chronic conditions.  This class is suitable for all levels of practice and offers hands on adjustments and modifications to each asana (pose).  To register\, contact Loretta at 705.432.3322\, ext. 106 or lfheaslip@brockchc.ca.
URL:https://www.brockchc.ca/calendar/gentle-yoga-2-2-2/2027-10-20/
LOCATION:Gillespie Gardens\, 75 Nine Mile Road\, Beaverton\, Ontario\, L0K 1A0\, Canada
ATTACH;FMTTYPE=image/jpeg:https://www.brockchc.ca/wp-content/uploads/2023/03/meditation.jpg
END:VEVENT
BEGIN:VEVENT
DTSTART;TZID=America/Toronto:20271021T130000
DTEND;TZID=America/Toronto:20271021T140000
DTSTAMP:20260420T030943
CREATED:20231222T155254Z
LAST-MODIFIED:20251211T155941Z
UID:10008276-1824123600-1824127200@www.brockchc.ca
SUMMARY:Gentle Fit Beaverton
DESCRIPTION:This low-impact exercise program is a means of improving and maintaining functional performance through strength\, balance and cardiovascular development.  Classes will aid in the prevention of future injury\, including those that may be the results of  falls.  Exercises progress at the pace of the participants and at the discretion of the instructor.  To register\, please email Jennifer at jjosephson@brockchc.ca or call 705.432.3322\, ext. 105.
URL:https://www.brockchc.ca/calendar/gentle-fit-beaverton/2027-10-21/
LOCATION:Gillespie Gardens\, 75 Nine Mile Road\, Beaverton\, Ontario\, L0K 1A0\, Canada
ATTACH;FMTTYPE=image/jpeg:https://www.brockchc.ca/wp-content/uploads/2023/03/gentle.jpg
END:VEVENT
BEGIN:VEVENT
DTSTART;TZID=America/Toronto:20271026T133000
DTEND;TZID=America/Toronto:20271026T143000
DTSTAMP:20260420T030943
CREATED:20250108T154256Z
LAST-MODIFIED:20251211T154948Z
UID:10003537-1824557400-1824561000@www.brockchc.ca
SUMMARY:Tai Chi Practice Sessions
DESCRIPTION:Join these community-led tai chi practice sessions to maintain awareness of the body with gentle movements that harmonize breathing with careful coordination of arm and leg movements.  All are welcome. To register\, contact Loretta Fernandes-Heaslip at 705.432.3322 ext. 106 or lfheaslip@brockchc.ca.
URL:https://www.brockchc.ca/calendar/tai-chi-practice-sessions-2/2027-10-26/
LOCATION:Gillespie Gardens\, 75 Nine Mile Road\, Beaverton\, Ontario\, L0K 1A0\, Canada
ATTACH;FMTTYPE=image/jpeg:https://www.brockchc.ca/wp-content/uploads/2023/03/iStock-864654586-scaled.jpg
END:VEVENT
BEGIN:VEVENT
DTSTART;TZID=America/Toronto:20271027T130000
DTEND;TZID=America/Toronto:20271027T140000
DTSTAMP:20260420T030943
CREATED:20240109T145607Z
LAST-MODIFIED:20240109T145608Z
UID:10006298-1824642000-1824645600@www.brockchc.ca
SUMMARY:Yoga with Michelle
DESCRIPTION:Yoga combines physical exercise\, mental meditation\, and breathing techniques to strengthen the muscles and relieve stress.  General health benefits include improved balance\, flexibility\, muscle strength and strategies to manage symptoms of chronic conditions.  This class is suitable for all levels of practice and offers hands on adjustments and modifications to each asana (pose).  To register\, contact Loretta at 705.432.3322\, ext. 106 or lfheaslip@brockchc.ca.
URL:https://www.brockchc.ca/calendar/gentle-yoga-2-2-2/2027-10-27/
LOCATION:Gillespie Gardens\, 75 Nine Mile Road\, Beaverton\, Ontario\, L0K 1A0\, Canada
ATTACH;FMTTYPE=image/jpeg:https://www.brockchc.ca/wp-content/uploads/2023/03/meditation.jpg
END:VEVENT
BEGIN:VEVENT
DTSTART;TZID=America/Toronto:20271028T130000
DTEND;TZID=America/Toronto:20271028T140000
DTSTAMP:20260420T030943
CREATED:20231222T155254Z
LAST-MODIFIED:20251211T155941Z
UID:10008277-1824728400-1824732000@www.brockchc.ca
SUMMARY:Gentle Fit Beaverton
DESCRIPTION:This low-impact exercise program is a means of improving and maintaining functional performance through strength\, balance and cardiovascular development.  Classes will aid in the prevention of future injury\, including those that may be the results of  falls.  Exercises progress at the pace of the participants and at the discretion of the instructor.  To register\, please email Jennifer at jjosephson@brockchc.ca or call 705.432.3322\, ext. 105.
URL:https://www.brockchc.ca/calendar/gentle-fit-beaverton/2027-10-28/
LOCATION:Gillespie Gardens\, 75 Nine Mile Road\, Beaverton\, Ontario\, L0K 1A0\, Canada
ATTACH;FMTTYPE=image/jpeg:https://www.brockchc.ca/wp-content/uploads/2023/03/gentle.jpg
END:VEVENT
BEGIN:VEVENT
DTSTART;TZID=America/Toronto:20271102T133000
DTEND;TZID=America/Toronto:20271102T143000
DTSTAMP:20260420T030943
CREATED:20250108T154256Z
LAST-MODIFIED:20251211T154948Z
UID:10003538-1825162200-1825165800@www.brockchc.ca
SUMMARY:Tai Chi Practice Sessions
DESCRIPTION:Join these community-led tai chi practice sessions to maintain awareness of the body with gentle movements that harmonize breathing with careful coordination of arm and leg movements.  All are welcome. To register\, contact Loretta Fernandes-Heaslip at 705.432.3322 ext. 106 or lfheaslip@brockchc.ca.
URL:https://www.brockchc.ca/calendar/tai-chi-practice-sessions-2/2027-11-02/
LOCATION:Gillespie Gardens\, 75 Nine Mile Road\, Beaverton\, Ontario\, L0K 1A0\, Canada
ATTACH;FMTTYPE=image/jpeg:https://www.brockchc.ca/wp-content/uploads/2023/03/iStock-864654586-scaled.jpg
END:VEVENT
BEGIN:VEVENT
DTSTART;TZID=America/Toronto:20271103T130000
DTEND;TZID=America/Toronto:20271103T140000
DTSTAMP:20260420T030943
CREATED:20240109T145607Z
LAST-MODIFIED:20240109T145608Z
UID:10006299-1825246800-1825250400@www.brockchc.ca
SUMMARY:Yoga with Michelle
DESCRIPTION:Yoga combines physical exercise\, mental meditation\, and breathing techniques to strengthen the muscles and relieve stress.  General health benefits include improved balance\, flexibility\, muscle strength and strategies to manage symptoms of chronic conditions.  This class is suitable for all levels of practice and offers hands on adjustments and modifications to each asana (pose).  To register\, contact Loretta at 705.432.3322\, ext. 106 or lfheaslip@brockchc.ca.
URL:https://www.brockchc.ca/calendar/gentle-yoga-2-2-2/2027-11-03/
LOCATION:Gillespie Gardens\, 75 Nine Mile Road\, Beaverton\, Ontario\, L0K 1A0\, Canada
ATTACH;FMTTYPE=image/jpeg:https://www.brockchc.ca/wp-content/uploads/2023/03/meditation.jpg
END:VEVENT
BEGIN:VEVENT
DTSTART;TZID=America/Toronto:20271104T130000
DTEND;TZID=America/Toronto:20271104T140000
DTSTAMP:20260420T030943
CREATED:20231222T155254Z
LAST-MODIFIED:20251211T155941Z
UID:10008278-1825333200-1825336800@www.brockchc.ca
SUMMARY:Gentle Fit Beaverton
DESCRIPTION:This low-impact exercise program is a means of improving and maintaining functional performance through strength\, balance and cardiovascular development.  Classes will aid in the prevention of future injury\, including those that may be the results of  falls.  Exercises progress at the pace of the participants and at the discretion of the instructor.  To register\, please email Jennifer at jjosephson@brockchc.ca or call 705.432.3322\, ext. 105.
URL:https://www.brockchc.ca/calendar/gentle-fit-beaverton/2027-11-04/
LOCATION:Gillespie Gardens\, 75 Nine Mile Road\, Beaverton\, Ontario\, L0K 1A0\, Canada
ATTACH;FMTTYPE=image/jpeg:https://www.brockchc.ca/wp-content/uploads/2023/03/gentle.jpg
END:VEVENT
BEGIN:VEVENT
DTSTART;TZID=America/Toronto:20271109T133000
DTEND;TZID=America/Toronto:20271109T143000
DTSTAMP:20260420T030943
CREATED:20250108T154256Z
LAST-MODIFIED:20251211T154948Z
UID:10003539-1825767000-1825770600@www.brockchc.ca
SUMMARY:Tai Chi Practice Sessions
DESCRIPTION:Join these community-led tai chi practice sessions to maintain awareness of the body with gentle movements that harmonize breathing with careful coordination of arm and leg movements.  All are welcome. To register\, contact Loretta Fernandes-Heaslip at 705.432.3322 ext. 106 or lfheaslip@brockchc.ca.
URL:https://www.brockchc.ca/calendar/tai-chi-practice-sessions-2/2027-11-09/
LOCATION:Gillespie Gardens\, 75 Nine Mile Road\, Beaverton\, Ontario\, L0K 1A0\, Canada
ATTACH;FMTTYPE=image/jpeg:https://www.brockchc.ca/wp-content/uploads/2023/03/iStock-864654586-scaled.jpg
END:VEVENT
BEGIN:VEVENT
DTSTART;TZID=America/Toronto:20271110T130000
DTEND;TZID=America/Toronto:20271110T140000
DTSTAMP:20260420T030943
CREATED:20240109T145607Z
LAST-MODIFIED:20240109T145608Z
UID:10006300-1825851600-1825855200@www.brockchc.ca
SUMMARY:Yoga with Michelle
DESCRIPTION:Yoga combines physical exercise\, mental meditation\, and breathing techniques to strengthen the muscles and relieve stress.  General health benefits include improved balance\, flexibility\, muscle strength and strategies to manage symptoms of chronic conditions.  This class is suitable for all levels of practice and offers hands on adjustments and modifications to each asana (pose).  To register\, contact Loretta at 705.432.3322\, ext. 106 or lfheaslip@brockchc.ca.
URL:https://www.brockchc.ca/calendar/gentle-yoga-2-2-2/2027-11-10/
LOCATION:Gillespie Gardens\, 75 Nine Mile Road\, Beaverton\, Ontario\, L0K 1A0\, Canada
ATTACH;FMTTYPE=image/jpeg:https://www.brockchc.ca/wp-content/uploads/2023/03/meditation.jpg
END:VEVENT
BEGIN:VEVENT
DTSTART;TZID=America/Toronto:20271111T130000
DTEND;TZID=America/Toronto:20271111T140000
DTSTAMP:20260420T030943
CREATED:20231222T155254Z
LAST-MODIFIED:20251211T155941Z
UID:10008279-1825938000-1825941600@www.brockchc.ca
SUMMARY:Gentle Fit Beaverton
DESCRIPTION:This low-impact exercise program is a means of improving and maintaining functional performance through strength\, balance and cardiovascular development.  Classes will aid in the prevention of future injury\, including those that may be the results of  falls.  Exercises progress at the pace of the participants and at the discretion of the instructor.  To register\, please email Jennifer at jjosephson@brockchc.ca or call 705.432.3322\, ext. 105.
URL:https://www.brockchc.ca/calendar/gentle-fit-beaverton/2027-11-11/
LOCATION:Gillespie Gardens\, 75 Nine Mile Road\, Beaverton\, Ontario\, L0K 1A0\, Canada
ATTACH;FMTTYPE=image/jpeg:https://www.brockchc.ca/wp-content/uploads/2023/03/gentle.jpg
END:VEVENT
END:VCALENDAR