BEGIN:VCALENDAR
VERSION:2.0
PRODID:-//Brock Community Health Centre - ECPv6.15.20//NONSGML v1.0//EN
CALSCALE:GREGORIAN
METHOD:PUBLISH
X-WR-CALNAME:Brock Community Health Centre
X-ORIGINAL-URL:https://www.brockchc.ca
X-WR-CALDESC:Events for Brock Community Health Centre
REFRESH-INTERVAL;VALUE=DURATION:PT1H
X-Robots-Tag:noindex
X-PUBLISHED-TTL:PT1H
BEGIN:VTIMEZONE
TZID:America/Toronto
BEGIN:DAYLIGHT
TZOFFSETFROM:-0500
TZOFFSETTO:-0400
TZNAME:EDT
DTSTART:20260308T070000
END:DAYLIGHT
BEGIN:STANDARD
TZOFFSETFROM:-0400
TZOFFSETTO:-0500
TZNAME:EST
DTSTART:20261101T060000
END:STANDARD
BEGIN:DAYLIGHT
TZOFFSETFROM:-0500
TZOFFSETTO:-0400
TZNAME:EDT
DTSTART:20270314T070000
END:DAYLIGHT
BEGIN:STANDARD
TZOFFSETFROM:-0400
TZOFFSETTO:-0500
TZNAME:EST
DTSTART:20271107T060000
END:STANDARD
BEGIN:DAYLIGHT
TZOFFSETFROM:-0500
TZOFFSETTO:-0400
TZNAME:EDT
DTSTART:20280312T070000
END:DAYLIGHT
BEGIN:STANDARD
TZOFFSETFROM:-0400
TZOFFSETTO:-0500
TZNAME:EST
DTSTART:20281105T060000
END:STANDARD
END:VTIMEZONE
BEGIN:VEVENT
DTSTART;TZID=America/Toronto:20270713T133000
DTEND;TZID=America/Toronto:20270713T143000
DTSTAMP:20260419T234500
CREATED:20250108T154256Z
LAST-MODIFIED:20251211T154948Z
UID:10003522-1815485400-1815489000@www.brockchc.ca
SUMMARY:Tai Chi Practice Sessions
DESCRIPTION:Join these community-led tai chi practice sessions to maintain awareness of the body with gentle movements that harmonize breathing with careful coordination of arm and leg movements.  All are welcome. To register\, contact Loretta Fernandes-Heaslip at 705.432.3322 ext. 106 or lfheaslip@brockchc.ca.
URL:https://www.brockchc.ca/calendar/tai-chi-practice-sessions-2/2027-07-13/
LOCATION:Gillespie Gardens\, 75 Nine Mile Road\, Beaverton\, Ontario\, L0K 1A0\, Canada
ATTACH;FMTTYPE=image/jpeg:https://www.brockchc.ca/wp-content/uploads/2023/03/iStock-864654586-scaled.jpg
END:VEVENT
BEGIN:VEVENT
DTSTART;TZID=America/Toronto:20270714T130000
DTEND;TZID=America/Toronto:20270714T140000
DTSTAMP:20260419T234500
CREATED:20240109T145607Z
LAST-MODIFIED:20240109T145608Z
UID:10006283-1815570000-1815573600@www.brockchc.ca
SUMMARY:Yoga with Michelle
DESCRIPTION:Yoga combines physical exercise\, mental meditation\, and breathing techniques to strengthen the muscles and relieve stress.  General health benefits include improved balance\, flexibility\, muscle strength and strategies to manage symptoms of chronic conditions.  This class is suitable for all levels of practice and offers hands on adjustments and modifications to each asana (pose).  To register\, contact Loretta at 705.432.3322\, ext. 106 or lfheaslip@brockchc.ca.
URL:https://www.brockchc.ca/calendar/gentle-yoga-2-2-2/2027-07-14/
LOCATION:Gillespie Gardens\, 75 Nine Mile Road\, Beaverton\, Ontario\, L0K 1A0\, Canada
ATTACH;FMTTYPE=image/jpeg:https://www.brockchc.ca/wp-content/uploads/2023/03/meditation.jpg
END:VEVENT
BEGIN:VEVENT
DTSTART;TZID=America/Toronto:20270715T130000
DTEND;TZID=America/Toronto:20270715T140000
DTSTAMP:20260419T234500
CREATED:20231222T155254Z
LAST-MODIFIED:20251211T155941Z
UID:10008262-1815656400-1815660000@www.brockchc.ca
SUMMARY:Gentle Fit Beaverton
DESCRIPTION:This low-impact exercise program is a means of improving and maintaining functional performance through strength\, balance and cardiovascular development.  Classes will aid in the prevention of future injury\, including those that may be the results of  falls.  Exercises progress at the pace of the participants and at the discretion of the instructor.  To register\, please email Jennifer at jjosephson@brockchc.ca or call 705.432.3322\, ext. 105.
URL:https://www.brockchc.ca/calendar/gentle-fit-beaverton/2027-07-15/
LOCATION:Gillespie Gardens\, 75 Nine Mile Road\, Beaverton\, Ontario\, L0K 1A0\, Canada
ATTACH;FMTTYPE=image/jpeg:https://www.brockchc.ca/wp-content/uploads/2023/03/gentle.jpg
END:VEVENT
BEGIN:VEVENT
DTSTART;TZID=America/Toronto:20270720T133000
DTEND;TZID=America/Toronto:20270720T143000
DTSTAMP:20260419T234500
CREATED:20250108T154256Z
LAST-MODIFIED:20251211T154948Z
UID:10003523-1816090200-1816093800@www.brockchc.ca
SUMMARY:Tai Chi Practice Sessions
DESCRIPTION:Join these community-led tai chi practice sessions to maintain awareness of the body with gentle movements that harmonize breathing with careful coordination of arm and leg movements.  All are welcome. To register\, contact Loretta Fernandes-Heaslip at 705.432.3322 ext. 106 or lfheaslip@brockchc.ca.
URL:https://www.brockchc.ca/calendar/tai-chi-practice-sessions-2/2027-07-20/
LOCATION:Gillespie Gardens\, 75 Nine Mile Road\, Beaverton\, Ontario\, L0K 1A0\, Canada
ATTACH;FMTTYPE=image/jpeg:https://www.brockchc.ca/wp-content/uploads/2023/03/iStock-864654586-scaled.jpg
END:VEVENT
BEGIN:VEVENT
DTSTART;TZID=America/Toronto:20270721T130000
DTEND;TZID=America/Toronto:20270721T140000
DTSTAMP:20260419T234500
CREATED:20240109T145607Z
LAST-MODIFIED:20240109T145608Z
UID:10006284-1816174800-1816178400@www.brockchc.ca
SUMMARY:Yoga with Michelle
DESCRIPTION:Yoga combines physical exercise\, mental meditation\, and breathing techniques to strengthen the muscles and relieve stress.  General health benefits include improved balance\, flexibility\, muscle strength and strategies to manage symptoms of chronic conditions.  This class is suitable for all levels of practice and offers hands on adjustments and modifications to each asana (pose).  To register\, contact Loretta at 705.432.3322\, ext. 106 or lfheaslip@brockchc.ca.
URL:https://www.brockchc.ca/calendar/gentle-yoga-2-2-2/2027-07-21/
LOCATION:Gillespie Gardens\, 75 Nine Mile Road\, Beaverton\, Ontario\, L0K 1A0\, Canada
ATTACH;FMTTYPE=image/jpeg:https://www.brockchc.ca/wp-content/uploads/2023/03/meditation.jpg
END:VEVENT
BEGIN:VEVENT
DTSTART;TZID=America/Toronto:20270722T130000
DTEND;TZID=America/Toronto:20270722T140000
DTSTAMP:20260419T234500
CREATED:20231222T155254Z
LAST-MODIFIED:20251211T155941Z
UID:10008263-1816261200-1816264800@www.brockchc.ca
SUMMARY:Gentle Fit Beaverton
DESCRIPTION:This low-impact exercise program is a means of improving and maintaining functional performance through strength\, balance and cardiovascular development.  Classes will aid in the prevention of future injury\, including those that may be the results of  falls.  Exercises progress at the pace of the participants and at the discretion of the instructor.  To register\, please email Jennifer at jjosephson@brockchc.ca or call 705.432.3322\, ext. 105.
URL:https://www.brockchc.ca/calendar/gentle-fit-beaverton/2027-07-22/
LOCATION:Gillespie Gardens\, 75 Nine Mile Road\, Beaverton\, Ontario\, L0K 1A0\, Canada
ATTACH;FMTTYPE=image/jpeg:https://www.brockchc.ca/wp-content/uploads/2023/03/gentle.jpg
END:VEVENT
BEGIN:VEVENT
DTSTART;TZID=America/Toronto:20270727T133000
DTEND;TZID=America/Toronto:20270727T143000
DTSTAMP:20260419T234500
CREATED:20250108T154256Z
LAST-MODIFIED:20251211T154948Z
UID:10003524-1816695000-1816698600@www.brockchc.ca
SUMMARY:Tai Chi Practice Sessions
DESCRIPTION:Join these community-led tai chi practice sessions to maintain awareness of the body with gentle movements that harmonize breathing with careful coordination of arm and leg movements.  All are welcome. To register\, contact Loretta Fernandes-Heaslip at 705.432.3322 ext. 106 or lfheaslip@brockchc.ca.
URL:https://www.brockchc.ca/calendar/tai-chi-practice-sessions-2/2027-07-27/
LOCATION:Gillespie Gardens\, 75 Nine Mile Road\, Beaverton\, Ontario\, L0K 1A0\, Canada
ATTACH;FMTTYPE=image/jpeg:https://www.brockchc.ca/wp-content/uploads/2023/03/iStock-864654586-scaled.jpg
END:VEVENT
BEGIN:VEVENT
DTSTART;TZID=America/Toronto:20270728T130000
DTEND;TZID=America/Toronto:20270728T140000
DTSTAMP:20260419T234500
CREATED:20240109T145607Z
LAST-MODIFIED:20240109T145608Z
UID:10006285-1816779600-1816783200@www.brockchc.ca
SUMMARY:Yoga with Michelle
DESCRIPTION:Yoga combines physical exercise\, mental meditation\, and breathing techniques to strengthen the muscles and relieve stress.  General health benefits include improved balance\, flexibility\, muscle strength and strategies to manage symptoms of chronic conditions.  This class is suitable for all levels of practice and offers hands on adjustments and modifications to each asana (pose).  To register\, contact Loretta at 705.432.3322\, ext. 106 or lfheaslip@brockchc.ca.
URL:https://www.brockchc.ca/calendar/gentle-yoga-2-2-2/2027-07-28/
LOCATION:Gillespie Gardens\, 75 Nine Mile Road\, Beaverton\, Ontario\, L0K 1A0\, Canada
ATTACH;FMTTYPE=image/jpeg:https://www.brockchc.ca/wp-content/uploads/2023/03/meditation.jpg
END:VEVENT
BEGIN:VEVENT
DTSTART;TZID=America/Toronto:20270729T130000
DTEND;TZID=America/Toronto:20270729T140000
DTSTAMP:20260419T234500
CREATED:20231222T155254Z
LAST-MODIFIED:20251211T155941Z
UID:10008264-1816866000-1816869600@www.brockchc.ca
SUMMARY:Gentle Fit Beaverton
DESCRIPTION:This low-impact exercise program is a means of improving and maintaining functional performance through strength\, balance and cardiovascular development.  Classes will aid in the prevention of future injury\, including those that may be the results of  falls.  Exercises progress at the pace of the participants and at the discretion of the instructor.  To register\, please email Jennifer at jjosephson@brockchc.ca or call 705.432.3322\, ext. 105.
URL:https://www.brockchc.ca/calendar/gentle-fit-beaverton/2027-07-29/
LOCATION:Gillespie Gardens\, 75 Nine Mile Road\, Beaverton\, Ontario\, L0K 1A0\, Canada
ATTACH;FMTTYPE=image/jpeg:https://www.brockchc.ca/wp-content/uploads/2023/03/gentle.jpg
END:VEVENT
BEGIN:VEVENT
DTSTART;TZID=America/Toronto:20270803T133000
DTEND;TZID=America/Toronto:20270803T143000
DTSTAMP:20260419T234500
CREATED:20250108T154256Z
LAST-MODIFIED:20251211T154948Z
UID:10003525-1817299800-1817303400@www.brockchc.ca
SUMMARY:Tai Chi Practice Sessions
DESCRIPTION:Join these community-led tai chi practice sessions to maintain awareness of the body with gentle movements that harmonize breathing with careful coordination of arm and leg movements.  All are welcome. To register\, contact Loretta Fernandes-Heaslip at 705.432.3322 ext. 106 or lfheaslip@brockchc.ca.
URL:https://www.brockchc.ca/calendar/tai-chi-practice-sessions-2/2027-08-03/
LOCATION:Gillespie Gardens\, 75 Nine Mile Road\, Beaverton\, Ontario\, L0K 1A0\, Canada
ATTACH;FMTTYPE=image/jpeg:https://www.brockchc.ca/wp-content/uploads/2023/03/iStock-864654586-scaled.jpg
END:VEVENT
BEGIN:VEVENT
DTSTART;TZID=America/Toronto:20270804T130000
DTEND;TZID=America/Toronto:20270804T140000
DTSTAMP:20260419T234500
CREATED:20240109T145607Z
LAST-MODIFIED:20240109T145608Z
UID:10006286-1817384400-1817388000@www.brockchc.ca
SUMMARY:Yoga with Michelle
DESCRIPTION:Yoga combines physical exercise\, mental meditation\, and breathing techniques to strengthen the muscles and relieve stress.  General health benefits include improved balance\, flexibility\, muscle strength and strategies to manage symptoms of chronic conditions.  This class is suitable for all levels of practice and offers hands on adjustments and modifications to each asana (pose).  To register\, contact Loretta at 705.432.3322\, ext. 106 or lfheaslip@brockchc.ca.
URL:https://www.brockchc.ca/calendar/gentle-yoga-2-2-2/2027-08-04/
LOCATION:Gillespie Gardens\, 75 Nine Mile Road\, Beaverton\, Ontario\, L0K 1A0\, Canada
ATTACH;FMTTYPE=image/jpeg:https://www.brockchc.ca/wp-content/uploads/2023/03/meditation.jpg
END:VEVENT
BEGIN:VEVENT
DTSTART;TZID=America/Toronto:20270805T130000
DTEND;TZID=America/Toronto:20270805T140000
DTSTAMP:20260419T234500
CREATED:20231222T155254Z
LAST-MODIFIED:20251211T155941Z
UID:10008265-1817470800-1817474400@www.brockchc.ca
SUMMARY:Gentle Fit Beaverton
DESCRIPTION:This low-impact exercise program is a means of improving and maintaining functional performance through strength\, balance and cardiovascular development.  Classes will aid in the prevention of future injury\, including those that may be the results of  falls.  Exercises progress at the pace of the participants and at the discretion of the instructor.  To register\, please email Jennifer at jjosephson@brockchc.ca or call 705.432.3322\, ext. 105.
URL:https://www.brockchc.ca/calendar/gentle-fit-beaverton/2027-08-05/
LOCATION:Gillespie Gardens\, 75 Nine Mile Road\, Beaverton\, Ontario\, L0K 1A0\, Canada
ATTACH;FMTTYPE=image/jpeg:https://www.brockchc.ca/wp-content/uploads/2023/03/gentle.jpg
END:VEVENT
BEGIN:VEVENT
DTSTART;TZID=America/Toronto:20270810T133000
DTEND;TZID=America/Toronto:20270810T143000
DTSTAMP:20260419T234500
CREATED:20250108T154256Z
LAST-MODIFIED:20251211T154948Z
UID:10003526-1817904600-1817908200@www.brockchc.ca
SUMMARY:Tai Chi Practice Sessions
DESCRIPTION:Join these community-led tai chi practice sessions to maintain awareness of the body with gentle movements that harmonize breathing with careful coordination of arm and leg movements.  All are welcome. To register\, contact Loretta Fernandes-Heaslip at 705.432.3322 ext. 106 or lfheaslip@brockchc.ca.
URL:https://www.brockchc.ca/calendar/tai-chi-practice-sessions-2/2027-08-10/
LOCATION:Gillespie Gardens\, 75 Nine Mile Road\, Beaverton\, Ontario\, L0K 1A0\, Canada
ATTACH;FMTTYPE=image/jpeg:https://www.brockchc.ca/wp-content/uploads/2023/03/iStock-864654586-scaled.jpg
END:VEVENT
BEGIN:VEVENT
DTSTART;TZID=America/Toronto:20270811T130000
DTEND;TZID=America/Toronto:20270811T140000
DTSTAMP:20260419T234500
CREATED:20240109T145607Z
LAST-MODIFIED:20240109T145608Z
UID:10006287-1817989200-1817992800@www.brockchc.ca
SUMMARY:Yoga with Michelle
DESCRIPTION:Yoga combines physical exercise\, mental meditation\, and breathing techniques to strengthen the muscles and relieve stress.  General health benefits include improved balance\, flexibility\, muscle strength and strategies to manage symptoms of chronic conditions.  This class is suitable for all levels of practice and offers hands on adjustments and modifications to each asana (pose).  To register\, contact Loretta at 705.432.3322\, ext. 106 or lfheaslip@brockchc.ca.
URL:https://www.brockchc.ca/calendar/gentle-yoga-2-2-2/2027-08-11/
LOCATION:Gillespie Gardens\, 75 Nine Mile Road\, Beaverton\, Ontario\, L0K 1A0\, Canada
ATTACH;FMTTYPE=image/jpeg:https://www.brockchc.ca/wp-content/uploads/2023/03/meditation.jpg
END:VEVENT
BEGIN:VEVENT
DTSTART;TZID=America/Toronto:20270812T130000
DTEND;TZID=America/Toronto:20270812T140000
DTSTAMP:20260419T234500
CREATED:20231222T155254Z
LAST-MODIFIED:20251211T155941Z
UID:10008266-1818075600-1818079200@www.brockchc.ca
SUMMARY:Gentle Fit Beaverton
DESCRIPTION:This low-impact exercise program is a means of improving and maintaining functional performance through strength\, balance and cardiovascular development.  Classes will aid in the prevention of future injury\, including those that may be the results of  falls.  Exercises progress at the pace of the participants and at the discretion of the instructor.  To register\, please email Jennifer at jjosephson@brockchc.ca or call 705.432.3322\, ext. 105.
URL:https://www.brockchc.ca/calendar/gentle-fit-beaverton/2027-08-12/
LOCATION:Gillespie Gardens\, 75 Nine Mile Road\, Beaverton\, Ontario\, L0K 1A0\, Canada
ATTACH;FMTTYPE=image/jpeg:https://www.brockchc.ca/wp-content/uploads/2023/03/gentle.jpg
END:VEVENT
BEGIN:VEVENT
DTSTART;TZID=America/Toronto:20270817T133000
DTEND;TZID=America/Toronto:20270817T143000
DTSTAMP:20260419T234500
CREATED:20250108T154256Z
LAST-MODIFIED:20251211T154948Z
UID:10003527-1818509400-1818513000@www.brockchc.ca
SUMMARY:Tai Chi Practice Sessions
DESCRIPTION:Join these community-led tai chi practice sessions to maintain awareness of the body with gentle movements that harmonize breathing with careful coordination of arm and leg movements.  All are welcome. To register\, contact Loretta Fernandes-Heaslip at 705.432.3322 ext. 106 or lfheaslip@brockchc.ca.
URL:https://www.brockchc.ca/calendar/tai-chi-practice-sessions-2/2027-08-17/
LOCATION:Gillespie Gardens\, 75 Nine Mile Road\, Beaverton\, Ontario\, L0K 1A0\, Canada
ATTACH;FMTTYPE=image/jpeg:https://www.brockchc.ca/wp-content/uploads/2023/03/iStock-864654586-scaled.jpg
END:VEVENT
BEGIN:VEVENT
DTSTART;TZID=America/Toronto:20270818T130000
DTEND;TZID=America/Toronto:20270818T140000
DTSTAMP:20260419T234500
CREATED:20240109T145607Z
LAST-MODIFIED:20240109T145608Z
UID:10006288-1818594000-1818597600@www.brockchc.ca
SUMMARY:Yoga with Michelle
DESCRIPTION:Yoga combines physical exercise\, mental meditation\, and breathing techniques to strengthen the muscles and relieve stress.  General health benefits include improved balance\, flexibility\, muscle strength and strategies to manage symptoms of chronic conditions.  This class is suitable for all levels of practice and offers hands on adjustments and modifications to each asana (pose).  To register\, contact Loretta at 705.432.3322\, ext. 106 or lfheaslip@brockchc.ca.
URL:https://www.brockchc.ca/calendar/gentle-yoga-2-2-2/2027-08-18/
LOCATION:Gillespie Gardens\, 75 Nine Mile Road\, Beaverton\, Ontario\, L0K 1A0\, Canada
ATTACH;FMTTYPE=image/jpeg:https://www.brockchc.ca/wp-content/uploads/2023/03/meditation.jpg
END:VEVENT
BEGIN:VEVENT
DTSTART;TZID=America/Toronto:20270819T130000
DTEND;TZID=America/Toronto:20270819T140000
DTSTAMP:20260419T234500
CREATED:20231222T155254Z
LAST-MODIFIED:20251211T155941Z
UID:10008267-1818680400-1818684000@www.brockchc.ca
SUMMARY:Gentle Fit Beaverton
DESCRIPTION:This low-impact exercise program is a means of improving and maintaining functional performance through strength\, balance and cardiovascular development.  Classes will aid in the prevention of future injury\, including those that may be the results of  falls.  Exercises progress at the pace of the participants and at the discretion of the instructor.  To register\, please email Jennifer at jjosephson@brockchc.ca or call 705.432.3322\, ext. 105.
URL:https://www.brockchc.ca/calendar/gentle-fit-beaverton/2027-08-19/
LOCATION:Gillespie Gardens\, 75 Nine Mile Road\, Beaverton\, Ontario\, L0K 1A0\, Canada
ATTACH;FMTTYPE=image/jpeg:https://www.brockchc.ca/wp-content/uploads/2023/03/gentle.jpg
END:VEVENT
BEGIN:VEVENT
DTSTART;TZID=America/Toronto:20270824T133000
DTEND;TZID=America/Toronto:20270824T143000
DTSTAMP:20260419T234500
CREATED:20250108T154256Z
LAST-MODIFIED:20251211T154948Z
UID:10003528-1819114200-1819117800@www.brockchc.ca
SUMMARY:Tai Chi Practice Sessions
DESCRIPTION:Join these community-led tai chi practice sessions to maintain awareness of the body with gentle movements that harmonize breathing with careful coordination of arm and leg movements.  All are welcome. To register\, contact Loretta Fernandes-Heaslip at 705.432.3322 ext. 106 or lfheaslip@brockchc.ca.
URL:https://www.brockchc.ca/calendar/tai-chi-practice-sessions-2/2027-08-24/
LOCATION:Gillespie Gardens\, 75 Nine Mile Road\, Beaverton\, Ontario\, L0K 1A0\, Canada
ATTACH;FMTTYPE=image/jpeg:https://www.brockchc.ca/wp-content/uploads/2023/03/iStock-864654586-scaled.jpg
END:VEVENT
BEGIN:VEVENT
DTSTART;TZID=America/Toronto:20270825T130000
DTEND;TZID=America/Toronto:20270825T140000
DTSTAMP:20260419T234500
CREATED:20240109T145607Z
LAST-MODIFIED:20240109T145608Z
UID:10006289-1819198800-1819202400@www.brockchc.ca
SUMMARY:Yoga with Michelle
DESCRIPTION:Yoga combines physical exercise\, mental meditation\, and breathing techniques to strengthen the muscles and relieve stress.  General health benefits include improved balance\, flexibility\, muscle strength and strategies to manage symptoms of chronic conditions.  This class is suitable for all levels of practice and offers hands on adjustments and modifications to each asana (pose).  To register\, contact Loretta at 705.432.3322\, ext. 106 or lfheaslip@brockchc.ca.
URL:https://www.brockchc.ca/calendar/gentle-yoga-2-2-2/2027-08-25/
LOCATION:Gillespie Gardens\, 75 Nine Mile Road\, Beaverton\, Ontario\, L0K 1A0\, Canada
ATTACH;FMTTYPE=image/jpeg:https://www.brockchc.ca/wp-content/uploads/2023/03/meditation.jpg
END:VEVENT
BEGIN:VEVENT
DTSTART;TZID=America/Toronto:20270826T130000
DTEND;TZID=America/Toronto:20270826T140000
DTSTAMP:20260419T234500
CREATED:20231222T155254Z
LAST-MODIFIED:20251211T155941Z
UID:10008268-1819285200-1819288800@www.brockchc.ca
SUMMARY:Gentle Fit Beaverton
DESCRIPTION:This low-impact exercise program is a means of improving and maintaining functional performance through strength\, balance and cardiovascular development.  Classes will aid in the prevention of future injury\, including those that may be the results of  falls.  Exercises progress at the pace of the participants and at the discretion of the instructor.  To register\, please email Jennifer at jjosephson@brockchc.ca or call 705.432.3322\, ext. 105.
URL:https://www.brockchc.ca/calendar/gentle-fit-beaverton/2027-08-26/
LOCATION:Gillespie Gardens\, 75 Nine Mile Road\, Beaverton\, Ontario\, L0K 1A0\, Canada
ATTACH;FMTTYPE=image/jpeg:https://www.brockchc.ca/wp-content/uploads/2023/03/gentle.jpg
END:VEVENT
BEGIN:VEVENT
DTSTART;TZID=America/Toronto:20270831T133000
DTEND;TZID=America/Toronto:20270831T143000
DTSTAMP:20260419T234500
CREATED:20250108T154256Z
LAST-MODIFIED:20251211T154948Z
UID:10003529-1819719000-1819722600@www.brockchc.ca
SUMMARY:Tai Chi Practice Sessions
DESCRIPTION:Join these community-led tai chi practice sessions to maintain awareness of the body with gentle movements that harmonize breathing with careful coordination of arm and leg movements.  All are welcome. To register\, contact Loretta Fernandes-Heaslip at 705.432.3322 ext. 106 or lfheaslip@brockchc.ca.
URL:https://www.brockchc.ca/calendar/tai-chi-practice-sessions-2/2027-08-31/
LOCATION:Gillespie Gardens\, 75 Nine Mile Road\, Beaverton\, Ontario\, L0K 1A0\, Canada
ATTACH;FMTTYPE=image/jpeg:https://www.brockchc.ca/wp-content/uploads/2023/03/iStock-864654586-scaled.jpg
END:VEVENT
BEGIN:VEVENT
DTSTART;TZID=America/Toronto:20270901T130000
DTEND;TZID=America/Toronto:20270901T140000
DTSTAMP:20260419T234500
CREATED:20240109T145607Z
LAST-MODIFIED:20240109T145608Z
UID:10006290-1819803600-1819807200@www.brockchc.ca
SUMMARY:Yoga with Michelle
DESCRIPTION:Yoga combines physical exercise\, mental meditation\, and breathing techniques to strengthen the muscles and relieve stress.  General health benefits include improved balance\, flexibility\, muscle strength and strategies to manage symptoms of chronic conditions.  This class is suitable for all levels of practice and offers hands on adjustments and modifications to each asana (pose).  To register\, contact Loretta at 705.432.3322\, ext. 106 or lfheaslip@brockchc.ca.
URL:https://www.brockchc.ca/calendar/gentle-yoga-2-2-2/2027-09-01/
LOCATION:Gillespie Gardens\, 75 Nine Mile Road\, Beaverton\, Ontario\, L0K 1A0\, Canada
ATTACH;FMTTYPE=image/jpeg:https://www.brockchc.ca/wp-content/uploads/2023/03/meditation.jpg
END:VEVENT
BEGIN:VEVENT
DTSTART;TZID=America/Toronto:20270902T130000
DTEND;TZID=America/Toronto:20270902T140000
DTSTAMP:20260419T234500
CREATED:20231222T155254Z
LAST-MODIFIED:20251211T155941Z
UID:10008269-1819890000-1819893600@www.brockchc.ca
SUMMARY:Gentle Fit Beaverton
DESCRIPTION:This low-impact exercise program is a means of improving and maintaining functional performance through strength\, balance and cardiovascular development.  Classes will aid in the prevention of future injury\, including those that may be the results of  falls.  Exercises progress at the pace of the participants and at the discretion of the instructor.  To register\, please email Jennifer at jjosephson@brockchc.ca or call 705.432.3322\, ext. 105.
URL:https://www.brockchc.ca/calendar/gentle-fit-beaverton/2027-09-02/
LOCATION:Gillespie Gardens\, 75 Nine Mile Road\, Beaverton\, Ontario\, L0K 1A0\, Canada
ATTACH;FMTTYPE=image/jpeg:https://www.brockchc.ca/wp-content/uploads/2023/03/gentle.jpg
END:VEVENT
BEGIN:VEVENT
DTSTART;TZID=America/Toronto:20270907T133000
DTEND;TZID=America/Toronto:20270907T143000
DTSTAMP:20260419T234500
CREATED:20250108T154256Z
LAST-MODIFIED:20251211T154948Z
UID:10003530-1820323800-1820327400@www.brockchc.ca
SUMMARY:Tai Chi Practice Sessions
DESCRIPTION:Join these community-led tai chi practice sessions to maintain awareness of the body with gentle movements that harmonize breathing with careful coordination of arm and leg movements.  All are welcome. To register\, contact Loretta Fernandes-Heaslip at 705.432.3322 ext. 106 or lfheaslip@brockchc.ca.
URL:https://www.brockchc.ca/calendar/tai-chi-practice-sessions-2/2027-09-07/
LOCATION:Gillespie Gardens\, 75 Nine Mile Road\, Beaverton\, Ontario\, L0K 1A0\, Canada
ATTACH;FMTTYPE=image/jpeg:https://www.brockchc.ca/wp-content/uploads/2023/03/iStock-864654586-scaled.jpg
END:VEVENT
BEGIN:VEVENT
DTSTART;TZID=America/Toronto:20270908T130000
DTEND;TZID=America/Toronto:20270908T140000
DTSTAMP:20260419T234500
CREATED:20240109T145607Z
LAST-MODIFIED:20240109T145608Z
UID:10006291-1820408400-1820412000@www.brockchc.ca
SUMMARY:Yoga with Michelle
DESCRIPTION:Yoga combines physical exercise\, mental meditation\, and breathing techniques to strengthen the muscles and relieve stress.  General health benefits include improved balance\, flexibility\, muscle strength and strategies to manage symptoms of chronic conditions.  This class is suitable for all levels of practice and offers hands on adjustments and modifications to each asana (pose).  To register\, contact Loretta at 705.432.3322\, ext. 106 or lfheaslip@brockchc.ca.
URL:https://www.brockchc.ca/calendar/gentle-yoga-2-2-2/2027-09-08/
LOCATION:Gillespie Gardens\, 75 Nine Mile Road\, Beaverton\, Ontario\, L0K 1A0\, Canada
ATTACH;FMTTYPE=image/jpeg:https://www.brockchc.ca/wp-content/uploads/2023/03/meditation.jpg
END:VEVENT
BEGIN:VEVENT
DTSTART;TZID=America/Toronto:20270909T130000
DTEND;TZID=America/Toronto:20270909T140000
DTSTAMP:20260419T234500
CREATED:20231222T155254Z
LAST-MODIFIED:20251211T155941Z
UID:10008270-1820494800-1820498400@www.brockchc.ca
SUMMARY:Gentle Fit Beaverton
DESCRIPTION:This low-impact exercise program is a means of improving and maintaining functional performance through strength\, balance and cardiovascular development.  Classes will aid in the prevention of future injury\, including those that may be the results of  falls.  Exercises progress at the pace of the participants and at the discretion of the instructor.  To register\, please email Jennifer at jjosephson@brockchc.ca or call 705.432.3322\, ext. 105.
URL:https://www.brockchc.ca/calendar/gentle-fit-beaverton/2027-09-09/
LOCATION:Gillespie Gardens\, 75 Nine Mile Road\, Beaverton\, Ontario\, L0K 1A0\, Canada
ATTACH;FMTTYPE=image/jpeg:https://www.brockchc.ca/wp-content/uploads/2023/03/gentle.jpg
END:VEVENT
BEGIN:VEVENT
DTSTART;TZID=America/Toronto:20270914T133000
DTEND;TZID=America/Toronto:20270914T143000
DTSTAMP:20260419T234500
CREATED:20250108T154256Z
LAST-MODIFIED:20251211T154948Z
UID:10003531-1820928600-1820932200@www.brockchc.ca
SUMMARY:Tai Chi Practice Sessions
DESCRIPTION:Join these community-led tai chi practice sessions to maintain awareness of the body with gentle movements that harmonize breathing with careful coordination of arm and leg movements.  All are welcome. To register\, contact Loretta Fernandes-Heaslip at 705.432.3322 ext. 106 or lfheaslip@brockchc.ca.
URL:https://www.brockchc.ca/calendar/tai-chi-practice-sessions-2/2027-09-14/
LOCATION:Gillespie Gardens\, 75 Nine Mile Road\, Beaverton\, Ontario\, L0K 1A0\, Canada
ATTACH;FMTTYPE=image/jpeg:https://www.brockchc.ca/wp-content/uploads/2023/03/iStock-864654586-scaled.jpg
END:VEVENT
BEGIN:VEVENT
DTSTART;TZID=America/Toronto:20270915T130000
DTEND;TZID=America/Toronto:20270915T140000
DTSTAMP:20260419T234500
CREATED:20240109T145607Z
LAST-MODIFIED:20240109T145608Z
UID:10006292-1821013200-1821016800@www.brockchc.ca
SUMMARY:Yoga with Michelle
DESCRIPTION:Yoga combines physical exercise\, mental meditation\, and breathing techniques to strengthen the muscles and relieve stress.  General health benefits include improved balance\, flexibility\, muscle strength and strategies to manage symptoms of chronic conditions.  This class is suitable for all levels of practice and offers hands on adjustments and modifications to each asana (pose).  To register\, contact Loretta at 705.432.3322\, ext. 106 or lfheaslip@brockchc.ca.
URL:https://www.brockchc.ca/calendar/gentle-yoga-2-2-2/2027-09-15/
LOCATION:Gillespie Gardens\, 75 Nine Mile Road\, Beaverton\, Ontario\, L0K 1A0\, Canada
ATTACH;FMTTYPE=image/jpeg:https://www.brockchc.ca/wp-content/uploads/2023/03/meditation.jpg
END:VEVENT
BEGIN:VEVENT
DTSTART;TZID=America/Toronto:20270916T130000
DTEND;TZID=America/Toronto:20270916T140000
DTSTAMP:20260419T234500
CREATED:20231222T155254Z
LAST-MODIFIED:20251211T155941Z
UID:10008271-1821099600-1821103200@www.brockchc.ca
SUMMARY:Gentle Fit Beaverton
DESCRIPTION:This low-impact exercise program is a means of improving and maintaining functional performance through strength\, balance and cardiovascular development.  Classes will aid in the prevention of future injury\, including those that may be the results of  falls.  Exercises progress at the pace of the participants and at the discretion of the instructor.  To register\, please email Jennifer at jjosephson@brockchc.ca or call 705.432.3322\, ext. 105.
URL:https://www.brockchc.ca/calendar/gentle-fit-beaverton/2027-09-16/
LOCATION:Gillespie Gardens\, 75 Nine Mile Road\, Beaverton\, Ontario\, L0K 1A0\, Canada
ATTACH;FMTTYPE=image/jpeg:https://www.brockchc.ca/wp-content/uploads/2023/03/gentle.jpg
END:VEVENT
END:VCALENDAR