BEGIN:VCALENDAR
VERSION:2.0
PRODID:-//Brock Community Health Centre - ECPv6.15.20//NONSGML v1.0//EN
CALSCALE:GREGORIAN
METHOD:PUBLISH
X-ORIGINAL-URL:https://www.brockchc.ca
X-WR-CALDESC:Events for Brock Community Health Centre
REFRESH-INTERVAL;VALUE=DURATION:PT1H
X-Robots-Tag:noindex
X-PUBLISHED-TTL:PT1H
BEGIN:VTIMEZONE
TZID:America/Toronto
BEGIN:DAYLIGHT
TZOFFSETFROM:-0500
TZOFFSETTO:-0400
TZNAME:EDT
DTSTART:20300310T070000
END:DAYLIGHT
BEGIN:STANDARD
TZOFFSETFROM:-0400
TZOFFSETTO:-0500
TZNAME:EST
DTSTART:20301103T060000
END:STANDARD
BEGIN:DAYLIGHT
TZOFFSETFROM:-0500
TZOFFSETTO:-0400
TZNAME:EDT
DTSTART:20310309T070000
END:DAYLIGHT
BEGIN:STANDARD
TZOFFSETFROM:-0400
TZOFFSETTO:-0500
TZNAME:EST
DTSTART:20311102T060000
END:STANDARD
BEGIN:DAYLIGHT
TZOFFSETFROM:-0500
TZOFFSETTO:-0400
TZNAME:EDT
DTSTART:20320314T070000
END:DAYLIGHT
BEGIN:STANDARD
TZOFFSETFROM:-0400
TZOFFSETTO:-0500
TZNAME:EST
DTSTART:20321107T060000
END:STANDARD
END:VTIMEZONE
BEGIN:VEVENT
DTSTART;TZID=America/Toronto:20310218T110000
DTEND;TZID=America/Toronto:20310218T120000
DTSTAMP:20260419T135744
CREATED:20250108T153803Z
LAST-MODIFIED:20250108T153914Z
UID:10012716-1929178800-1929182400@www.brockchc.ca
SUMMARY:Drumming for Health
DESCRIPTION:Participants will learn basic hand drumming techniques using a variety of African hand drums and world percussion instruments and enjoy fun rhythm based activities while creating songs together.  No experience necessary. To register\, contact Loretta Fernandes-Heaslip at 705.432.3322 ext. 106 or lfheaslip@brockchc.ca.
URL:https://www.brockchc.ca/calendar/drumming-for-health-2/2031-02-18/
LOCATION:Foster Hewitt Memorial Community Centre\, 176 Main Street\, Beaverton\, Ontario\, L0K 1A0\, Canada
ATTACH;FMTTYPE=image/jpeg:https://www.brockchc.ca/wp-content/uploads/2023/08/drumming_iStock-1417424885-1-scaled-e1692626042412.jpg
END:VEVENT
BEGIN:VEVENT
DTSTART;TZID=America/Toronto:20310225T110000
DTEND;TZID=America/Toronto:20310225T120000
DTSTAMP:20260419T135744
CREATED:20250108T153803Z
LAST-MODIFIED:20250108T153914Z
UID:10012843-1929783600-1929787200@www.brockchc.ca
SUMMARY:Drumming for Health
DESCRIPTION:Participants will learn basic hand drumming techniques using a variety of African hand drums and world percussion instruments and enjoy fun rhythm based activities while creating songs together.  No experience necessary. To register\, contact Loretta Fernandes-Heaslip at 705.432.3322 ext. 106 or lfheaslip@brockchc.ca.
URL:https://www.brockchc.ca/calendar/drumming-for-health-2/2031-02-25/
LOCATION:Foster Hewitt Memorial Community Centre\, 176 Main Street\, Beaverton\, Ontario\, L0K 1A0\, Canada
ATTACH;FMTTYPE=image/jpeg:https://www.brockchc.ca/wp-content/uploads/2023/08/drumming_iStock-1417424885-1-scaled-e1692626042412.jpg
END:VEVENT
BEGIN:VEVENT
DTSTART;TZID=America/Toronto:20310304T110000
DTEND;TZID=America/Toronto:20310304T120000
DTSTAMP:20260419T135744
CREATED:20250108T153803Z
LAST-MODIFIED:20250108T153914Z
UID:10012868-1930388400-1930392000@www.brockchc.ca
SUMMARY:Drumming for Health
DESCRIPTION:Participants will learn basic hand drumming techniques using a variety of African hand drums and world percussion instruments and enjoy fun rhythm based activities while creating songs together.  No experience necessary. To register\, contact Loretta Fernandes-Heaslip at 705.432.3322 ext. 106 or lfheaslip@brockchc.ca.
URL:https://www.brockchc.ca/calendar/drumming-for-health-2/2031-03-04/
LOCATION:Foster Hewitt Memorial Community Centre\, 176 Main Street\, Beaverton\, Ontario\, L0K 1A0\, Canada
ATTACH;FMTTYPE=image/jpeg:https://www.brockchc.ca/wp-content/uploads/2023/08/drumming_iStock-1417424885-1-scaled-e1692626042412.jpg
END:VEVENT
BEGIN:VEVENT
DTSTART;TZID=America/Toronto:20310311T110000
DTEND;TZID=America/Toronto:20310311T120000
DTSTAMP:20260419T135744
CREATED:20250108T153803Z
LAST-MODIFIED:20250108T153914Z
UID:10012887-1930993200-1930996800@www.brockchc.ca
SUMMARY:Drumming for Health
DESCRIPTION:Participants will learn basic hand drumming techniques using a variety of African hand drums and world percussion instruments and enjoy fun rhythm based activities while creating songs together.  No experience necessary. To register\, contact Loretta Fernandes-Heaslip at 705.432.3322 ext. 106 or lfheaslip@brockchc.ca.
URL:https://www.brockchc.ca/calendar/drumming-for-health-2/2031-03-11/
LOCATION:Foster Hewitt Memorial Community Centre\, 176 Main Street\, Beaverton\, Ontario\, L0K 1A0\, Canada
ATTACH;FMTTYPE=image/jpeg:https://www.brockchc.ca/wp-content/uploads/2023/08/drumming_iStock-1417424885-1-scaled-e1692626042412.jpg
END:VEVENT
BEGIN:VEVENT
DTSTART;TZID=America/Toronto:20310318T110000
DTEND;TZID=America/Toronto:20310318T120000
DTSTAMP:20260419T135744
CREATED:20250108T153803Z
LAST-MODIFIED:20250108T153914Z
UID:10012906-1931598000-1931601600@www.brockchc.ca
SUMMARY:Drumming for Health
DESCRIPTION:Participants will learn basic hand drumming techniques using a variety of African hand drums and world percussion instruments and enjoy fun rhythm based activities while creating songs together.  No experience necessary. To register\, contact Loretta Fernandes-Heaslip at 705.432.3322 ext. 106 or lfheaslip@brockchc.ca.
URL:https://www.brockchc.ca/calendar/drumming-for-health-2/2031-03-18/
LOCATION:Foster Hewitt Memorial Community Centre\, 176 Main Street\, Beaverton\, Ontario\, L0K 1A0\, Canada
ATTACH;FMTTYPE=image/jpeg:https://www.brockchc.ca/wp-content/uploads/2023/08/drumming_iStock-1417424885-1-scaled-e1692626042412.jpg
END:VEVENT
BEGIN:VEVENT
DTSTART;TZID=America/Toronto:20310325T110000
DTEND;TZID=America/Toronto:20310325T120000
DTSTAMP:20260419T135744
CREATED:20250108T153803Z
LAST-MODIFIED:20250108T153914Z
UID:10012932-1932202800-1932206400@www.brockchc.ca
SUMMARY:Drumming for Health
DESCRIPTION:Participants will learn basic hand drumming techniques using a variety of African hand drums and world percussion instruments and enjoy fun rhythm based activities while creating songs together.  No experience necessary. To register\, contact Loretta Fernandes-Heaslip at 705.432.3322 ext. 106 or lfheaslip@brockchc.ca.
URL:https://www.brockchc.ca/calendar/drumming-for-health-2/2031-03-25/
LOCATION:Foster Hewitt Memorial Community Centre\, 176 Main Street\, Beaverton\, Ontario\, L0K 1A0\, Canada
ATTACH;FMTTYPE=image/jpeg:https://www.brockchc.ca/wp-content/uploads/2023/08/drumming_iStock-1417424885-1-scaled-e1692626042412.jpg
END:VEVENT
BEGIN:VEVENT
DTSTART;TZID=America/Toronto:20310401T110000
DTEND;TZID=America/Toronto:20310401T120000
DTSTAMP:20260419T135744
CREATED:20250108T153803Z
LAST-MODIFIED:20250108T153914Z
UID:10012933-1932807600-1932811200@www.brockchc.ca
SUMMARY:Drumming for Health
DESCRIPTION:Participants will learn basic hand drumming techniques using a variety of African hand drums and world percussion instruments and enjoy fun rhythm based activities while creating songs together.  No experience necessary. To register\, contact Loretta Fernandes-Heaslip at 705.432.3322 ext. 106 or lfheaslip@brockchc.ca.
URL:https://www.brockchc.ca/calendar/drumming-for-health-2/2031-04-01/
LOCATION:Foster Hewitt Memorial Community Centre\, 176 Main Street\, Beaverton\, Ontario\, L0K 1A0\, Canada
ATTACH;FMTTYPE=image/jpeg:https://www.brockchc.ca/wp-content/uploads/2023/08/drumming_iStock-1417424885-1-scaled-e1692626042412.jpg
END:VEVENT
BEGIN:VEVENT
DTSTART;TZID=America/Toronto:20310408T110000
DTEND;TZID=America/Toronto:20310408T120000
DTSTAMP:20260419T135744
CREATED:20250108T153803Z
LAST-MODIFIED:20250108T153914Z
UID:10012958-1933412400-1933416000@www.brockchc.ca
SUMMARY:Drumming for Health
DESCRIPTION:Participants will learn basic hand drumming techniques using a variety of African hand drums and world percussion instruments and enjoy fun rhythm based activities while creating songs together.  No experience necessary. To register\, contact Loretta Fernandes-Heaslip at 705.432.3322 ext. 106 or lfheaslip@brockchc.ca.
URL:https://www.brockchc.ca/calendar/drumming-for-health-2/2031-04-08/
LOCATION:Foster Hewitt Memorial Community Centre\, 176 Main Street\, Beaverton\, Ontario\, L0K 1A0\, Canada
ATTACH;FMTTYPE=image/jpeg:https://www.brockchc.ca/wp-content/uploads/2023/08/drumming_iStock-1417424885-1-scaled-e1692626042412.jpg
END:VEVENT
BEGIN:VEVENT
DTSTART;TZID=America/Toronto:20310415T110000
DTEND;TZID=America/Toronto:20310415T120000
DTSTAMP:20260419T135744
CREATED:20250108T153803Z
LAST-MODIFIED:20250108T153914Z
UID:10012977-1934017200-1934020800@www.brockchc.ca
SUMMARY:Drumming for Health
DESCRIPTION:Participants will learn basic hand drumming techniques using a variety of African hand drums and world percussion instruments and enjoy fun rhythm based activities while creating songs together.  No experience necessary. To register\, contact Loretta Fernandes-Heaslip at 705.432.3322 ext. 106 or lfheaslip@brockchc.ca.
URL:https://www.brockchc.ca/calendar/drumming-for-health-2/2031-04-15/
LOCATION:Foster Hewitt Memorial Community Centre\, 176 Main Street\, Beaverton\, Ontario\, L0K 1A0\, Canada
ATTACH;FMTTYPE=image/jpeg:https://www.brockchc.ca/wp-content/uploads/2023/08/drumming_iStock-1417424885-1-scaled-e1692626042412.jpg
END:VEVENT
END:VCALENDAR