BEGIN:VCALENDAR
VERSION:2.0
PRODID:-//Brock Community Health Centre - ECPv6.15.20//NONSGML v1.0//EN
CALSCALE:GREGORIAN
METHOD:PUBLISH
X-ORIGINAL-URL:https://www.brockchc.ca
X-WR-CALDESC:Events for Brock Community Health Centre
REFRESH-INTERVAL;VALUE=DURATION:PT1H
X-Robots-Tag:noindex
X-PUBLISHED-TTL:PT1H
BEGIN:VTIMEZONE
TZID:America/Toronto
BEGIN:DAYLIGHT
TZOFFSETFROM:-0500
TZOFFSETTO:-0400
TZNAME:EDT
DTSTART:20290311T070000
END:DAYLIGHT
BEGIN:STANDARD
TZOFFSETFROM:-0400
TZOFFSETTO:-0500
TZNAME:EST
DTSTART:20291104T060000
END:STANDARD
BEGIN:DAYLIGHT
TZOFFSETFROM:-0500
TZOFFSETTO:-0400
TZNAME:EDT
DTSTART:20300310T070000
END:DAYLIGHT
BEGIN:STANDARD
TZOFFSETFROM:-0400
TZOFFSETTO:-0500
TZNAME:EST
DTSTART:20301103T060000
END:STANDARD
BEGIN:DAYLIGHT
TZOFFSETFROM:-0500
TZOFFSETTO:-0400
TZNAME:EDT
DTSTART:20310309T070000
END:DAYLIGHT
BEGIN:STANDARD
TZOFFSETFROM:-0400
TZOFFSETTO:-0500
TZNAME:EST
DTSTART:20311102T060000
END:STANDARD
END:VTIMEZONE
BEGIN:VEVENT
DTSTART;TZID=America/Toronto:20300611T110000
DTEND;TZID=America/Toronto:20300611T120000
DTSTAMP:20260419T095329
CREATED:20250108T153803Z
LAST-MODIFIED:20250108T153914Z
UID:10011553-1907406000-1907409600@www.brockchc.ca
SUMMARY:Drumming for Health
DESCRIPTION:Participants will learn basic hand drumming techniques using a variety of African hand drums and world percussion instruments and enjoy fun rhythm based activities while creating songs together.  No experience necessary. To register\, contact Loretta Fernandes-Heaslip at 705.432.3322 ext. 106 or lfheaslip@brockchc.ca.
URL:https://www.brockchc.ca/calendar/drumming-for-health-2/2030-06-11/
LOCATION:Foster Hewitt Memorial Community Centre\, 176 Main Street\, Beaverton\, Ontario\, L0K 1A0\, Canada
ATTACH;FMTTYPE=image/jpeg:https://www.brockchc.ca/wp-content/uploads/2023/08/drumming_iStock-1417424885-1-scaled-e1692626042412.jpg
END:VEVENT
BEGIN:VEVENT
DTSTART;TZID=America/Toronto:20300618T110000
DTEND;TZID=America/Toronto:20300618T120000
DTSTAMP:20260419T095329
CREATED:20250108T153803Z
LAST-MODIFIED:20250108T153914Z
UID:10011570-1908010800-1908014400@www.brockchc.ca
SUMMARY:Drumming for Health
DESCRIPTION:Participants will learn basic hand drumming techniques using a variety of African hand drums and world percussion instruments and enjoy fun rhythm based activities while creating songs together.  No experience necessary. To register\, contact Loretta Fernandes-Heaslip at 705.432.3322 ext. 106 or lfheaslip@brockchc.ca.
URL:https://www.brockchc.ca/calendar/drumming-for-health-2/2030-06-18/
LOCATION:Foster Hewitt Memorial Community Centre\, 176 Main Street\, Beaverton\, Ontario\, L0K 1A0\, Canada
ATTACH;FMTTYPE=image/jpeg:https://www.brockchc.ca/wp-content/uploads/2023/08/drumming_iStock-1417424885-1-scaled-e1692626042412.jpg
END:VEVENT
BEGIN:VEVENT
DTSTART;TZID=America/Toronto:20300625T110000
DTEND;TZID=America/Toronto:20300625T120000
DTSTAMP:20260419T095329
CREATED:20250108T153803Z
LAST-MODIFIED:20250108T153914Z
UID:10011587-1908615600-1908619200@www.brockchc.ca
SUMMARY:Drumming for Health
DESCRIPTION:Participants will learn basic hand drumming techniques using a variety of African hand drums and world percussion instruments and enjoy fun rhythm based activities while creating songs together.  No experience necessary. To register\, contact Loretta Fernandes-Heaslip at 705.432.3322 ext. 106 or lfheaslip@brockchc.ca.
URL:https://www.brockchc.ca/calendar/drumming-for-health-2/2030-06-25/
LOCATION:Foster Hewitt Memorial Community Centre\, 176 Main Street\, Beaverton\, Ontario\, L0K 1A0\, Canada
ATTACH;FMTTYPE=image/jpeg:https://www.brockchc.ca/wp-content/uploads/2023/08/drumming_iStock-1417424885-1-scaled-e1692626042412.jpg
END:VEVENT
BEGIN:VEVENT
DTSTART;TZID=America/Toronto:20300702T110000
DTEND;TZID=America/Toronto:20300702T120000
DTSTAMP:20260419T095329
CREATED:20250108T153803Z
LAST-MODIFIED:20250108T153914Z
UID:10011603-1909220400-1909224000@www.brockchc.ca
SUMMARY:Drumming for Health
DESCRIPTION:Participants will learn basic hand drumming techniques using a variety of African hand drums and world percussion instruments and enjoy fun rhythm based activities while creating songs together.  No experience necessary. To register\, contact Loretta Fernandes-Heaslip at 705.432.3322 ext. 106 or lfheaslip@brockchc.ca.
URL:https://www.brockchc.ca/calendar/drumming-for-health-2/2030-07-02/
LOCATION:Foster Hewitt Memorial Community Centre\, 176 Main Street\, Beaverton\, Ontario\, L0K 1A0\, Canada
ATTACH;FMTTYPE=image/jpeg:https://www.brockchc.ca/wp-content/uploads/2023/08/drumming_iStock-1417424885-1-scaled-e1692626042412.jpg
END:VEVENT
BEGIN:VEVENT
DTSTART;TZID=America/Toronto:20300709T110000
DTEND;TZID=America/Toronto:20300709T120000
DTSTAMP:20260419T095329
CREATED:20250108T153803Z
LAST-MODIFIED:20250108T153914Z
UID:10011620-1909825200-1909828800@www.brockchc.ca
SUMMARY:Drumming for Health
DESCRIPTION:Participants will learn basic hand drumming techniques using a variety of African hand drums and world percussion instruments and enjoy fun rhythm based activities while creating songs together.  No experience necessary. To register\, contact Loretta Fernandes-Heaslip at 705.432.3322 ext. 106 or lfheaslip@brockchc.ca.
URL:https://www.brockchc.ca/calendar/drumming-for-health-2/2030-07-09/
LOCATION:Foster Hewitt Memorial Community Centre\, 176 Main Street\, Beaverton\, Ontario\, L0K 1A0\, Canada
ATTACH;FMTTYPE=image/jpeg:https://www.brockchc.ca/wp-content/uploads/2023/08/drumming_iStock-1417424885-1-scaled-e1692626042412.jpg
END:VEVENT
BEGIN:VEVENT
DTSTART;TZID=America/Toronto:20300716T110000
DTEND;TZID=America/Toronto:20300716T120000
DTSTAMP:20260419T095329
CREATED:20250108T153803Z
LAST-MODIFIED:20250108T153914Z
UID:10011637-1910430000-1910433600@www.brockchc.ca
SUMMARY:Drumming for Health
DESCRIPTION:Participants will learn basic hand drumming techniques using a variety of African hand drums and world percussion instruments and enjoy fun rhythm based activities while creating songs together.  No experience necessary. To register\, contact Loretta Fernandes-Heaslip at 705.432.3322 ext. 106 or lfheaslip@brockchc.ca.
URL:https://www.brockchc.ca/calendar/drumming-for-health-2/2030-07-16/
LOCATION:Foster Hewitt Memorial Community Centre\, 176 Main Street\, Beaverton\, Ontario\, L0K 1A0\, Canada
ATTACH;FMTTYPE=image/jpeg:https://www.brockchc.ca/wp-content/uploads/2023/08/drumming_iStock-1417424885-1-scaled-e1692626042412.jpg
END:VEVENT
BEGIN:VEVENT
DTSTART;TZID=America/Toronto:20300723T110000
DTEND;TZID=America/Toronto:20300723T120000
DTSTAMP:20260419T095329
CREATED:20250108T153803Z
LAST-MODIFIED:20250108T153914Z
UID:10011654-1911034800-1911038400@www.brockchc.ca
SUMMARY:Drumming for Health
DESCRIPTION:Participants will learn basic hand drumming techniques using a variety of African hand drums and world percussion instruments and enjoy fun rhythm based activities while creating songs together.  No experience necessary. To register\, contact Loretta Fernandes-Heaslip at 705.432.3322 ext. 106 or lfheaslip@brockchc.ca.
URL:https://www.brockchc.ca/calendar/drumming-for-health-2/2030-07-23/
LOCATION:Foster Hewitt Memorial Community Centre\, 176 Main Street\, Beaverton\, Ontario\, L0K 1A0\, Canada
ATTACH;FMTTYPE=image/jpeg:https://www.brockchc.ca/wp-content/uploads/2023/08/drumming_iStock-1417424885-1-scaled-e1692626042412.jpg
END:VEVENT
BEGIN:VEVENT
DTSTART;TZID=America/Toronto:20300730T110000
DTEND;TZID=America/Toronto:20300730T120000
DTSTAMP:20260419T095329
CREATED:20250108T153803Z
LAST-MODIFIED:20250108T153914Z
UID:10011672-1911639600-1911643200@www.brockchc.ca
SUMMARY:Drumming for Health
DESCRIPTION:Participants will learn basic hand drumming techniques using a variety of African hand drums and world percussion instruments and enjoy fun rhythm based activities while creating songs together.  No experience necessary. To register\, contact Loretta Fernandes-Heaslip at 705.432.3322 ext. 106 or lfheaslip@brockchc.ca.
URL:https://www.brockchc.ca/calendar/drumming-for-health-2/2030-07-30/
LOCATION:Foster Hewitt Memorial Community Centre\, 176 Main Street\, Beaverton\, Ontario\, L0K 1A0\, Canada
ATTACH;FMTTYPE=image/jpeg:https://www.brockchc.ca/wp-content/uploads/2023/08/drumming_iStock-1417424885-1-scaled-e1692626042412.jpg
END:VEVENT
BEGIN:VEVENT
DTSTART;TZID=America/Toronto:20300806T110000
DTEND;TZID=America/Toronto:20300806T120000
DTSTAMP:20260419T095329
CREATED:20250108T153803Z
LAST-MODIFIED:20250108T153914Z
UID:10011689-1912244400-1912248000@www.brockchc.ca
SUMMARY:Drumming for Health
DESCRIPTION:Participants will learn basic hand drumming techniques using a variety of African hand drums and world percussion instruments and enjoy fun rhythm based activities while creating songs together.  No experience necessary. To register\, contact Loretta Fernandes-Heaslip at 705.432.3322 ext. 106 or lfheaslip@brockchc.ca.
URL:https://www.brockchc.ca/calendar/drumming-for-health-2/2030-08-06/
LOCATION:Foster Hewitt Memorial Community Centre\, 176 Main Street\, Beaverton\, Ontario\, L0K 1A0\, Canada
ATTACH;FMTTYPE=image/jpeg:https://www.brockchc.ca/wp-content/uploads/2023/08/drumming_iStock-1417424885-1-scaled-e1692626042412.jpg
END:VEVENT
BEGIN:VEVENT
DTSTART;TZID=America/Toronto:20300813T110000
DTEND;TZID=America/Toronto:20300813T120000
DTSTAMP:20260419T095329
CREATED:20250108T153803Z
LAST-MODIFIED:20250108T153914Z
UID:10011706-1912849200-1912852800@www.brockchc.ca
SUMMARY:Drumming for Health
DESCRIPTION:Participants will learn basic hand drumming techniques using a variety of African hand drums and world percussion instruments and enjoy fun rhythm based activities while creating songs together.  No experience necessary. To register\, contact Loretta Fernandes-Heaslip at 705.432.3322 ext. 106 or lfheaslip@brockchc.ca.
URL:https://www.brockchc.ca/calendar/drumming-for-health-2/2030-08-13/
LOCATION:Foster Hewitt Memorial Community Centre\, 176 Main Street\, Beaverton\, Ontario\, L0K 1A0\, Canada
ATTACH;FMTTYPE=image/jpeg:https://www.brockchc.ca/wp-content/uploads/2023/08/drumming_iStock-1417424885-1-scaled-e1692626042412.jpg
END:VEVENT
BEGIN:VEVENT
DTSTART;TZID=America/Toronto:20300820T110000
DTEND;TZID=America/Toronto:20300820T120000
DTSTAMP:20260419T095329
CREATED:20250108T153803Z
LAST-MODIFIED:20250108T153914Z
UID:10011723-1913454000-1913457600@www.brockchc.ca
SUMMARY:Drumming for Health
DESCRIPTION:Participants will learn basic hand drumming techniques using a variety of African hand drums and world percussion instruments and enjoy fun rhythm based activities while creating songs together.  No experience necessary. To register\, contact Loretta Fernandes-Heaslip at 705.432.3322 ext. 106 or lfheaslip@brockchc.ca.
URL:https://www.brockchc.ca/calendar/drumming-for-health-2/2030-08-20/
LOCATION:Foster Hewitt Memorial Community Centre\, 176 Main Street\, Beaverton\, Ontario\, L0K 1A0\, Canada
ATTACH;FMTTYPE=image/jpeg:https://www.brockchc.ca/wp-content/uploads/2023/08/drumming_iStock-1417424885-1-scaled-e1692626042412.jpg
END:VEVENT
BEGIN:VEVENT
DTSTART;TZID=America/Toronto:20300827T110000
DTEND;TZID=America/Toronto:20300827T120000
DTSTAMP:20260419T095329
CREATED:20250108T153803Z
LAST-MODIFIED:20250108T153914Z
UID:10011740-1914058800-1914062400@www.brockchc.ca
SUMMARY:Drumming for Health
DESCRIPTION:Participants will learn basic hand drumming techniques using a variety of African hand drums and world percussion instruments and enjoy fun rhythm based activities while creating songs together.  No experience necessary. To register\, contact Loretta Fernandes-Heaslip at 705.432.3322 ext. 106 or lfheaslip@brockchc.ca.
URL:https://www.brockchc.ca/calendar/drumming-for-health-2/2030-08-27/
LOCATION:Foster Hewitt Memorial Community Centre\, 176 Main Street\, Beaverton\, Ontario\, L0K 1A0\, Canada
ATTACH;FMTTYPE=image/jpeg:https://www.brockchc.ca/wp-content/uploads/2023/08/drumming_iStock-1417424885-1-scaled-e1692626042412.jpg
END:VEVENT
BEGIN:VEVENT
DTSTART;TZID=America/Toronto:20300903T110000
DTEND;TZID=America/Toronto:20300903T120000
DTSTAMP:20260419T095329
CREATED:20250108T153803Z
LAST-MODIFIED:20250108T153914Z
UID:10011757-1914663600-1914667200@www.brockchc.ca
SUMMARY:Drumming for Health
DESCRIPTION:Participants will learn basic hand drumming techniques using a variety of African hand drums and world percussion instruments and enjoy fun rhythm based activities while creating songs together.  No experience necessary. To register\, contact Loretta Fernandes-Heaslip at 705.432.3322 ext. 106 or lfheaslip@brockchc.ca.
URL:https://www.brockchc.ca/calendar/drumming-for-health-2/2030-09-03/
LOCATION:Foster Hewitt Memorial Community Centre\, 176 Main Street\, Beaverton\, Ontario\, L0K 1A0\, Canada
ATTACH;FMTTYPE=image/jpeg:https://www.brockchc.ca/wp-content/uploads/2023/08/drumming_iStock-1417424885-1-scaled-e1692626042412.jpg
END:VEVENT
BEGIN:VEVENT
DTSTART;TZID=America/Toronto:20300910T110000
DTEND;TZID=America/Toronto:20300910T120000
DTSTAMP:20260419T095329
CREATED:20250108T153803Z
LAST-MODIFIED:20250108T153914Z
UID:10011774-1915268400-1915272000@www.brockchc.ca
SUMMARY:Drumming for Health
DESCRIPTION:Participants will learn basic hand drumming techniques using a variety of African hand drums and world percussion instruments and enjoy fun rhythm based activities while creating songs together.  No experience necessary. To register\, contact Loretta Fernandes-Heaslip at 705.432.3322 ext. 106 or lfheaslip@brockchc.ca.
URL:https://www.brockchc.ca/calendar/drumming-for-health-2/2030-09-10/
LOCATION:Foster Hewitt Memorial Community Centre\, 176 Main Street\, Beaverton\, Ontario\, L0K 1A0\, Canada
ATTACH;FMTTYPE=image/jpeg:https://www.brockchc.ca/wp-content/uploads/2023/08/drumming_iStock-1417424885-1-scaled-e1692626042412.jpg
END:VEVENT
BEGIN:VEVENT
DTSTART;TZID=America/Toronto:20300917T110000
DTEND;TZID=America/Toronto:20300917T120000
DTSTAMP:20260419T095329
CREATED:20250108T153803Z
LAST-MODIFIED:20250108T153914Z
UID:10011791-1915873200-1915876800@www.brockchc.ca
SUMMARY:Drumming for Health
DESCRIPTION:Participants will learn basic hand drumming techniques using a variety of African hand drums and world percussion instruments and enjoy fun rhythm based activities while creating songs together.  No experience necessary. To register\, contact Loretta Fernandes-Heaslip at 705.432.3322 ext. 106 or lfheaslip@brockchc.ca.
URL:https://www.brockchc.ca/calendar/drumming-for-health-2/2030-09-17/
LOCATION:Foster Hewitt Memorial Community Centre\, 176 Main Street\, Beaverton\, Ontario\, L0K 1A0\, Canada
ATTACH;FMTTYPE=image/jpeg:https://www.brockchc.ca/wp-content/uploads/2023/08/drumming_iStock-1417424885-1-scaled-e1692626042412.jpg
END:VEVENT
BEGIN:VEVENT
DTSTART;TZID=America/Toronto:20300924T110000
DTEND;TZID=America/Toronto:20300924T120000
DTSTAMP:20260419T095329
CREATED:20250108T153803Z
LAST-MODIFIED:20250108T153914Z
UID:10011808-1916478000-1916481600@www.brockchc.ca
SUMMARY:Drumming for Health
DESCRIPTION:Participants will learn basic hand drumming techniques using a variety of African hand drums and world percussion instruments and enjoy fun rhythm based activities while creating songs together.  No experience necessary. To register\, contact Loretta Fernandes-Heaslip at 705.432.3322 ext. 106 or lfheaslip@brockchc.ca.
URL:https://www.brockchc.ca/calendar/drumming-for-health-2/2030-09-24/
LOCATION:Foster Hewitt Memorial Community Centre\, 176 Main Street\, Beaverton\, Ontario\, L0K 1A0\, Canada
ATTACH;FMTTYPE=image/jpeg:https://www.brockchc.ca/wp-content/uploads/2023/08/drumming_iStock-1417424885-1-scaled-e1692626042412.jpg
END:VEVENT
BEGIN:VEVENT
DTSTART;TZID=America/Toronto:20301001T110000
DTEND;TZID=America/Toronto:20301001T120000
DTSTAMP:20260419T095329
CREATED:20250108T153803Z
LAST-MODIFIED:20250108T153914Z
UID:10011824-1917082800-1917086400@www.brockchc.ca
SUMMARY:Drumming for Health
DESCRIPTION:Participants will learn basic hand drumming techniques using a variety of African hand drums and world percussion instruments and enjoy fun rhythm based activities while creating songs together.  No experience necessary. To register\, contact Loretta Fernandes-Heaslip at 705.432.3322 ext. 106 or lfheaslip@brockchc.ca.
URL:https://www.brockchc.ca/calendar/drumming-for-health-2/2030-10-01/
LOCATION:Foster Hewitt Memorial Community Centre\, 176 Main Street\, Beaverton\, Ontario\, L0K 1A0\, Canada
ATTACH;FMTTYPE=image/jpeg:https://www.brockchc.ca/wp-content/uploads/2023/08/drumming_iStock-1417424885-1-scaled-e1692626042412.jpg
END:VEVENT
BEGIN:VEVENT
DTSTART;TZID=America/Toronto:20301008T110000
DTEND;TZID=America/Toronto:20301008T120000
DTSTAMP:20260419T095329
CREATED:20250108T153803Z
LAST-MODIFIED:20250108T153914Z
UID:10011841-1917687600-1917691200@www.brockchc.ca
SUMMARY:Drumming for Health
DESCRIPTION:Participants will learn basic hand drumming techniques using a variety of African hand drums and world percussion instruments and enjoy fun rhythm based activities while creating songs together.  No experience necessary. To register\, contact Loretta Fernandes-Heaslip at 705.432.3322 ext. 106 or lfheaslip@brockchc.ca.
URL:https://www.brockchc.ca/calendar/drumming-for-health-2/2030-10-08/
LOCATION:Foster Hewitt Memorial Community Centre\, 176 Main Street\, Beaverton\, Ontario\, L0K 1A0\, Canada
ATTACH;FMTTYPE=image/jpeg:https://www.brockchc.ca/wp-content/uploads/2023/08/drumming_iStock-1417424885-1-scaled-e1692626042412.jpg
END:VEVENT
BEGIN:VEVENT
DTSTART;TZID=America/Toronto:20301015T110000
DTEND;TZID=America/Toronto:20301015T120000
DTSTAMP:20260419T095329
CREATED:20250108T153803Z
LAST-MODIFIED:20250108T153914Z
UID:10011858-1918292400-1918296000@www.brockchc.ca
SUMMARY:Drumming for Health
DESCRIPTION:Participants will learn basic hand drumming techniques using a variety of African hand drums and world percussion instruments and enjoy fun rhythm based activities while creating songs together.  No experience necessary. To register\, contact Loretta Fernandes-Heaslip at 705.432.3322 ext. 106 or lfheaslip@brockchc.ca.
URL:https://www.brockchc.ca/calendar/drumming-for-health-2/2030-10-15/
LOCATION:Foster Hewitt Memorial Community Centre\, 176 Main Street\, Beaverton\, Ontario\, L0K 1A0\, Canada
ATTACH;FMTTYPE=image/jpeg:https://www.brockchc.ca/wp-content/uploads/2023/08/drumming_iStock-1417424885-1-scaled-e1692626042412.jpg
END:VEVENT
BEGIN:VEVENT
DTSTART;TZID=America/Toronto:20301022T110000
DTEND;TZID=America/Toronto:20301022T120000
DTSTAMP:20260419T095329
CREATED:20250108T153803Z
LAST-MODIFIED:20250108T153914Z
UID:10011875-1918897200-1918900800@www.brockchc.ca
SUMMARY:Drumming for Health
DESCRIPTION:Participants will learn basic hand drumming techniques using a variety of African hand drums and world percussion instruments and enjoy fun rhythm based activities while creating songs together.  No experience necessary. To register\, contact Loretta Fernandes-Heaslip at 705.432.3322 ext. 106 or lfheaslip@brockchc.ca.
URL:https://www.brockchc.ca/calendar/drumming-for-health-2/2030-10-22/
LOCATION:Foster Hewitt Memorial Community Centre\, 176 Main Street\, Beaverton\, Ontario\, L0K 1A0\, Canada
ATTACH;FMTTYPE=image/jpeg:https://www.brockchc.ca/wp-content/uploads/2023/08/drumming_iStock-1417424885-1-scaled-e1692626042412.jpg
END:VEVENT
BEGIN:VEVENT
DTSTART;TZID=America/Toronto:20301029T110000
DTEND;TZID=America/Toronto:20301029T120000
DTSTAMP:20260419T095329
CREATED:20250108T153803Z
LAST-MODIFIED:20250108T153914Z
UID:10011892-1919502000-1919505600@www.brockchc.ca
SUMMARY:Drumming for Health
DESCRIPTION:Participants will learn basic hand drumming techniques using a variety of African hand drums and world percussion instruments and enjoy fun rhythm based activities while creating songs together.  No experience necessary. To register\, contact Loretta Fernandes-Heaslip at 705.432.3322 ext. 106 or lfheaslip@brockchc.ca.
URL:https://www.brockchc.ca/calendar/drumming-for-health-2/2030-10-29/
LOCATION:Foster Hewitt Memorial Community Centre\, 176 Main Street\, Beaverton\, Ontario\, L0K 1A0\, Canada
ATTACH;FMTTYPE=image/jpeg:https://www.brockchc.ca/wp-content/uploads/2023/08/drumming_iStock-1417424885-1-scaled-e1692626042412.jpg
END:VEVENT
BEGIN:VEVENT
DTSTART;TZID=America/Toronto:20301105T110000
DTEND;TZID=America/Toronto:20301105T120000
DTSTAMP:20260419T095329
CREATED:20250108T153803Z
LAST-MODIFIED:20250108T153914Z
UID:10011910-1920106800-1920110400@www.brockchc.ca
SUMMARY:Drumming for Health
DESCRIPTION:Participants will learn basic hand drumming techniques using a variety of African hand drums and world percussion instruments and enjoy fun rhythm based activities while creating songs together.  No experience necessary. To register\, contact Loretta Fernandes-Heaslip at 705.432.3322 ext. 106 or lfheaslip@brockchc.ca.
URL:https://www.brockchc.ca/calendar/drumming-for-health-2/2030-11-05/
LOCATION:Foster Hewitt Memorial Community Centre\, 176 Main Street\, Beaverton\, Ontario\, L0K 1A0\, Canada
ATTACH;FMTTYPE=image/jpeg:https://www.brockchc.ca/wp-content/uploads/2023/08/drumming_iStock-1417424885-1-scaled-e1692626042412.jpg
END:VEVENT
BEGIN:VEVENT
DTSTART;TZID=America/Toronto:20301112T110000
DTEND;TZID=America/Toronto:20301112T120000
DTSTAMP:20260419T095329
CREATED:20250108T153803Z
LAST-MODIFIED:20250108T153914Z
UID:10011927-1920711600-1920715200@www.brockchc.ca
SUMMARY:Drumming for Health
DESCRIPTION:Participants will learn basic hand drumming techniques using a variety of African hand drums and world percussion instruments and enjoy fun rhythm based activities while creating songs together.  No experience necessary. To register\, contact Loretta Fernandes-Heaslip at 705.432.3322 ext. 106 or lfheaslip@brockchc.ca.
URL:https://www.brockchc.ca/calendar/drumming-for-health-2/2030-11-12/
LOCATION:Foster Hewitt Memorial Community Centre\, 176 Main Street\, Beaverton\, Ontario\, L0K 1A0\, Canada
ATTACH;FMTTYPE=image/jpeg:https://www.brockchc.ca/wp-content/uploads/2023/08/drumming_iStock-1417424885-1-scaled-e1692626042412.jpg
END:VEVENT
BEGIN:VEVENT
DTSTART;TZID=America/Toronto:20301119T110000
DTEND;TZID=America/Toronto:20301119T120000
DTSTAMP:20260419T095329
CREATED:20250108T153803Z
LAST-MODIFIED:20250108T153914Z
UID:10011944-1921316400-1921320000@www.brockchc.ca
SUMMARY:Drumming for Health
DESCRIPTION:Participants will learn basic hand drumming techniques using a variety of African hand drums and world percussion instruments and enjoy fun rhythm based activities while creating songs together.  No experience necessary. To register\, contact Loretta Fernandes-Heaslip at 705.432.3322 ext. 106 or lfheaslip@brockchc.ca.
URL:https://www.brockchc.ca/calendar/drumming-for-health-2/2030-11-19/
LOCATION:Foster Hewitt Memorial Community Centre\, 176 Main Street\, Beaverton\, Ontario\, L0K 1A0\, Canada
ATTACH;FMTTYPE=image/jpeg:https://www.brockchc.ca/wp-content/uploads/2023/08/drumming_iStock-1417424885-1-scaled-e1692626042412.jpg
END:VEVENT
BEGIN:VEVENT
DTSTART;TZID=America/Toronto:20301126T110000
DTEND;TZID=America/Toronto:20301126T120000
DTSTAMP:20260419T095329
CREATED:20250108T153803Z
LAST-MODIFIED:20250108T153914Z
UID:10011961-1921921200-1921924800@www.brockchc.ca
SUMMARY:Drumming for Health
DESCRIPTION:Participants will learn basic hand drumming techniques using a variety of African hand drums and world percussion instruments and enjoy fun rhythm based activities while creating songs together.  No experience necessary. To register\, contact Loretta Fernandes-Heaslip at 705.432.3322 ext. 106 or lfheaslip@brockchc.ca.
URL:https://www.brockchc.ca/calendar/drumming-for-health-2/2030-11-26/
LOCATION:Foster Hewitt Memorial Community Centre\, 176 Main Street\, Beaverton\, Ontario\, L0K 1A0\, Canada
ATTACH;FMTTYPE=image/jpeg:https://www.brockchc.ca/wp-content/uploads/2023/08/drumming_iStock-1417424885-1-scaled-e1692626042412.jpg
END:VEVENT
BEGIN:VEVENT
DTSTART;TZID=America/Toronto:20301203T110000
DTEND;TZID=America/Toronto:20301203T120000
DTSTAMP:20260419T095329
CREATED:20250108T153803Z
LAST-MODIFIED:20250108T153914Z
UID:10011977-1922526000-1922529600@www.brockchc.ca
SUMMARY:Drumming for Health
DESCRIPTION:Participants will learn basic hand drumming techniques using a variety of African hand drums and world percussion instruments and enjoy fun rhythm based activities while creating songs together.  No experience necessary. To register\, contact Loretta Fernandes-Heaslip at 705.432.3322 ext. 106 or lfheaslip@brockchc.ca.
URL:https://www.brockchc.ca/calendar/drumming-for-health-2/2030-12-03/
LOCATION:Foster Hewitt Memorial Community Centre\, 176 Main Street\, Beaverton\, Ontario\, L0K 1A0\, Canada
ATTACH;FMTTYPE=image/jpeg:https://www.brockchc.ca/wp-content/uploads/2023/08/drumming_iStock-1417424885-1-scaled-e1692626042412.jpg
END:VEVENT
BEGIN:VEVENT
DTSTART;TZID=America/Toronto:20301210T110000
DTEND;TZID=America/Toronto:20301210T120000
DTSTAMP:20260419T095329
CREATED:20250108T153803Z
LAST-MODIFIED:20250108T153914Z
UID:10012275-1923130800-1923134400@www.brockchc.ca
SUMMARY:Drumming for Health
DESCRIPTION:Participants will learn basic hand drumming techniques using a variety of African hand drums and world percussion instruments and enjoy fun rhythm based activities while creating songs together.  No experience necessary. To register\, contact Loretta Fernandes-Heaslip at 705.432.3322 ext. 106 or lfheaslip@brockchc.ca.
URL:https://www.brockchc.ca/calendar/drumming-for-health-2/2030-12-10/
LOCATION:Foster Hewitt Memorial Community Centre\, 176 Main Street\, Beaverton\, Ontario\, L0K 1A0\, Canada
ATTACH;FMTTYPE=image/jpeg:https://www.brockchc.ca/wp-content/uploads/2023/08/drumming_iStock-1417424885-1-scaled-e1692626042412.jpg
END:VEVENT
BEGIN:VEVENT
DTSTART;TZID=America/Toronto:20301217T110000
DTEND;TZID=America/Toronto:20301217T120000
DTSTAMP:20260419T095329
CREATED:20250108T153803Z
LAST-MODIFIED:20250108T153914Z
UID:10012291-1923735600-1923739200@www.brockchc.ca
SUMMARY:Drumming for Health
DESCRIPTION:Participants will learn basic hand drumming techniques using a variety of African hand drums and world percussion instruments and enjoy fun rhythm based activities while creating songs together.  No experience necessary. To register\, contact Loretta Fernandes-Heaslip at 705.432.3322 ext. 106 or lfheaslip@brockchc.ca.
URL:https://www.brockchc.ca/calendar/drumming-for-health-2/2030-12-17/
LOCATION:Foster Hewitt Memorial Community Centre\, 176 Main Street\, Beaverton\, Ontario\, L0K 1A0\, Canada
ATTACH;FMTTYPE=image/jpeg:https://www.brockchc.ca/wp-content/uploads/2023/08/drumming_iStock-1417424885-1-scaled-e1692626042412.jpg
END:VEVENT
BEGIN:VEVENT
DTSTART;TZID=America/Toronto:20301224T110000
DTEND;TZID=America/Toronto:20301224T120000
DTSTAMP:20260419T095329
CREATED:20250108T153803Z
LAST-MODIFIED:20250108T153914Z
UID:10012309-1924340400-1924344000@www.brockchc.ca
SUMMARY:Drumming for Health
DESCRIPTION:Participants will learn basic hand drumming techniques using a variety of African hand drums and world percussion instruments and enjoy fun rhythm based activities while creating songs together.  No experience necessary. To register\, contact Loretta Fernandes-Heaslip at 705.432.3322 ext. 106 or lfheaslip@brockchc.ca.
URL:https://www.brockchc.ca/calendar/drumming-for-health-2/2030-12-24/
LOCATION:Foster Hewitt Memorial Community Centre\, 176 Main Street\, Beaverton\, Ontario\, L0K 1A0\, Canada
ATTACH;FMTTYPE=image/jpeg:https://www.brockchc.ca/wp-content/uploads/2023/08/drumming_iStock-1417424885-1-scaled-e1692626042412.jpg
END:VEVENT
BEGIN:VEVENT
DTSTART;TZID=America/Toronto:20301231T110000
DTEND;TZID=America/Toronto:20301231T120000
DTSTAMP:20260419T095329
CREATED:20250108T153803Z
LAST-MODIFIED:20250108T153914Z
UID:10012328-1924945200-1924948800@www.brockchc.ca
SUMMARY:Drumming for Health
DESCRIPTION:Participants will learn basic hand drumming techniques using a variety of African hand drums and world percussion instruments and enjoy fun rhythm based activities while creating songs together.  No experience necessary. To register\, contact Loretta Fernandes-Heaslip at 705.432.3322 ext. 106 or lfheaslip@brockchc.ca.
URL:https://www.brockchc.ca/calendar/drumming-for-health-2/2030-12-31/
LOCATION:Foster Hewitt Memorial Community Centre\, 176 Main Street\, Beaverton\, Ontario\, L0K 1A0\, Canada
ATTACH;FMTTYPE=image/jpeg:https://www.brockchc.ca/wp-content/uploads/2023/08/drumming_iStock-1417424885-1-scaled-e1692626042412.jpg
END:VEVENT
END:VCALENDAR