BEGIN:VCALENDAR
VERSION:2.0
PRODID:-//Brock Community Health Centre - ECPv6.15.20//NONSGML v1.0//EN
CALSCALE:GREGORIAN
METHOD:PUBLISH
X-WR-CALNAME:Brock Community Health Centre
X-ORIGINAL-URL:https://www.brockchc.ca
X-WR-CALDESC:Events for Brock Community Health Centre
REFRESH-INTERVAL;VALUE=DURATION:PT1H
X-Robots-Tag:noindex
X-PUBLISHED-TTL:PT1H
BEGIN:VTIMEZONE
TZID:America/Toronto
BEGIN:DAYLIGHT
TZOFFSETFROM:-0500
TZOFFSETTO:-0400
TZNAME:EDT
DTSTART:20270314T070000
END:DAYLIGHT
BEGIN:STANDARD
TZOFFSETFROM:-0400
TZOFFSETTO:-0500
TZNAME:EST
DTSTART:20271107T060000
END:STANDARD
BEGIN:DAYLIGHT
TZOFFSETFROM:-0500
TZOFFSETTO:-0400
TZNAME:EDT
DTSTART:20280312T070000
END:DAYLIGHT
BEGIN:STANDARD
TZOFFSETFROM:-0400
TZOFFSETTO:-0500
TZNAME:EST
DTSTART:20281105T060000
END:STANDARD
BEGIN:DAYLIGHT
TZOFFSETFROM:-0500
TZOFFSETTO:-0400
TZNAME:EDT
DTSTART:20290311T070000
END:DAYLIGHT
BEGIN:STANDARD
TZOFFSETFROM:-0400
TZOFFSETTO:-0500
TZNAME:EST
DTSTART:20291104T060000
END:STANDARD
END:VTIMEZONE
BEGIN:VEVENT
DTSTART;TZID=America/Toronto:20280207T080000
DTEND;TZID=America/Toronto:20280207T090000
DTSTAMP:20260422T003908
CREATED:20231222T155956Z
LAST-MODIFIED:20231222T155956Z
UID:10009662-1833523200-1833526800@www.brockchc.ca
SUMMARY:Indoor Walking
DESCRIPTION:Walk your way to better physical and mental health in a safe and dry environment.  Every step counts to help you feel better\, sleep better and have more energy.
URL:https://www.brockchc.ca/calendar/indoor-walking/2028-02-07/
LOCATION:Fisher’s Your Independent Grocer\, 30 Beaver Avenue\, Beaverton\, Ontario\, L0K 1A0\, Canada
END:VEVENT
BEGIN:VEVENT
DTSTART;TZID=America/Toronto:20280208T080000
DTEND;TZID=America/Toronto:20280208T090000
DTSTAMP:20260422T003908
CREATED:20231222T155956Z
LAST-MODIFIED:20231222T155956Z
UID:10009663-1833609600-1833613200@www.brockchc.ca
SUMMARY:Indoor Walking
DESCRIPTION:Walk your way to better physical and mental health in a safe and dry environment.  Every step counts to help you feel better\, sleep better and have more energy.
URL:https://www.brockchc.ca/calendar/indoor-walking/2028-02-08/
LOCATION:Fisher’s Your Independent Grocer\, 30 Beaver Avenue\, Beaverton\, Ontario\, L0K 1A0\, Canada
END:VEVENT
BEGIN:VEVENT
DTSTART;TZID=America/Toronto:20280209T080000
DTEND;TZID=America/Toronto:20280209T090000
DTSTAMP:20260422T003908
CREATED:20231222T155956Z
LAST-MODIFIED:20231222T155956Z
UID:10009664-1833696000-1833699600@www.brockchc.ca
SUMMARY:Indoor Walking
DESCRIPTION:Walk your way to better physical and mental health in a safe and dry environment.  Every step counts to help you feel better\, sleep better and have more energy.
URL:https://www.brockchc.ca/calendar/indoor-walking/2028-02-09/
LOCATION:Fisher’s Your Independent Grocer\, 30 Beaver Avenue\, Beaverton\, Ontario\, L0K 1A0\, Canada
END:VEVENT
BEGIN:VEVENT
DTSTART;TZID=America/Toronto:20280210T080000
DTEND;TZID=America/Toronto:20280210T090000
DTSTAMP:20260422T003908
CREATED:20231222T155956Z
LAST-MODIFIED:20231222T155956Z
UID:10009665-1833782400-1833786000@www.brockchc.ca
SUMMARY:Indoor Walking
DESCRIPTION:Walk your way to better physical and mental health in a safe and dry environment.  Every step counts to help you feel better\, sleep better and have more energy.
URL:https://www.brockchc.ca/calendar/indoor-walking/2028-02-10/
LOCATION:Fisher’s Your Independent Grocer\, 30 Beaver Avenue\, Beaverton\, Ontario\, L0K 1A0\, Canada
END:VEVENT
BEGIN:VEVENT
DTSTART;TZID=America/Toronto:20280211T080000
DTEND;TZID=America/Toronto:20280211T090000
DTSTAMP:20260422T003908
CREATED:20231222T155956Z
LAST-MODIFIED:20231222T155956Z
UID:10009666-1833868800-1833872400@www.brockchc.ca
SUMMARY:Indoor Walking
DESCRIPTION:Walk your way to better physical and mental health in a safe and dry environment.  Every step counts to help you feel better\, sleep better and have more energy.
URL:https://www.brockchc.ca/calendar/indoor-walking/2028-02-11/
LOCATION:Fisher’s Your Independent Grocer\, 30 Beaver Avenue\, Beaverton\, Ontario\, L0K 1A0\, Canada
END:VEVENT
BEGIN:VEVENT
DTSTART;TZID=America/Toronto:20280214T080000
DTEND;TZID=America/Toronto:20280214T090000
DTSTAMP:20260422T003908
CREATED:20231222T155956Z
LAST-MODIFIED:20231222T155956Z
UID:10009667-1834128000-1834131600@www.brockchc.ca
SUMMARY:Indoor Walking
DESCRIPTION:Walk your way to better physical and mental health in a safe and dry environment.  Every step counts to help you feel better\, sleep better and have more energy.
URL:https://www.brockchc.ca/calendar/indoor-walking/2028-02-14/
LOCATION:Fisher’s Your Independent Grocer\, 30 Beaver Avenue\, Beaverton\, Ontario\, L0K 1A0\, Canada
END:VEVENT
BEGIN:VEVENT
DTSTART;TZID=America/Toronto:20280215T080000
DTEND;TZID=America/Toronto:20280215T090000
DTSTAMP:20260422T003908
CREATED:20231222T155956Z
LAST-MODIFIED:20231222T155956Z
UID:10009668-1834214400-1834218000@www.brockchc.ca
SUMMARY:Indoor Walking
DESCRIPTION:Walk your way to better physical and mental health in a safe and dry environment.  Every step counts to help you feel better\, sleep better and have more energy.
URL:https://www.brockchc.ca/calendar/indoor-walking/2028-02-15/
LOCATION:Fisher’s Your Independent Grocer\, 30 Beaver Avenue\, Beaverton\, Ontario\, L0K 1A0\, Canada
END:VEVENT
BEGIN:VEVENT
DTSTART;TZID=America/Toronto:20280216T080000
DTEND;TZID=America/Toronto:20280216T090000
DTSTAMP:20260422T003908
CREATED:20231222T155956Z
LAST-MODIFIED:20231222T155956Z
UID:10009669-1834300800-1834304400@www.brockchc.ca
SUMMARY:Indoor Walking
DESCRIPTION:Walk your way to better physical and mental health in a safe and dry environment.  Every step counts to help you feel better\, sleep better and have more energy.
URL:https://www.brockchc.ca/calendar/indoor-walking/2028-02-16/
LOCATION:Fisher’s Your Independent Grocer\, 30 Beaver Avenue\, Beaverton\, Ontario\, L0K 1A0\, Canada
END:VEVENT
BEGIN:VEVENT
DTSTART;TZID=America/Toronto:20280217T080000
DTEND;TZID=America/Toronto:20280217T090000
DTSTAMP:20260422T003908
CREATED:20231222T155956Z
LAST-MODIFIED:20231222T155956Z
UID:10009670-1834387200-1834390800@www.brockchc.ca
SUMMARY:Indoor Walking
DESCRIPTION:Walk your way to better physical and mental health in a safe and dry environment.  Every step counts to help you feel better\, sleep better and have more energy.
URL:https://www.brockchc.ca/calendar/indoor-walking/2028-02-17/
LOCATION:Fisher’s Your Independent Grocer\, 30 Beaver Avenue\, Beaverton\, Ontario\, L0K 1A0\, Canada
END:VEVENT
BEGIN:VEVENT
DTSTART;TZID=America/Toronto:20280218T080000
DTEND;TZID=America/Toronto:20280218T090000
DTSTAMP:20260422T003908
CREATED:20231222T155956Z
LAST-MODIFIED:20231222T155956Z
UID:10009671-1834473600-1834477200@www.brockchc.ca
SUMMARY:Indoor Walking
DESCRIPTION:Walk your way to better physical and mental health in a safe and dry environment.  Every step counts to help you feel better\, sleep better and have more energy.
URL:https://www.brockchc.ca/calendar/indoor-walking/2028-02-18/
LOCATION:Fisher’s Your Independent Grocer\, 30 Beaver Avenue\, Beaverton\, Ontario\, L0K 1A0\, Canada
END:VEVENT
BEGIN:VEVENT
DTSTART;TZID=America/Toronto:20280221T080000
DTEND;TZID=America/Toronto:20280221T090000
DTSTAMP:20260422T003908
CREATED:20231222T155956Z
LAST-MODIFIED:20231222T155956Z
UID:10009672-1834732800-1834736400@www.brockchc.ca
SUMMARY:Indoor Walking
DESCRIPTION:Walk your way to better physical and mental health in a safe and dry environment.  Every step counts to help you feel better\, sleep better and have more energy.
URL:https://www.brockchc.ca/calendar/indoor-walking/2028-02-21/
LOCATION:Fisher’s Your Independent Grocer\, 30 Beaver Avenue\, Beaverton\, Ontario\, L0K 1A0\, Canada
END:VEVENT
BEGIN:VEVENT
DTSTART;TZID=America/Toronto:20280222T080000
DTEND;TZID=America/Toronto:20280222T090000
DTSTAMP:20260422T003908
CREATED:20231222T155956Z
LAST-MODIFIED:20231222T155956Z
UID:10009673-1834819200-1834822800@www.brockchc.ca
SUMMARY:Indoor Walking
DESCRIPTION:Walk your way to better physical and mental health in a safe and dry environment.  Every step counts to help you feel better\, sleep better and have more energy.
URL:https://www.brockchc.ca/calendar/indoor-walking/2028-02-22/
LOCATION:Fisher’s Your Independent Grocer\, 30 Beaver Avenue\, Beaverton\, Ontario\, L0K 1A0\, Canada
END:VEVENT
BEGIN:VEVENT
DTSTART;TZID=America/Toronto:20280223T080000
DTEND;TZID=America/Toronto:20280223T090000
DTSTAMP:20260422T003908
CREATED:20231222T155956Z
LAST-MODIFIED:20231222T155956Z
UID:10009674-1834905600-1834909200@www.brockchc.ca
SUMMARY:Indoor Walking
DESCRIPTION:Walk your way to better physical and mental health in a safe and dry environment.  Every step counts to help you feel better\, sleep better and have more energy.
URL:https://www.brockchc.ca/calendar/indoor-walking/2028-02-23/
LOCATION:Fisher’s Your Independent Grocer\, 30 Beaver Avenue\, Beaverton\, Ontario\, L0K 1A0\, Canada
END:VEVENT
BEGIN:VEVENT
DTSTART;TZID=America/Toronto:20280224T080000
DTEND;TZID=America/Toronto:20280224T090000
DTSTAMP:20260422T003908
CREATED:20231222T155956Z
LAST-MODIFIED:20231222T155956Z
UID:10009675-1834992000-1834995600@www.brockchc.ca
SUMMARY:Indoor Walking
DESCRIPTION:Walk your way to better physical and mental health in a safe and dry environment.  Every step counts to help you feel better\, sleep better and have more energy.
URL:https://www.brockchc.ca/calendar/indoor-walking/2028-02-24/
LOCATION:Fisher’s Your Independent Grocer\, 30 Beaver Avenue\, Beaverton\, Ontario\, L0K 1A0\, Canada
END:VEVENT
BEGIN:VEVENT
DTSTART;TZID=America/Toronto:20280225T080000
DTEND;TZID=America/Toronto:20280225T090000
DTSTAMP:20260422T003908
CREATED:20231222T155956Z
LAST-MODIFIED:20231222T155956Z
UID:10009676-1835078400-1835082000@www.brockchc.ca
SUMMARY:Indoor Walking
DESCRIPTION:Walk your way to better physical and mental health in a safe and dry environment.  Every step counts to help you feel better\, sleep better and have more energy.
URL:https://www.brockchc.ca/calendar/indoor-walking/2028-02-25/
LOCATION:Fisher’s Your Independent Grocer\, 30 Beaver Avenue\, Beaverton\, Ontario\, L0K 1A0\, Canada
END:VEVENT
BEGIN:VEVENT
DTSTART;TZID=America/Toronto:20280228T080000
DTEND;TZID=America/Toronto:20280228T090000
DTSTAMP:20260422T003908
CREATED:20231222T155956Z
LAST-MODIFIED:20231222T155956Z
UID:10009677-1835337600-1835341200@www.brockchc.ca
SUMMARY:Indoor Walking
DESCRIPTION:Walk your way to better physical and mental health in a safe and dry environment.  Every step counts to help you feel better\, sleep better and have more energy.
URL:https://www.brockchc.ca/calendar/indoor-walking/2028-02-28/
LOCATION:Fisher’s Your Independent Grocer\, 30 Beaver Avenue\, Beaverton\, Ontario\, L0K 1A0\, Canada
END:VEVENT
BEGIN:VEVENT
DTSTART;TZID=America/Toronto:20280229T080000
DTEND;TZID=America/Toronto:20280229T090000
DTSTAMP:20260422T003908
CREATED:20231222T155956Z
LAST-MODIFIED:20231222T155956Z
UID:10009678-1835424000-1835427600@www.brockchc.ca
SUMMARY:Indoor Walking
DESCRIPTION:Walk your way to better physical and mental health in a safe and dry environment.  Every step counts to help you feel better\, sleep better and have more energy.
URL:https://www.brockchc.ca/calendar/indoor-walking/2028-02-29/
LOCATION:Fisher’s Your Independent Grocer\, 30 Beaver Avenue\, Beaverton\, Ontario\, L0K 1A0\, Canada
END:VEVENT
BEGIN:VEVENT
DTSTART;TZID=America/Toronto:20280301T080000
DTEND;TZID=America/Toronto:20280301T090000
DTSTAMP:20260422T003908
CREATED:20231222T155956Z
LAST-MODIFIED:20231222T155956Z
UID:10009679-1835510400-1835514000@www.brockchc.ca
SUMMARY:Indoor Walking
DESCRIPTION:Walk your way to better physical and mental health in a safe and dry environment.  Every step counts to help you feel better\, sleep better and have more energy.
URL:https://www.brockchc.ca/calendar/indoor-walking/2028-03-01/
LOCATION:Fisher’s Your Independent Grocer\, 30 Beaver Avenue\, Beaverton\, Ontario\, L0K 1A0\, Canada
END:VEVENT
BEGIN:VEVENT
DTSTART;TZID=America/Toronto:20280302T080000
DTEND;TZID=America/Toronto:20280302T090000
DTSTAMP:20260422T003908
CREATED:20231222T155956Z
LAST-MODIFIED:20231222T155956Z
UID:10009680-1835596800-1835600400@www.brockchc.ca
SUMMARY:Indoor Walking
DESCRIPTION:Walk your way to better physical and mental health in a safe and dry environment.  Every step counts to help you feel better\, sleep better and have more energy.
URL:https://www.brockchc.ca/calendar/indoor-walking/2028-03-02/
LOCATION:Fisher’s Your Independent Grocer\, 30 Beaver Avenue\, Beaverton\, Ontario\, L0K 1A0\, Canada
END:VEVENT
BEGIN:VEVENT
DTSTART;TZID=America/Toronto:20280303T080000
DTEND;TZID=America/Toronto:20280303T090000
DTSTAMP:20260422T003908
CREATED:20231222T155956Z
LAST-MODIFIED:20231222T155956Z
UID:10009681-1835683200-1835686800@www.brockchc.ca
SUMMARY:Indoor Walking
DESCRIPTION:Walk your way to better physical and mental health in a safe and dry environment.  Every step counts to help you feel better\, sleep better and have more energy.
URL:https://www.brockchc.ca/calendar/indoor-walking/2028-03-03/
LOCATION:Fisher’s Your Independent Grocer\, 30 Beaver Avenue\, Beaverton\, Ontario\, L0K 1A0\, Canada
END:VEVENT
BEGIN:VEVENT
DTSTART;TZID=America/Toronto:20280306T080000
DTEND;TZID=America/Toronto:20280306T090000
DTSTAMP:20260422T003908
CREATED:20231222T155956Z
LAST-MODIFIED:20231222T155956Z
UID:10009682-1835942400-1835946000@www.brockchc.ca
SUMMARY:Indoor Walking
DESCRIPTION:Walk your way to better physical and mental health in a safe and dry environment.  Every step counts to help you feel better\, sleep better and have more energy.
URL:https://www.brockchc.ca/calendar/indoor-walking/2028-03-06/
LOCATION:Fisher’s Your Independent Grocer\, 30 Beaver Avenue\, Beaverton\, Ontario\, L0K 1A0\, Canada
END:VEVENT
BEGIN:VEVENT
DTSTART;TZID=America/Toronto:20280307T080000
DTEND;TZID=America/Toronto:20280307T090000
DTSTAMP:20260422T003908
CREATED:20231222T155956Z
LAST-MODIFIED:20231222T155956Z
UID:10009683-1836028800-1836032400@www.brockchc.ca
SUMMARY:Indoor Walking
DESCRIPTION:Walk your way to better physical and mental health in a safe and dry environment.  Every step counts to help you feel better\, sleep better and have more energy.
URL:https://www.brockchc.ca/calendar/indoor-walking/2028-03-07/
LOCATION:Fisher’s Your Independent Grocer\, 30 Beaver Avenue\, Beaverton\, Ontario\, L0K 1A0\, Canada
END:VEVENT
BEGIN:VEVENT
DTSTART;TZID=America/Toronto:20280308T080000
DTEND;TZID=America/Toronto:20280308T090000
DTSTAMP:20260422T003908
CREATED:20231222T155956Z
LAST-MODIFIED:20231222T155956Z
UID:10009684-1836115200-1836118800@www.brockchc.ca
SUMMARY:Indoor Walking
DESCRIPTION:Walk your way to better physical and mental health in a safe and dry environment.  Every step counts to help you feel better\, sleep better and have more energy.
URL:https://www.brockchc.ca/calendar/indoor-walking/2028-03-08/
LOCATION:Fisher’s Your Independent Grocer\, 30 Beaver Avenue\, Beaverton\, Ontario\, L0K 1A0\, Canada
END:VEVENT
BEGIN:VEVENT
DTSTART;TZID=America/Toronto:20280309T080000
DTEND;TZID=America/Toronto:20280309T090000
DTSTAMP:20260422T003908
CREATED:20231222T155956Z
LAST-MODIFIED:20231222T155956Z
UID:10009685-1836201600-1836205200@www.brockchc.ca
SUMMARY:Indoor Walking
DESCRIPTION:Walk your way to better physical and mental health in a safe and dry environment.  Every step counts to help you feel better\, sleep better and have more energy.
URL:https://www.brockchc.ca/calendar/indoor-walking/2028-03-09/
LOCATION:Fisher’s Your Independent Grocer\, 30 Beaver Avenue\, Beaverton\, Ontario\, L0K 1A0\, Canada
END:VEVENT
BEGIN:VEVENT
DTSTART;TZID=America/Toronto:20280310T080000
DTEND;TZID=America/Toronto:20280310T090000
DTSTAMP:20260422T003908
CREATED:20231222T155956Z
LAST-MODIFIED:20231222T155956Z
UID:10009686-1836288000-1836291600@www.brockchc.ca
SUMMARY:Indoor Walking
DESCRIPTION:Walk your way to better physical and mental health in a safe and dry environment.  Every step counts to help you feel better\, sleep better and have more energy.
URL:https://www.brockchc.ca/calendar/indoor-walking/2028-03-10/
LOCATION:Fisher’s Your Independent Grocer\, 30 Beaver Avenue\, Beaverton\, Ontario\, L0K 1A0\, Canada
END:VEVENT
BEGIN:VEVENT
DTSTART;TZID=America/Toronto:20280313T080000
DTEND;TZID=America/Toronto:20280313T090000
DTSTAMP:20260422T003908
CREATED:20231222T155956Z
LAST-MODIFIED:20231222T155956Z
UID:10009687-1836547200-1836550800@www.brockchc.ca
SUMMARY:Indoor Walking
DESCRIPTION:Walk your way to better physical and mental health in a safe and dry environment.  Every step counts to help you feel better\, sleep better and have more energy.
URL:https://www.brockchc.ca/calendar/indoor-walking/2028-03-13/
LOCATION:Fisher’s Your Independent Grocer\, 30 Beaver Avenue\, Beaverton\, Ontario\, L0K 1A0\, Canada
END:VEVENT
BEGIN:VEVENT
DTSTART;TZID=America/Toronto:20280314T080000
DTEND;TZID=America/Toronto:20280314T090000
DTSTAMP:20260422T003908
CREATED:20231222T155956Z
LAST-MODIFIED:20231222T155956Z
UID:10009688-1836633600-1836637200@www.brockchc.ca
SUMMARY:Indoor Walking
DESCRIPTION:Walk your way to better physical and mental health in a safe and dry environment.  Every step counts to help you feel better\, sleep better and have more energy.
URL:https://www.brockchc.ca/calendar/indoor-walking/2028-03-14/
LOCATION:Fisher’s Your Independent Grocer\, 30 Beaver Avenue\, Beaverton\, Ontario\, L0K 1A0\, Canada
END:VEVENT
BEGIN:VEVENT
DTSTART;TZID=America/Toronto:20280315T080000
DTEND;TZID=America/Toronto:20280315T090000
DTSTAMP:20260422T003908
CREATED:20231222T155956Z
LAST-MODIFIED:20231222T155956Z
UID:10009689-1836720000-1836723600@www.brockchc.ca
SUMMARY:Indoor Walking
DESCRIPTION:Walk your way to better physical and mental health in a safe and dry environment.  Every step counts to help you feel better\, sleep better and have more energy.
URL:https://www.brockchc.ca/calendar/indoor-walking/2028-03-15/
LOCATION:Fisher’s Your Independent Grocer\, 30 Beaver Avenue\, Beaverton\, Ontario\, L0K 1A0\, Canada
END:VEVENT
BEGIN:VEVENT
DTSTART;TZID=America/Toronto:20280316T080000
DTEND;TZID=America/Toronto:20280316T090000
DTSTAMP:20260422T003908
CREATED:20231222T155956Z
LAST-MODIFIED:20231222T155956Z
UID:10009690-1836806400-1836810000@www.brockchc.ca
SUMMARY:Indoor Walking
DESCRIPTION:Walk your way to better physical and mental health in a safe and dry environment.  Every step counts to help you feel better\, sleep better and have more energy.
URL:https://www.brockchc.ca/calendar/indoor-walking/2028-03-16/
LOCATION:Fisher’s Your Independent Grocer\, 30 Beaver Avenue\, Beaverton\, Ontario\, L0K 1A0\, Canada
END:VEVENT
BEGIN:VEVENT
DTSTART;TZID=America/Toronto:20280317T080000
DTEND;TZID=America/Toronto:20280317T090000
DTSTAMP:20260422T003908
CREATED:20231222T155956Z
LAST-MODIFIED:20231222T155956Z
UID:10009691-1836892800-1836896400@www.brockchc.ca
SUMMARY:Indoor Walking
DESCRIPTION:Walk your way to better physical and mental health in a safe and dry environment.  Every step counts to help you feel better\, sleep better and have more energy.
URL:https://www.brockchc.ca/calendar/indoor-walking/2028-03-17/
LOCATION:Fisher’s Your Independent Grocer\, 30 Beaver Avenue\, Beaverton\, Ontario\, L0K 1A0\, Canada
END:VEVENT
END:VCALENDAR