BEGIN:VCALENDAR
VERSION:2.0
PRODID:-//Brock Community Health Centre - ECPv6.15.20//NONSGML v1.0//EN
CALSCALE:GREGORIAN
METHOD:PUBLISH
X-ORIGINAL-URL:https://www.brockchc.ca
X-WR-CALDESC:Events for Brock Community Health Centre
REFRESH-INTERVAL;VALUE=DURATION:PT1H
X-Robots-Tag:noindex
X-PUBLISHED-TTL:PT1H
BEGIN:VTIMEZONE
TZID:America/Toronto
BEGIN:DAYLIGHT
TZOFFSETFROM:-0500
TZOFFSETTO:-0400
TZNAME:EDT
DTSTART:20260308T070000
END:DAYLIGHT
BEGIN:STANDARD
TZOFFSETFROM:-0400
TZOFFSETTO:-0500
TZNAME:EST
DTSTART:20261101T060000
END:STANDARD
BEGIN:DAYLIGHT
TZOFFSETFROM:-0500
TZOFFSETTO:-0400
TZNAME:EDT
DTSTART:20270314T070000
END:DAYLIGHT
BEGIN:STANDARD
TZOFFSETFROM:-0400
TZOFFSETTO:-0500
TZNAME:EST
DTSTART:20271107T060000
END:STANDARD
BEGIN:DAYLIGHT
TZOFFSETFROM:-0500
TZOFFSETTO:-0400
TZNAME:EDT
DTSTART:20280312T070000
END:DAYLIGHT
BEGIN:STANDARD
TZOFFSETFROM:-0400
TZOFFSETTO:-0500
TZNAME:EST
DTSTART:20281105T060000
END:STANDARD
END:VTIMEZONE
BEGIN:VEVENT
DTSTART;TZID=America/Toronto:20271115T080000
DTEND;TZID=America/Toronto:20271115T090000
DTSTAMP:20260421T170709
CREATED:20231222T155956Z
LAST-MODIFIED:20231222T155956Z
UID:10009602-1826265600-1826269200@www.brockchc.ca
SUMMARY:Indoor Walking
DESCRIPTION:Walk your way to better physical and mental health in a safe and dry environment.  Every step counts to help you feel better\, sleep better and have more energy.
URL:https://www.brockchc.ca/calendar/indoor-walking/2027-11-15/
LOCATION:Fisher’s Your Independent Grocer\, 30 Beaver Avenue\, Beaverton\, Ontario\, L0K 1A0\, Canada
END:VEVENT
BEGIN:VEVENT
DTSTART;TZID=America/Toronto:20271116T080000
DTEND;TZID=America/Toronto:20271116T090000
DTSTAMP:20260421T170709
CREATED:20231222T155956Z
LAST-MODIFIED:20231222T155956Z
UID:10009603-1826352000-1826355600@www.brockchc.ca
SUMMARY:Indoor Walking
DESCRIPTION:Walk your way to better physical and mental health in a safe and dry environment.  Every step counts to help you feel better\, sleep better and have more energy.
URL:https://www.brockchc.ca/calendar/indoor-walking/2027-11-16/
LOCATION:Fisher’s Your Independent Grocer\, 30 Beaver Avenue\, Beaverton\, Ontario\, L0K 1A0\, Canada
END:VEVENT
BEGIN:VEVENT
DTSTART;TZID=America/Toronto:20271117T080000
DTEND;TZID=America/Toronto:20271117T090000
DTSTAMP:20260421T170709
CREATED:20231222T155956Z
LAST-MODIFIED:20231222T155956Z
UID:10009604-1826438400-1826442000@www.brockchc.ca
SUMMARY:Indoor Walking
DESCRIPTION:Walk your way to better physical and mental health in a safe and dry environment.  Every step counts to help you feel better\, sleep better and have more energy.
URL:https://www.brockchc.ca/calendar/indoor-walking/2027-11-17/
LOCATION:Fisher’s Your Independent Grocer\, 30 Beaver Avenue\, Beaverton\, Ontario\, L0K 1A0\, Canada
END:VEVENT
BEGIN:VEVENT
DTSTART;TZID=America/Toronto:20271118T080000
DTEND;TZID=America/Toronto:20271118T090000
DTSTAMP:20260421T170709
CREATED:20231222T155956Z
LAST-MODIFIED:20231222T155956Z
UID:10009605-1826524800-1826528400@www.brockchc.ca
SUMMARY:Indoor Walking
DESCRIPTION:Walk your way to better physical and mental health in a safe and dry environment.  Every step counts to help you feel better\, sleep better and have more energy.
URL:https://www.brockchc.ca/calendar/indoor-walking/2027-11-18/
LOCATION:Fisher’s Your Independent Grocer\, 30 Beaver Avenue\, Beaverton\, Ontario\, L0K 1A0\, Canada
END:VEVENT
BEGIN:VEVENT
DTSTART;TZID=America/Toronto:20271119T080000
DTEND;TZID=America/Toronto:20271119T090000
DTSTAMP:20260421T170709
CREATED:20231222T155956Z
LAST-MODIFIED:20231222T155956Z
UID:10009606-1826611200-1826614800@www.brockchc.ca
SUMMARY:Indoor Walking
DESCRIPTION:Walk your way to better physical and mental health in a safe and dry environment.  Every step counts to help you feel better\, sleep better and have more energy.
URL:https://www.brockchc.ca/calendar/indoor-walking/2027-11-19/
LOCATION:Fisher’s Your Independent Grocer\, 30 Beaver Avenue\, Beaverton\, Ontario\, L0K 1A0\, Canada
END:VEVENT
BEGIN:VEVENT
DTSTART;TZID=America/Toronto:20271122T080000
DTEND;TZID=America/Toronto:20271122T090000
DTSTAMP:20260421T170709
CREATED:20231222T155956Z
LAST-MODIFIED:20231222T155956Z
UID:10009607-1826870400-1826874000@www.brockchc.ca
SUMMARY:Indoor Walking
DESCRIPTION:Walk your way to better physical and mental health in a safe and dry environment.  Every step counts to help you feel better\, sleep better and have more energy.
URL:https://www.brockchc.ca/calendar/indoor-walking/2027-11-22/
LOCATION:Fisher’s Your Independent Grocer\, 30 Beaver Avenue\, Beaverton\, Ontario\, L0K 1A0\, Canada
END:VEVENT
BEGIN:VEVENT
DTSTART;TZID=America/Toronto:20271123T080000
DTEND;TZID=America/Toronto:20271123T090000
DTSTAMP:20260421T170709
CREATED:20231222T155956Z
LAST-MODIFIED:20231222T155956Z
UID:10009608-1826956800-1826960400@www.brockchc.ca
SUMMARY:Indoor Walking
DESCRIPTION:Walk your way to better physical and mental health in a safe and dry environment.  Every step counts to help you feel better\, sleep better and have more energy.
URL:https://www.brockchc.ca/calendar/indoor-walking/2027-11-23/
LOCATION:Fisher’s Your Independent Grocer\, 30 Beaver Avenue\, Beaverton\, Ontario\, L0K 1A0\, Canada
END:VEVENT
BEGIN:VEVENT
DTSTART;TZID=America/Toronto:20271124T080000
DTEND;TZID=America/Toronto:20271124T090000
DTSTAMP:20260421T170709
CREATED:20231222T155956Z
LAST-MODIFIED:20231222T155956Z
UID:10009609-1827043200-1827046800@www.brockchc.ca
SUMMARY:Indoor Walking
DESCRIPTION:Walk your way to better physical and mental health in a safe and dry environment.  Every step counts to help you feel better\, sleep better and have more energy.
URL:https://www.brockchc.ca/calendar/indoor-walking/2027-11-24/
LOCATION:Fisher’s Your Independent Grocer\, 30 Beaver Avenue\, Beaverton\, Ontario\, L0K 1A0\, Canada
END:VEVENT
BEGIN:VEVENT
DTSTART;TZID=America/Toronto:20271125T080000
DTEND;TZID=America/Toronto:20271125T090000
DTSTAMP:20260421T170709
CREATED:20231222T155956Z
LAST-MODIFIED:20231222T155956Z
UID:10009610-1827129600-1827133200@www.brockchc.ca
SUMMARY:Indoor Walking
DESCRIPTION:Walk your way to better physical and mental health in a safe and dry environment.  Every step counts to help you feel better\, sleep better and have more energy.
URL:https://www.brockchc.ca/calendar/indoor-walking/2027-11-25/
LOCATION:Fisher’s Your Independent Grocer\, 30 Beaver Avenue\, Beaverton\, Ontario\, L0K 1A0\, Canada
END:VEVENT
BEGIN:VEVENT
DTSTART;TZID=America/Toronto:20271126T080000
DTEND;TZID=America/Toronto:20271126T090000
DTSTAMP:20260421T170709
CREATED:20231222T155956Z
LAST-MODIFIED:20231222T155956Z
UID:10009611-1827216000-1827219600@www.brockchc.ca
SUMMARY:Indoor Walking
DESCRIPTION:Walk your way to better physical and mental health in a safe and dry environment.  Every step counts to help you feel better\, sleep better and have more energy.
URL:https://www.brockchc.ca/calendar/indoor-walking/2027-11-26/
LOCATION:Fisher’s Your Independent Grocer\, 30 Beaver Avenue\, Beaverton\, Ontario\, L0K 1A0\, Canada
END:VEVENT
BEGIN:VEVENT
DTSTART;TZID=America/Toronto:20271129T080000
DTEND;TZID=America/Toronto:20271129T090000
DTSTAMP:20260421T170709
CREATED:20231222T155956Z
LAST-MODIFIED:20231222T155956Z
UID:10009612-1827475200-1827478800@www.brockchc.ca
SUMMARY:Indoor Walking
DESCRIPTION:Walk your way to better physical and mental health in a safe and dry environment.  Every step counts to help you feel better\, sleep better and have more energy.
URL:https://www.brockchc.ca/calendar/indoor-walking/2027-11-29/
LOCATION:Fisher’s Your Independent Grocer\, 30 Beaver Avenue\, Beaverton\, Ontario\, L0K 1A0\, Canada
END:VEVENT
BEGIN:VEVENT
DTSTART;TZID=America/Toronto:20271130T080000
DTEND;TZID=America/Toronto:20271130T090000
DTSTAMP:20260421T170709
CREATED:20231222T155956Z
LAST-MODIFIED:20231222T155956Z
UID:10009613-1827561600-1827565200@www.brockchc.ca
SUMMARY:Indoor Walking
DESCRIPTION:Walk your way to better physical and mental health in a safe and dry environment.  Every step counts to help you feel better\, sleep better and have more energy.
URL:https://www.brockchc.ca/calendar/indoor-walking/2027-11-30/
LOCATION:Fisher’s Your Independent Grocer\, 30 Beaver Avenue\, Beaverton\, Ontario\, L0K 1A0\, Canada
END:VEVENT
BEGIN:VEVENT
DTSTART;TZID=America/Toronto:20271201T080000
DTEND;TZID=America/Toronto:20271201T090000
DTSTAMP:20260421T170709
CREATED:20231222T155956Z
LAST-MODIFIED:20231222T155956Z
UID:10009614-1827648000-1827651600@www.brockchc.ca
SUMMARY:Indoor Walking
DESCRIPTION:Walk your way to better physical and mental health in a safe and dry environment.  Every step counts to help you feel better\, sleep better and have more energy.
URL:https://www.brockchc.ca/calendar/indoor-walking/2027-12-01/
LOCATION:Fisher’s Your Independent Grocer\, 30 Beaver Avenue\, Beaverton\, Ontario\, L0K 1A0\, Canada
END:VEVENT
BEGIN:VEVENT
DTSTART;TZID=America/Toronto:20271202T080000
DTEND;TZID=America/Toronto:20271202T090000
DTSTAMP:20260421T170709
CREATED:20231222T155956Z
LAST-MODIFIED:20231222T155956Z
UID:10009615-1827734400-1827738000@www.brockchc.ca
SUMMARY:Indoor Walking
DESCRIPTION:Walk your way to better physical and mental health in a safe and dry environment.  Every step counts to help you feel better\, sleep better and have more energy.
URL:https://www.brockchc.ca/calendar/indoor-walking/2027-12-02/
LOCATION:Fisher’s Your Independent Grocer\, 30 Beaver Avenue\, Beaverton\, Ontario\, L0K 1A0\, Canada
END:VEVENT
BEGIN:VEVENT
DTSTART;TZID=America/Toronto:20271203T080000
DTEND;TZID=America/Toronto:20271203T090000
DTSTAMP:20260421T170709
CREATED:20231222T155956Z
LAST-MODIFIED:20231222T155956Z
UID:10009616-1827820800-1827824400@www.brockchc.ca
SUMMARY:Indoor Walking
DESCRIPTION:Walk your way to better physical and mental health in a safe and dry environment.  Every step counts to help you feel better\, sleep better and have more energy.
URL:https://www.brockchc.ca/calendar/indoor-walking/2027-12-03/
LOCATION:Fisher’s Your Independent Grocer\, 30 Beaver Avenue\, Beaverton\, Ontario\, L0K 1A0\, Canada
END:VEVENT
BEGIN:VEVENT
DTSTART;TZID=America/Toronto:20271206T080000
DTEND;TZID=America/Toronto:20271206T090000
DTSTAMP:20260421T170709
CREATED:20231222T155956Z
LAST-MODIFIED:20231222T155956Z
UID:10009617-1828080000-1828083600@www.brockchc.ca
SUMMARY:Indoor Walking
DESCRIPTION:Walk your way to better physical and mental health in a safe and dry environment.  Every step counts to help you feel better\, sleep better and have more energy.
URL:https://www.brockchc.ca/calendar/indoor-walking/2027-12-06/
LOCATION:Fisher’s Your Independent Grocer\, 30 Beaver Avenue\, Beaverton\, Ontario\, L0K 1A0\, Canada
END:VEVENT
BEGIN:VEVENT
DTSTART;TZID=America/Toronto:20271207T080000
DTEND;TZID=America/Toronto:20271207T090000
DTSTAMP:20260421T170709
CREATED:20231222T155956Z
LAST-MODIFIED:20231222T155956Z
UID:10009618-1828166400-1828170000@www.brockchc.ca
SUMMARY:Indoor Walking
DESCRIPTION:Walk your way to better physical and mental health in a safe and dry environment.  Every step counts to help you feel better\, sleep better and have more energy.
URL:https://www.brockchc.ca/calendar/indoor-walking/2027-12-07/
LOCATION:Fisher’s Your Independent Grocer\, 30 Beaver Avenue\, Beaverton\, Ontario\, L0K 1A0\, Canada
END:VEVENT
BEGIN:VEVENT
DTSTART;TZID=America/Toronto:20271208T080000
DTEND;TZID=America/Toronto:20271208T090000
DTSTAMP:20260421T170709
CREATED:20231222T155956Z
LAST-MODIFIED:20231222T155956Z
UID:10009619-1828252800-1828256400@www.brockchc.ca
SUMMARY:Indoor Walking
DESCRIPTION:Walk your way to better physical and mental health in a safe and dry environment.  Every step counts to help you feel better\, sleep better and have more energy.
URL:https://www.brockchc.ca/calendar/indoor-walking/2027-12-08/
LOCATION:Fisher’s Your Independent Grocer\, 30 Beaver Avenue\, Beaverton\, Ontario\, L0K 1A0\, Canada
END:VEVENT
BEGIN:VEVENT
DTSTART;TZID=America/Toronto:20271209T080000
DTEND;TZID=America/Toronto:20271209T090000
DTSTAMP:20260421T170709
CREATED:20231222T155956Z
LAST-MODIFIED:20231222T155956Z
UID:10009620-1828339200-1828342800@www.brockchc.ca
SUMMARY:Indoor Walking
DESCRIPTION:Walk your way to better physical and mental health in a safe and dry environment.  Every step counts to help you feel better\, sleep better and have more energy.
URL:https://www.brockchc.ca/calendar/indoor-walking/2027-12-09/
LOCATION:Fisher’s Your Independent Grocer\, 30 Beaver Avenue\, Beaverton\, Ontario\, L0K 1A0\, Canada
END:VEVENT
BEGIN:VEVENT
DTSTART;TZID=America/Toronto:20271210T080000
DTEND;TZID=America/Toronto:20271210T090000
DTSTAMP:20260421T170709
CREATED:20231222T155956Z
LAST-MODIFIED:20231222T155956Z
UID:10009621-1828425600-1828429200@www.brockchc.ca
SUMMARY:Indoor Walking
DESCRIPTION:Walk your way to better physical and mental health in a safe and dry environment.  Every step counts to help you feel better\, sleep better and have more energy.
URL:https://www.brockchc.ca/calendar/indoor-walking/2027-12-10/
LOCATION:Fisher’s Your Independent Grocer\, 30 Beaver Avenue\, Beaverton\, Ontario\, L0K 1A0\, Canada
END:VEVENT
BEGIN:VEVENT
DTSTART;TZID=America/Toronto:20271213T080000
DTEND;TZID=America/Toronto:20271213T090000
DTSTAMP:20260421T170709
CREATED:20231222T155956Z
LAST-MODIFIED:20231222T155956Z
UID:10009622-1828684800-1828688400@www.brockchc.ca
SUMMARY:Indoor Walking
DESCRIPTION:Walk your way to better physical and mental health in a safe and dry environment.  Every step counts to help you feel better\, sleep better and have more energy.
URL:https://www.brockchc.ca/calendar/indoor-walking/2027-12-13/
LOCATION:Fisher’s Your Independent Grocer\, 30 Beaver Avenue\, Beaverton\, Ontario\, L0K 1A0\, Canada
END:VEVENT
BEGIN:VEVENT
DTSTART;TZID=America/Toronto:20271214T080000
DTEND;TZID=America/Toronto:20271214T090000
DTSTAMP:20260421T170709
CREATED:20231222T155956Z
LAST-MODIFIED:20231222T155956Z
UID:10009623-1828771200-1828774800@www.brockchc.ca
SUMMARY:Indoor Walking
DESCRIPTION:Walk your way to better physical and mental health in a safe and dry environment.  Every step counts to help you feel better\, sleep better and have more energy.
URL:https://www.brockchc.ca/calendar/indoor-walking/2027-12-14/
LOCATION:Fisher’s Your Independent Grocer\, 30 Beaver Avenue\, Beaverton\, Ontario\, L0K 1A0\, Canada
END:VEVENT
BEGIN:VEVENT
DTSTART;TZID=America/Toronto:20271215T080000
DTEND;TZID=America/Toronto:20271215T090000
DTSTAMP:20260421T170709
CREATED:20231222T155956Z
LAST-MODIFIED:20231222T155956Z
UID:10009624-1828857600-1828861200@www.brockchc.ca
SUMMARY:Indoor Walking
DESCRIPTION:Walk your way to better physical and mental health in a safe and dry environment.  Every step counts to help you feel better\, sleep better and have more energy.
URL:https://www.brockchc.ca/calendar/indoor-walking/2027-12-15/
LOCATION:Fisher’s Your Independent Grocer\, 30 Beaver Avenue\, Beaverton\, Ontario\, L0K 1A0\, Canada
END:VEVENT
BEGIN:VEVENT
DTSTART;TZID=America/Toronto:20271216T080000
DTEND;TZID=America/Toronto:20271216T090000
DTSTAMP:20260421T170709
CREATED:20231222T155956Z
LAST-MODIFIED:20231222T155956Z
UID:10009625-1828944000-1828947600@www.brockchc.ca
SUMMARY:Indoor Walking
DESCRIPTION:Walk your way to better physical and mental health in a safe and dry environment.  Every step counts to help you feel better\, sleep better and have more energy.
URL:https://www.brockchc.ca/calendar/indoor-walking/2027-12-16/
LOCATION:Fisher’s Your Independent Grocer\, 30 Beaver Avenue\, Beaverton\, Ontario\, L0K 1A0\, Canada
END:VEVENT
BEGIN:VEVENT
DTSTART;TZID=America/Toronto:20271217T080000
DTEND;TZID=America/Toronto:20271217T090000
DTSTAMP:20260421T170709
CREATED:20231222T155956Z
LAST-MODIFIED:20231222T155956Z
UID:10009626-1829030400-1829034000@www.brockchc.ca
SUMMARY:Indoor Walking
DESCRIPTION:Walk your way to better physical and mental health in a safe and dry environment.  Every step counts to help you feel better\, sleep better and have more energy.
URL:https://www.brockchc.ca/calendar/indoor-walking/2027-12-17/
LOCATION:Fisher’s Your Independent Grocer\, 30 Beaver Avenue\, Beaverton\, Ontario\, L0K 1A0\, Canada
END:VEVENT
BEGIN:VEVENT
DTSTART;TZID=America/Toronto:20271220T080000
DTEND;TZID=America/Toronto:20271220T090000
DTSTAMP:20260421T170709
CREATED:20231222T155956Z
LAST-MODIFIED:20231222T155956Z
UID:10009627-1829289600-1829293200@www.brockchc.ca
SUMMARY:Indoor Walking
DESCRIPTION:Walk your way to better physical and mental health in a safe and dry environment.  Every step counts to help you feel better\, sleep better and have more energy.
URL:https://www.brockchc.ca/calendar/indoor-walking/2027-12-20/
LOCATION:Fisher’s Your Independent Grocer\, 30 Beaver Avenue\, Beaverton\, Ontario\, L0K 1A0\, Canada
END:VEVENT
BEGIN:VEVENT
DTSTART;TZID=America/Toronto:20271221T080000
DTEND;TZID=America/Toronto:20271221T090000
DTSTAMP:20260421T170709
CREATED:20231222T155956Z
LAST-MODIFIED:20231222T155956Z
UID:10009628-1829376000-1829379600@www.brockchc.ca
SUMMARY:Indoor Walking
DESCRIPTION:Walk your way to better physical and mental health in a safe and dry environment.  Every step counts to help you feel better\, sleep better and have more energy.
URL:https://www.brockchc.ca/calendar/indoor-walking/2027-12-21/
LOCATION:Fisher’s Your Independent Grocer\, 30 Beaver Avenue\, Beaverton\, Ontario\, L0K 1A0\, Canada
END:VEVENT
BEGIN:VEVENT
DTSTART;TZID=America/Toronto:20271222T080000
DTEND;TZID=America/Toronto:20271222T090000
DTSTAMP:20260421T170709
CREATED:20231222T155956Z
LAST-MODIFIED:20231222T155956Z
UID:10009629-1829462400-1829466000@www.brockchc.ca
SUMMARY:Indoor Walking
DESCRIPTION:Walk your way to better physical and mental health in a safe and dry environment.  Every step counts to help you feel better\, sleep better and have more energy.
URL:https://www.brockchc.ca/calendar/indoor-walking/2027-12-22/
LOCATION:Fisher’s Your Independent Grocer\, 30 Beaver Avenue\, Beaverton\, Ontario\, L0K 1A0\, Canada
END:VEVENT
BEGIN:VEVENT
DTSTART;TZID=America/Toronto:20271223T080000
DTEND;TZID=America/Toronto:20271223T090000
DTSTAMP:20260421T170709
CREATED:20231222T155956Z
LAST-MODIFIED:20231222T155956Z
UID:10009630-1829548800-1829552400@www.brockchc.ca
SUMMARY:Indoor Walking
DESCRIPTION:Walk your way to better physical and mental health in a safe and dry environment.  Every step counts to help you feel better\, sleep better and have more energy.
URL:https://www.brockchc.ca/calendar/indoor-walking/2027-12-23/
LOCATION:Fisher’s Your Independent Grocer\, 30 Beaver Avenue\, Beaverton\, Ontario\, L0K 1A0\, Canada
END:VEVENT
BEGIN:VEVENT
DTSTART;TZID=America/Toronto:20271224T080000
DTEND;TZID=America/Toronto:20271224T090000
DTSTAMP:20260421T170709
CREATED:20231222T155956Z
LAST-MODIFIED:20231222T155956Z
UID:10009631-1829635200-1829638800@www.brockchc.ca
SUMMARY:Indoor Walking
DESCRIPTION:Walk your way to better physical and mental health in a safe and dry environment.  Every step counts to help you feel better\, sleep better and have more energy.
URL:https://www.brockchc.ca/calendar/indoor-walking/2027-12-24/
LOCATION:Fisher’s Your Independent Grocer\, 30 Beaver Avenue\, Beaverton\, Ontario\, L0K 1A0\, Canada
END:VEVENT
END:VCALENDAR