BEGIN:VCALENDAR
VERSION:2.0
PRODID:-//Brock Community Health Centre - ECPv6.15.20//NONSGML v1.0//EN
CALSCALE:GREGORIAN
METHOD:PUBLISH
X-WR-CALNAME:Brock Community Health Centre
X-ORIGINAL-URL:https://www.brockchc.ca
X-WR-CALDESC:Events for Brock Community Health Centre
REFRESH-INTERVAL;VALUE=DURATION:PT1H
X-Robots-Tag:noindex
X-PUBLISHED-TTL:PT1H
BEGIN:VTIMEZONE
TZID:America/Toronto
BEGIN:DAYLIGHT
TZOFFSETFROM:-0500
TZOFFSETTO:-0400
TZNAME:EDT
DTSTART:20260308T070000
END:DAYLIGHT
BEGIN:STANDARD
TZOFFSETFROM:-0400
TZOFFSETTO:-0500
TZNAME:EST
DTSTART:20261101T060000
END:STANDARD
BEGIN:DAYLIGHT
TZOFFSETFROM:-0500
TZOFFSETTO:-0400
TZNAME:EDT
DTSTART:20270314T070000
END:DAYLIGHT
BEGIN:STANDARD
TZOFFSETFROM:-0400
TZOFFSETTO:-0500
TZNAME:EST
DTSTART:20271107T060000
END:STANDARD
BEGIN:DAYLIGHT
TZOFFSETFROM:-0500
TZOFFSETTO:-0400
TZNAME:EDT
DTSTART:20280312T070000
END:DAYLIGHT
BEGIN:STANDARD
TZOFFSETFROM:-0400
TZOFFSETTO:-0500
TZNAME:EST
DTSTART:20281105T060000
END:STANDARD
END:VTIMEZONE
BEGIN:VEVENT
DTSTART;TZID=America/Toronto:20270201T080000
DTEND;TZID=America/Toronto:20270201T090000
DTSTAMP:20260420T155745
CREATED:20231222T155956Z
LAST-MODIFIED:20231222T155956Z
UID:10009397-1801468800-1801472400@www.brockchc.ca
SUMMARY:Indoor Walking
DESCRIPTION:Walk your way to better physical and mental health in a safe and dry environment.  Every step counts to help you feel better\, sleep better and have more energy.
URL:https://www.brockchc.ca/calendar/indoor-walking/2027-02-01/
LOCATION:Fisher’s Your Independent Grocer\, 30 Beaver Avenue\, Beaverton\, Ontario\, L0K 1A0\, Canada
END:VEVENT
BEGIN:VEVENT
DTSTART;TZID=America/Toronto:20270202T080000
DTEND;TZID=America/Toronto:20270202T090000
DTSTAMP:20260420T155745
CREATED:20231222T155956Z
LAST-MODIFIED:20231222T155956Z
UID:10009398-1801555200-1801558800@www.brockchc.ca
SUMMARY:Indoor Walking
DESCRIPTION:Walk your way to better physical and mental health in a safe and dry environment.  Every step counts to help you feel better\, sleep better and have more energy.
URL:https://www.brockchc.ca/calendar/indoor-walking/2027-02-02/
LOCATION:Fisher’s Your Independent Grocer\, 30 Beaver Avenue\, Beaverton\, Ontario\, L0K 1A0\, Canada
END:VEVENT
BEGIN:VEVENT
DTSTART;TZID=America/Toronto:20270203T080000
DTEND;TZID=America/Toronto:20270203T090000
DTSTAMP:20260420T155745
CREATED:20231222T155956Z
LAST-MODIFIED:20231222T155956Z
UID:10009399-1801641600-1801645200@www.brockchc.ca
SUMMARY:Indoor Walking
DESCRIPTION:Walk your way to better physical and mental health in a safe and dry environment.  Every step counts to help you feel better\, sleep better and have more energy.
URL:https://www.brockchc.ca/calendar/indoor-walking/2027-02-03/
LOCATION:Fisher’s Your Independent Grocer\, 30 Beaver Avenue\, Beaverton\, Ontario\, L0K 1A0\, Canada
END:VEVENT
BEGIN:VEVENT
DTSTART;TZID=America/Toronto:20270204T080000
DTEND;TZID=America/Toronto:20270204T090000
DTSTAMP:20260420T155745
CREATED:20231222T155956Z
LAST-MODIFIED:20231222T155956Z
UID:10009400-1801728000-1801731600@www.brockchc.ca
SUMMARY:Indoor Walking
DESCRIPTION:Walk your way to better physical and mental health in a safe and dry environment.  Every step counts to help you feel better\, sleep better and have more energy.
URL:https://www.brockchc.ca/calendar/indoor-walking/2027-02-04/
LOCATION:Fisher’s Your Independent Grocer\, 30 Beaver Avenue\, Beaverton\, Ontario\, L0K 1A0\, Canada
END:VEVENT
BEGIN:VEVENT
DTSTART;TZID=America/Toronto:20270205T080000
DTEND;TZID=America/Toronto:20270205T090000
DTSTAMP:20260420T155745
CREATED:20231222T155956Z
LAST-MODIFIED:20231222T155956Z
UID:10009401-1801814400-1801818000@www.brockchc.ca
SUMMARY:Indoor Walking
DESCRIPTION:Walk your way to better physical and mental health in a safe and dry environment.  Every step counts to help you feel better\, sleep better and have more energy.
URL:https://www.brockchc.ca/calendar/indoor-walking/2027-02-05/
LOCATION:Fisher’s Your Independent Grocer\, 30 Beaver Avenue\, Beaverton\, Ontario\, L0K 1A0\, Canada
END:VEVENT
BEGIN:VEVENT
DTSTART;TZID=America/Toronto:20270208T080000
DTEND;TZID=America/Toronto:20270208T090000
DTSTAMP:20260420T155745
CREATED:20231222T155956Z
LAST-MODIFIED:20231222T155956Z
UID:10009402-1802073600-1802077200@www.brockchc.ca
SUMMARY:Indoor Walking
DESCRIPTION:Walk your way to better physical and mental health in a safe and dry environment.  Every step counts to help you feel better\, sleep better and have more energy.
URL:https://www.brockchc.ca/calendar/indoor-walking/2027-02-08/
LOCATION:Fisher’s Your Independent Grocer\, 30 Beaver Avenue\, Beaverton\, Ontario\, L0K 1A0\, Canada
END:VEVENT
BEGIN:VEVENT
DTSTART;TZID=America/Toronto:20270209T080000
DTEND;TZID=America/Toronto:20270209T090000
DTSTAMP:20260420T155745
CREATED:20231222T155956Z
LAST-MODIFIED:20231222T155956Z
UID:10009403-1802160000-1802163600@www.brockchc.ca
SUMMARY:Indoor Walking
DESCRIPTION:Walk your way to better physical and mental health in a safe and dry environment.  Every step counts to help you feel better\, sleep better and have more energy.
URL:https://www.brockchc.ca/calendar/indoor-walking/2027-02-09/
LOCATION:Fisher’s Your Independent Grocer\, 30 Beaver Avenue\, Beaverton\, Ontario\, L0K 1A0\, Canada
END:VEVENT
BEGIN:VEVENT
DTSTART;TZID=America/Toronto:20270210T080000
DTEND;TZID=America/Toronto:20270210T090000
DTSTAMP:20260420T155745
CREATED:20231222T155956Z
LAST-MODIFIED:20231222T155956Z
UID:10009404-1802246400-1802250000@www.brockchc.ca
SUMMARY:Indoor Walking
DESCRIPTION:Walk your way to better physical and mental health in a safe and dry environment.  Every step counts to help you feel better\, sleep better and have more energy.
URL:https://www.brockchc.ca/calendar/indoor-walking/2027-02-10/
LOCATION:Fisher’s Your Independent Grocer\, 30 Beaver Avenue\, Beaverton\, Ontario\, L0K 1A0\, Canada
END:VEVENT
BEGIN:VEVENT
DTSTART;TZID=America/Toronto:20270211T080000
DTEND;TZID=America/Toronto:20270211T090000
DTSTAMP:20260420T155745
CREATED:20231222T155956Z
LAST-MODIFIED:20231222T155956Z
UID:10009405-1802332800-1802336400@www.brockchc.ca
SUMMARY:Indoor Walking
DESCRIPTION:Walk your way to better physical and mental health in a safe and dry environment.  Every step counts to help you feel better\, sleep better and have more energy.
URL:https://www.brockchc.ca/calendar/indoor-walking/2027-02-11/
LOCATION:Fisher’s Your Independent Grocer\, 30 Beaver Avenue\, Beaverton\, Ontario\, L0K 1A0\, Canada
END:VEVENT
BEGIN:VEVENT
DTSTART;TZID=America/Toronto:20270212T080000
DTEND;TZID=America/Toronto:20270212T090000
DTSTAMP:20260420T155745
CREATED:20231222T155956Z
LAST-MODIFIED:20231222T155956Z
UID:10009406-1802419200-1802422800@www.brockchc.ca
SUMMARY:Indoor Walking
DESCRIPTION:Walk your way to better physical and mental health in a safe and dry environment.  Every step counts to help you feel better\, sleep better and have more energy.
URL:https://www.brockchc.ca/calendar/indoor-walking/2027-02-12/
LOCATION:Fisher’s Your Independent Grocer\, 30 Beaver Avenue\, Beaverton\, Ontario\, L0K 1A0\, Canada
END:VEVENT
BEGIN:VEVENT
DTSTART;TZID=America/Toronto:20270215T080000
DTEND;TZID=America/Toronto:20270215T090000
DTSTAMP:20260420T155745
CREATED:20231222T155956Z
LAST-MODIFIED:20231222T155956Z
UID:10009407-1802678400-1802682000@www.brockchc.ca
SUMMARY:Indoor Walking
DESCRIPTION:Walk your way to better physical and mental health in a safe and dry environment.  Every step counts to help you feel better\, sleep better and have more energy.
URL:https://www.brockchc.ca/calendar/indoor-walking/2027-02-15/
LOCATION:Fisher’s Your Independent Grocer\, 30 Beaver Avenue\, Beaverton\, Ontario\, L0K 1A0\, Canada
END:VEVENT
BEGIN:VEVENT
DTSTART;TZID=America/Toronto:20270216T080000
DTEND;TZID=America/Toronto:20270216T090000
DTSTAMP:20260420T155745
CREATED:20231222T155956Z
LAST-MODIFIED:20231222T155956Z
UID:10009408-1802764800-1802768400@www.brockchc.ca
SUMMARY:Indoor Walking
DESCRIPTION:Walk your way to better physical and mental health in a safe and dry environment.  Every step counts to help you feel better\, sleep better and have more energy.
URL:https://www.brockchc.ca/calendar/indoor-walking/2027-02-16/
LOCATION:Fisher’s Your Independent Grocer\, 30 Beaver Avenue\, Beaverton\, Ontario\, L0K 1A0\, Canada
END:VEVENT
BEGIN:VEVENT
DTSTART;TZID=America/Toronto:20270217T080000
DTEND;TZID=America/Toronto:20270217T090000
DTSTAMP:20260420T155745
CREATED:20231222T155956Z
LAST-MODIFIED:20231222T155956Z
UID:10009409-1802851200-1802854800@www.brockchc.ca
SUMMARY:Indoor Walking
DESCRIPTION:Walk your way to better physical and mental health in a safe and dry environment.  Every step counts to help you feel better\, sleep better and have more energy.
URL:https://www.brockchc.ca/calendar/indoor-walking/2027-02-17/
LOCATION:Fisher’s Your Independent Grocer\, 30 Beaver Avenue\, Beaverton\, Ontario\, L0K 1A0\, Canada
END:VEVENT
BEGIN:VEVENT
DTSTART;TZID=America/Toronto:20270218T080000
DTEND;TZID=America/Toronto:20270218T090000
DTSTAMP:20260420T155745
CREATED:20231222T155956Z
LAST-MODIFIED:20231222T155956Z
UID:10009410-1802937600-1802941200@www.brockchc.ca
SUMMARY:Indoor Walking
DESCRIPTION:Walk your way to better physical and mental health in a safe and dry environment.  Every step counts to help you feel better\, sleep better and have more energy.
URL:https://www.brockchc.ca/calendar/indoor-walking/2027-02-18/
LOCATION:Fisher’s Your Independent Grocer\, 30 Beaver Avenue\, Beaverton\, Ontario\, L0K 1A0\, Canada
END:VEVENT
BEGIN:VEVENT
DTSTART;TZID=America/Toronto:20270219T080000
DTEND;TZID=America/Toronto:20270219T090000
DTSTAMP:20260420T155745
CREATED:20231222T155956Z
LAST-MODIFIED:20231222T155956Z
UID:10009411-1803024000-1803027600@www.brockchc.ca
SUMMARY:Indoor Walking
DESCRIPTION:Walk your way to better physical and mental health in a safe and dry environment.  Every step counts to help you feel better\, sleep better and have more energy.
URL:https://www.brockchc.ca/calendar/indoor-walking/2027-02-19/
LOCATION:Fisher’s Your Independent Grocer\, 30 Beaver Avenue\, Beaverton\, Ontario\, L0K 1A0\, Canada
END:VEVENT
BEGIN:VEVENT
DTSTART;TZID=America/Toronto:20270222T080000
DTEND;TZID=America/Toronto:20270222T090000
DTSTAMP:20260420T155745
CREATED:20231222T155956Z
LAST-MODIFIED:20231222T155956Z
UID:10009412-1803283200-1803286800@www.brockchc.ca
SUMMARY:Indoor Walking
DESCRIPTION:Walk your way to better physical and mental health in a safe and dry environment.  Every step counts to help you feel better\, sleep better and have more energy.
URL:https://www.brockchc.ca/calendar/indoor-walking/2027-02-22/
LOCATION:Fisher’s Your Independent Grocer\, 30 Beaver Avenue\, Beaverton\, Ontario\, L0K 1A0\, Canada
END:VEVENT
BEGIN:VEVENT
DTSTART;TZID=America/Toronto:20270223T080000
DTEND;TZID=America/Toronto:20270223T090000
DTSTAMP:20260420T155745
CREATED:20231222T155956Z
LAST-MODIFIED:20231222T155956Z
UID:10009413-1803369600-1803373200@www.brockchc.ca
SUMMARY:Indoor Walking
DESCRIPTION:Walk your way to better physical and mental health in a safe and dry environment.  Every step counts to help you feel better\, sleep better and have more energy.
URL:https://www.brockchc.ca/calendar/indoor-walking/2027-02-23/
LOCATION:Fisher’s Your Independent Grocer\, 30 Beaver Avenue\, Beaverton\, Ontario\, L0K 1A0\, Canada
END:VEVENT
BEGIN:VEVENT
DTSTART;TZID=America/Toronto:20270224T080000
DTEND;TZID=America/Toronto:20270224T090000
DTSTAMP:20260420T155745
CREATED:20231222T155956Z
LAST-MODIFIED:20231222T155956Z
UID:10009414-1803456000-1803459600@www.brockchc.ca
SUMMARY:Indoor Walking
DESCRIPTION:Walk your way to better physical and mental health in a safe and dry environment.  Every step counts to help you feel better\, sleep better and have more energy.
URL:https://www.brockchc.ca/calendar/indoor-walking/2027-02-24/
LOCATION:Fisher’s Your Independent Grocer\, 30 Beaver Avenue\, Beaverton\, Ontario\, L0K 1A0\, Canada
END:VEVENT
BEGIN:VEVENT
DTSTART;TZID=America/Toronto:20270225T080000
DTEND;TZID=America/Toronto:20270225T090000
DTSTAMP:20260420T155745
CREATED:20231222T155956Z
LAST-MODIFIED:20231222T155956Z
UID:10009415-1803542400-1803546000@www.brockchc.ca
SUMMARY:Indoor Walking
DESCRIPTION:Walk your way to better physical and mental health in a safe and dry environment.  Every step counts to help you feel better\, sleep better and have more energy.
URL:https://www.brockchc.ca/calendar/indoor-walking/2027-02-25/
LOCATION:Fisher’s Your Independent Grocer\, 30 Beaver Avenue\, Beaverton\, Ontario\, L0K 1A0\, Canada
END:VEVENT
BEGIN:VEVENT
DTSTART;TZID=America/Toronto:20270226T080000
DTEND;TZID=America/Toronto:20270226T090000
DTSTAMP:20260420T155745
CREATED:20231222T155956Z
LAST-MODIFIED:20231222T155956Z
UID:10009416-1803628800-1803632400@www.brockchc.ca
SUMMARY:Indoor Walking
DESCRIPTION:Walk your way to better physical and mental health in a safe and dry environment.  Every step counts to help you feel better\, sleep better and have more energy.
URL:https://www.brockchc.ca/calendar/indoor-walking/2027-02-26/
LOCATION:Fisher’s Your Independent Grocer\, 30 Beaver Avenue\, Beaverton\, Ontario\, L0K 1A0\, Canada
END:VEVENT
BEGIN:VEVENT
DTSTART;TZID=America/Toronto:20270301T080000
DTEND;TZID=America/Toronto:20270301T090000
DTSTAMP:20260420T155745
CREATED:20231222T155956Z
LAST-MODIFIED:20231222T155956Z
UID:10009417-1803888000-1803891600@www.brockchc.ca
SUMMARY:Indoor Walking
DESCRIPTION:Walk your way to better physical and mental health in a safe and dry environment.  Every step counts to help you feel better\, sleep better and have more energy.
URL:https://www.brockchc.ca/calendar/indoor-walking/2027-03-01/
LOCATION:Fisher’s Your Independent Grocer\, 30 Beaver Avenue\, Beaverton\, Ontario\, L0K 1A0\, Canada
END:VEVENT
BEGIN:VEVENT
DTSTART;TZID=America/Toronto:20270302T080000
DTEND;TZID=America/Toronto:20270302T090000
DTSTAMP:20260420T155745
CREATED:20231222T155956Z
LAST-MODIFIED:20231222T155956Z
UID:10009418-1803974400-1803978000@www.brockchc.ca
SUMMARY:Indoor Walking
DESCRIPTION:Walk your way to better physical and mental health in a safe and dry environment.  Every step counts to help you feel better\, sleep better and have more energy.
URL:https://www.brockchc.ca/calendar/indoor-walking/2027-03-02/
LOCATION:Fisher’s Your Independent Grocer\, 30 Beaver Avenue\, Beaverton\, Ontario\, L0K 1A0\, Canada
END:VEVENT
BEGIN:VEVENT
DTSTART;TZID=America/Toronto:20270303T080000
DTEND;TZID=America/Toronto:20270303T090000
DTSTAMP:20260420T155745
CREATED:20231222T155956Z
LAST-MODIFIED:20231222T155956Z
UID:10009419-1804060800-1804064400@www.brockchc.ca
SUMMARY:Indoor Walking
DESCRIPTION:Walk your way to better physical and mental health in a safe and dry environment.  Every step counts to help you feel better\, sleep better and have more energy.
URL:https://www.brockchc.ca/calendar/indoor-walking/2027-03-03/
LOCATION:Fisher’s Your Independent Grocer\, 30 Beaver Avenue\, Beaverton\, Ontario\, L0K 1A0\, Canada
END:VEVENT
BEGIN:VEVENT
DTSTART;TZID=America/Toronto:20270304T080000
DTEND;TZID=America/Toronto:20270304T090000
DTSTAMP:20260420T155745
CREATED:20231222T155956Z
LAST-MODIFIED:20231222T155956Z
UID:10009420-1804147200-1804150800@www.brockchc.ca
SUMMARY:Indoor Walking
DESCRIPTION:Walk your way to better physical and mental health in a safe and dry environment.  Every step counts to help you feel better\, sleep better and have more energy.
URL:https://www.brockchc.ca/calendar/indoor-walking/2027-03-04/
LOCATION:Fisher’s Your Independent Grocer\, 30 Beaver Avenue\, Beaverton\, Ontario\, L0K 1A0\, Canada
END:VEVENT
BEGIN:VEVENT
DTSTART;TZID=America/Toronto:20270305T080000
DTEND;TZID=America/Toronto:20270305T090000
DTSTAMP:20260420T155745
CREATED:20231222T155956Z
LAST-MODIFIED:20231222T155956Z
UID:10009421-1804233600-1804237200@www.brockchc.ca
SUMMARY:Indoor Walking
DESCRIPTION:Walk your way to better physical and mental health in a safe and dry environment.  Every step counts to help you feel better\, sleep better and have more energy.
URL:https://www.brockchc.ca/calendar/indoor-walking/2027-03-05/
LOCATION:Fisher’s Your Independent Grocer\, 30 Beaver Avenue\, Beaverton\, Ontario\, L0K 1A0\, Canada
END:VEVENT
BEGIN:VEVENT
DTSTART;TZID=America/Toronto:20270308T080000
DTEND;TZID=America/Toronto:20270308T090000
DTSTAMP:20260420T155745
CREATED:20231222T155956Z
LAST-MODIFIED:20231222T155956Z
UID:10009422-1804492800-1804496400@www.brockchc.ca
SUMMARY:Indoor Walking
DESCRIPTION:Walk your way to better physical and mental health in a safe and dry environment.  Every step counts to help you feel better\, sleep better and have more energy.
URL:https://www.brockchc.ca/calendar/indoor-walking/2027-03-08/
LOCATION:Fisher’s Your Independent Grocer\, 30 Beaver Avenue\, Beaverton\, Ontario\, L0K 1A0\, Canada
END:VEVENT
BEGIN:VEVENT
DTSTART;TZID=America/Toronto:20270309T080000
DTEND;TZID=America/Toronto:20270309T090000
DTSTAMP:20260420T155745
CREATED:20231222T155956Z
LAST-MODIFIED:20231222T155956Z
UID:10009423-1804579200-1804582800@www.brockchc.ca
SUMMARY:Indoor Walking
DESCRIPTION:Walk your way to better physical and mental health in a safe and dry environment.  Every step counts to help you feel better\, sleep better and have more energy.
URL:https://www.brockchc.ca/calendar/indoor-walking/2027-03-09/
LOCATION:Fisher’s Your Independent Grocer\, 30 Beaver Avenue\, Beaverton\, Ontario\, L0K 1A0\, Canada
END:VEVENT
BEGIN:VEVENT
DTSTART;TZID=America/Toronto:20270310T080000
DTEND;TZID=America/Toronto:20270310T090000
DTSTAMP:20260420T155745
CREATED:20231222T155956Z
LAST-MODIFIED:20231222T155956Z
UID:10009424-1804665600-1804669200@www.brockchc.ca
SUMMARY:Indoor Walking
DESCRIPTION:Walk your way to better physical and mental health in a safe and dry environment.  Every step counts to help you feel better\, sleep better and have more energy.
URL:https://www.brockchc.ca/calendar/indoor-walking/2027-03-10/
LOCATION:Fisher’s Your Independent Grocer\, 30 Beaver Avenue\, Beaverton\, Ontario\, L0K 1A0\, Canada
END:VEVENT
BEGIN:VEVENT
DTSTART;TZID=America/Toronto:20270311T080000
DTEND;TZID=America/Toronto:20270311T090000
DTSTAMP:20260420T155745
CREATED:20231222T155956Z
LAST-MODIFIED:20231222T155956Z
UID:10009425-1804752000-1804755600@www.brockchc.ca
SUMMARY:Indoor Walking
DESCRIPTION:Walk your way to better physical and mental health in a safe and dry environment.  Every step counts to help you feel better\, sleep better and have more energy.
URL:https://www.brockchc.ca/calendar/indoor-walking/2027-03-11/
LOCATION:Fisher’s Your Independent Grocer\, 30 Beaver Avenue\, Beaverton\, Ontario\, L0K 1A0\, Canada
END:VEVENT
BEGIN:VEVENT
DTSTART;TZID=America/Toronto:20270312T080000
DTEND;TZID=America/Toronto:20270312T090000
DTSTAMP:20260420T155745
CREATED:20231222T155956Z
LAST-MODIFIED:20231222T155956Z
UID:10009426-1804838400-1804842000@www.brockchc.ca
SUMMARY:Indoor Walking
DESCRIPTION:Walk your way to better physical and mental health in a safe and dry environment.  Every step counts to help you feel better\, sleep better and have more energy.
URL:https://www.brockchc.ca/calendar/indoor-walking/2027-03-12/
LOCATION:Fisher’s Your Independent Grocer\, 30 Beaver Avenue\, Beaverton\, Ontario\, L0K 1A0\, Canada
END:VEVENT
END:VCALENDAR