BEGIN:VCALENDAR
VERSION:2.0
PRODID:-//Brock Community Health Centre - ECPv6.15.20//NONSGML v1.0//EN
CALSCALE:GREGORIAN
METHOD:PUBLISH
X-ORIGINAL-URL:https://www.brockchc.ca
X-WR-CALDESC:Events for Brock Community Health Centre
REFRESH-INTERVAL;VALUE=DURATION:PT1H
X-Robots-Tag:noindex
X-PUBLISHED-TTL:PT1H
BEGIN:VTIMEZONE
TZID:America/Toronto
BEGIN:DAYLIGHT
TZOFFSETFROM:-0500
TZOFFSETTO:-0400
TZNAME:EDT
DTSTART:20250309T070000
END:DAYLIGHT
BEGIN:STANDARD
TZOFFSETFROM:-0400
TZOFFSETTO:-0500
TZNAME:EST
DTSTART:20251102T060000
END:STANDARD
BEGIN:DAYLIGHT
TZOFFSETFROM:-0500
TZOFFSETTO:-0400
TZNAME:EDT
DTSTART:20260308T070000
END:DAYLIGHT
BEGIN:STANDARD
TZOFFSETFROM:-0400
TZOFFSETTO:-0500
TZNAME:EST
DTSTART:20261101T060000
END:STANDARD
BEGIN:DAYLIGHT
TZOFFSETFROM:-0500
TZOFFSETTO:-0400
TZNAME:EDT
DTSTART:20270314T070000
END:DAYLIGHT
BEGIN:STANDARD
TZOFFSETFROM:-0400
TZOFFSETTO:-0500
TZNAME:EST
DTSTART:20271107T060000
END:STANDARD
BEGIN:DAYLIGHT
TZOFFSETFROM:-0500
TZOFFSETTO:-0400
TZNAME:EDT
DTSTART:20280312T070000
END:DAYLIGHT
BEGIN:STANDARD
TZOFFSETFROM:-0400
TZOFFSETTO:-0500
TZNAME:EST
DTSTART:20281105T060000
END:STANDARD
END:VTIMEZONE
BEGIN:VEVENT
DTSTART;TZID=America/Toronto:20261211T080000
DTEND;TZID=America/Toronto:20261211T090000
DTSTAMP:20260420T105813
CREATED:20231222T155956Z
LAST-MODIFIED:20231222T155956Z
UID:10009361-1796976000-1796979600@www.brockchc.ca
SUMMARY:Indoor Walking
DESCRIPTION:Walk your way to better physical and mental health in a safe and dry environment.  Every step counts to help you feel better\, sleep better and have more energy.
URL:https://www.brockchc.ca/calendar/indoor-walking/2026-12-11/
LOCATION:Fisher’s Your Independent Grocer\, 30 Beaver Avenue\, Beaverton\, Ontario\, L0K 1A0\, Canada
END:VEVENT
BEGIN:VEVENT
DTSTART;TZID=America/Toronto:20261214T080000
DTEND;TZID=America/Toronto:20261214T090000
DTSTAMP:20260420T105813
CREATED:20231222T155956Z
LAST-MODIFIED:20231222T155956Z
UID:10009362-1797235200-1797238800@www.brockchc.ca
SUMMARY:Indoor Walking
DESCRIPTION:Walk your way to better physical and mental health in a safe and dry environment.  Every step counts to help you feel better\, sleep better and have more energy.
URL:https://www.brockchc.ca/calendar/indoor-walking/2026-12-14/
LOCATION:Fisher’s Your Independent Grocer\, 30 Beaver Avenue\, Beaverton\, Ontario\, L0K 1A0\, Canada
END:VEVENT
BEGIN:VEVENT
DTSTART;TZID=America/Toronto:20261215T080000
DTEND;TZID=America/Toronto:20261215T090000
DTSTAMP:20260420T105813
CREATED:20231222T155956Z
LAST-MODIFIED:20231222T155956Z
UID:10009363-1797321600-1797325200@www.brockchc.ca
SUMMARY:Indoor Walking
DESCRIPTION:Walk your way to better physical and mental health in a safe and dry environment.  Every step counts to help you feel better\, sleep better and have more energy.
URL:https://www.brockchc.ca/calendar/indoor-walking/2026-12-15/
LOCATION:Fisher’s Your Independent Grocer\, 30 Beaver Avenue\, Beaverton\, Ontario\, L0K 1A0\, Canada
END:VEVENT
BEGIN:VEVENT
DTSTART;TZID=America/Toronto:20261216T080000
DTEND;TZID=America/Toronto:20261216T090000
DTSTAMP:20260420T105813
CREATED:20231222T155956Z
LAST-MODIFIED:20231222T155956Z
UID:10009364-1797408000-1797411600@www.brockchc.ca
SUMMARY:Indoor Walking
DESCRIPTION:Walk your way to better physical and mental health in a safe and dry environment.  Every step counts to help you feel better\, sleep better and have more energy.
URL:https://www.brockchc.ca/calendar/indoor-walking/2026-12-16/
LOCATION:Fisher’s Your Independent Grocer\, 30 Beaver Avenue\, Beaverton\, Ontario\, L0K 1A0\, Canada
END:VEVENT
BEGIN:VEVENT
DTSTART;TZID=America/Toronto:20261217T080000
DTEND;TZID=America/Toronto:20261217T090000
DTSTAMP:20260420T105813
CREATED:20231222T155956Z
LAST-MODIFIED:20231222T155956Z
UID:10009365-1797494400-1797498000@www.brockchc.ca
SUMMARY:Indoor Walking
DESCRIPTION:Walk your way to better physical and mental health in a safe and dry environment.  Every step counts to help you feel better\, sleep better and have more energy.
URL:https://www.brockchc.ca/calendar/indoor-walking/2026-12-17/
LOCATION:Fisher’s Your Independent Grocer\, 30 Beaver Avenue\, Beaverton\, Ontario\, L0K 1A0\, Canada
END:VEVENT
BEGIN:VEVENT
DTSTART;TZID=America/Toronto:20261218T080000
DTEND;TZID=America/Toronto:20261218T090000
DTSTAMP:20260420T105813
CREATED:20231222T155956Z
LAST-MODIFIED:20231222T155956Z
UID:10009366-1797580800-1797584400@www.brockchc.ca
SUMMARY:Indoor Walking
DESCRIPTION:Walk your way to better physical and mental health in a safe and dry environment.  Every step counts to help you feel better\, sleep better and have more energy.
URL:https://www.brockchc.ca/calendar/indoor-walking/2026-12-18/
LOCATION:Fisher’s Your Independent Grocer\, 30 Beaver Avenue\, Beaverton\, Ontario\, L0K 1A0\, Canada
END:VEVENT
BEGIN:VEVENT
DTSTART;TZID=America/Toronto:20261221T080000
DTEND;TZID=America/Toronto:20261221T090000
DTSTAMP:20260420T105813
CREATED:20231222T155956Z
LAST-MODIFIED:20231222T155956Z
UID:10009367-1797840000-1797843600@www.brockchc.ca
SUMMARY:Indoor Walking
DESCRIPTION:Walk your way to better physical and mental health in a safe and dry environment.  Every step counts to help you feel better\, sleep better and have more energy.
URL:https://www.brockchc.ca/calendar/indoor-walking/2026-12-21/
LOCATION:Fisher’s Your Independent Grocer\, 30 Beaver Avenue\, Beaverton\, Ontario\, L0K 1A0\, Canada
END:VEVENT
BEGIN:VEVENT
DTSTART;TZID=America/Toronto:20261222T080000
DTEND;TZID=America/Toronto:20261222T090000
DTSTAMP:20260420T105813
CREATED:20231222T155956Z
LAST-MODIFIED:20231222T155956Z
UID:10009368-1797926400-1797930000@www.brockchc.ca
SUMMARY:Indoor Walking
DESCRIPTION:Walk your way to better physical and mental health in a safe and dry environment.  Every step counts to help you feel better\, sleep better and have more energy.
URL:https://www.brockchc.ca/calendar/indoor-walking/2026-12-22/
LOCATION:Fisher’s Your Independent Grocer\, 30 Beaver Avenue\, Beaverton\, Ontario\, L0K 1A0\, Canada
END:VEVENT
BEGIN:VEVENT
DTSTART;TZID=America/Toronto:20261223T080000
DTEND;TZID=America/Toronto:20261223T090000
DTSTAMP:20260420T105813
CREATED:20231222T155956Z
LAST-MODIFIED:20231222T155956Z
UID:10009369-1798012800-1798016400@www.brockchc.ca
SUMMARY:Indoor Walking
DESCRIPTION:Walk your way to better physical and mental health in a safe and dry environment.  Every step counts to help you feel better\, sleep better and have more energy.
URL:https://www.brockchc.ca/calendar/indoor-walking/2026-12-23/
LOCATION:Fisher’s Your Independent Grocer\, 30 Beaver Avenue\, Beaverton\, Ontario\, L0K 1A0\, Canada
END:VEVENT
BEGIN:VEVENT
DTSTART;TZID=America/Toronto:20261224T080000
DTEND;TZID=America/Toronto:20261224T090000
DTSTAMP:20260420T105813
CREATED:20231222T155956Z
LAST-MODIFIED:20231222T155956Z
UID:10009370-1798099200-1798102800@www.brockchc.ca
SUMMARY:Indoor Walking
DESCRIPTION:Walk your way to better physical and mental health in a safe and dry environment.  Every step counts to help you feel better\, sleep better and have more energy.
URL:https://www.brockchc.ca/calendar/indoor-walking/2026-12-24/
LOCATION:Fisher’s Your Independent Grocer\, 30 Beaver Avenue\, Beaverton\, Ontario\, L0K 1A0\, Canada
END:VEVENT
BEGIN:VEVENT
DTSTART;TZID=America/Toronto:20261225T080000
DTEND;TZID=America/Toronto:20261225T090000
DTSTAMP:20260420T105813
CREATED:20231222T155956Z
LAST-MODIFIED:20231222T155956Z
UID:10009371-1798185600-1798189200@www.brockchc.ca
SUMMARY:Indoor Walking
DESCRIPTION:Walk your way to better physical and mental health in a safe and dry environment.  Every step counts to help you feel better\, sleep better and have more energy.
URL:https://www.brockchc.ca/calendar/indoor-walking/2026-12-25/
LOCATION:Fisher’s Your Independent Grocer\, 30 Beaver Avenue\, Beaverton\, Ontario\, L0K 1A0\, Canada
END:VEVENT
BEGIN:VEVENT
DTSTART;TZID=America/Toronto:20261228T080000
DTEND;TZID=America/Toronto:20261228T090000
DTSTAMP:20260420T105813
CREATED:20231222T155956Z
LAST-MODIFIED:20231222T155956Z
UID:10009372-1798444800-1798448400@www.brockchc.ca
SUMMARY:Indoor Walking
DESCRIPTION:Walk your way to better physical and mental health in a safe and dry environment.  Every step counts to help you feel better\, sleep better and have more energy.
URL:https://www.brockchc.ca/calendar/indoor-walking/2026-12-28/
LOCATION:Fisher’s Your Independent Grocer\, 30 Beaver Avenue\, Beaverton\, Ontario\, L0K 1A0\, Canada
END:VEVENT
BEGIN:VEVENT
DTSTART;TZID=America/Toronto:20261229T080000
DTEND;TZID=America/Toronto:20261229T090000
DTSTAMP:20260420T105813
CREATED:20231222T155956Z
LAST-MODIFIED:20231222T155956Z
UID:10009373-1798531200-1798534800@www.brockchc.ca
SUMMARY:Indoor Walking
DESCRIPTION:Walk your way to better physical and mental health in a safe and dry environment.  Every step counts to help you feel better\, sleep better and have more energy.
URL:https://www.brockchc.ca/calendar/indoor-walking/2026-12-29/
LOCATION:Fisher’s Your Independent Grocer\, 30 Beaver Avenue\, Beaverton\, Ontario\, L0K 1A0\, Canada
END:VEVENT
BEGIN:VEVENT
DTSTART;TZID=America/Toronto:20261230T080000
DTEND;TZID=America/Toronto:20261230T090000
DTSTAMP:20260420T105813
CREATED:20231222T155956Z
LAST-MODIFIED:20231222T155956Z
UID:10009374-1798617600-1798621200@www.brockchc.ca
SUMMARY:Indoor Walking
DESCRIPTION:Walk your way to better physical and mental health in a safe and dry environment.  Every step counts to help you feel better\, sleep better and have more energy.
URL:https://www.brockchc.ca/calendar/indoor-walking/2026-12-30/
LOCATION:Fisher’s Your Independent Grocer\, 30 Beaver Avenue\, Beaverton\, Ontario\, L0K 1A0\, Canada
END:VEVENT
BEGIN:VEVENT
DTSTART;TZID=America/Toronto:20261231T080000
DTEND;TZID=America/Toronto:20261231T090000
DTSTAMP:20260420T105813
CREATED:20231222T155956Z
LAST-MODIFIED:20231222T155956Z
UID:10009375-1798704000-1798707600@www.brockchc.ca
SUMMARY:Indoor Walking
DESCRIPTION:Walk your way to better physical and mental health in a safe and dry environment.  Every step counts to help you feel better\, sleep better and have more energy.
URL:https://www.brockchc.ca/calendar/indoor-walking/2026-12-31/
LOCATION:Fisher’s Your Independent Grocer\, 30 Beaver Avenue\, Beaverton\, Ontario\, L0K 1A0\, Canada
END:VEVENT
BEGIN:VEVENT
DTSTART;TZID=America/Toronto:20270101T080000
DTEND;TZID=America/Toronto:20270101T090000
DTSTAMP:20260420T105813
CREATED:20231222T155956Z
LAST-MODIFIED:20231222T155956Z
UID:10009376-1798790400-1798794000@www.brockchc.ca
SUMMARY:Indoor Walking
DESCRIPTION:Walk your way to better physical and mental health in a safe and dry environment.  Every step counts to help you feel better\, sleep better and have more energy.
URL:https://www.brockchc.ca/calendar/indoor-walking/2027-01-01/
LOCATION:Fisher’s Your Independent Grocer\, 30 Beaver Avenue\, Beaverton\, Ontario\, L0K 1A0\, Canada
END:VEVENT
BEGIN:VEVENT
DTSTART;TZID=America/Toronto:20270104T080000
DTEND;TZID=America/Toronto:20270104T090000
DTSTAMP:20260420T105813
CREATED:20231222T155956Z
LAST-MODIFIED:20231222T155956Z
UID:10009377-1799049600-1799053200@www.brockchc.ca
SUMMARY:Indoor Walking
DESCRIPTION:Walk your way to better physical and mental health in a safe and dry environment.  Every step counts to help you feel better\, sleep better and have more energy.
URL:https://www.brockchc.ca/calendar/indoor-walking/2027-01-04/
LOCATION:Fisher’s Your Independent Grocer\, 30 Beaver Avenue\, Beaverton\, Ontario\, L0K 1A0\, Canada
END:VEVENT
BEGIN:VEVENT
DTSTART;TZID=America/Toronto:20270105T080000
DTEND;TZID=America/Toronto:20270105T090000
DTSTAMP:20260420T105813
CREATED:20231222T155956Z
LAST-MODIFIED:20231222T155956Z
UID:10009378-1799136000-1799139600@www.brockchc.ca
SUMMARY:Indoor Walking
DESCRIPTION:Walk your way to better physical and mental health in a safe and dry environment.  Every step counts to help you feel better\, sleep better and have more energy.
URL:https://www.brockchc.ca/calendar/indoor-walking/2027-01-05/
LOCATION:Fisher’s Your Independent Grocer\, 30 Beaver Avenue\, Beaverton\, Ontario\, L0K 1A0\, Canada
END:VEVENT
BEGIN:VEVENT
DTSTART;TZID=America/Toronto:20270106T080000
DTEND;TZID=America/Toronto:20270106T090000
DTSTAMP:20260420T105813
CREATED:20231222T155956Z
LAST-MODIFIED:20231222T155956Z
UID:10009379-1799222400-1799226000@www.brockchc.ca
SUMMARY:Indoor Walking
DESCRIPTION:Walk your way to better physical and mental health in a safe and dry environment.  Every step counts to help you feel better\, sleep better and have more energy.
URL:https://www.brockchc.ca/calendar/indoor-walking/2027-01-06/
LOCATION:Fisher’s Your Independent Grocer\, 30 Beaver Avenue\, Beaverton\, Ontario\, L0K 1A0\, Canada
END:VEVENT
BEGIN:VEVENT
DTSTART;TZID=America/Toronto:20270107T080000
DTEND;TZID=America/Toronto:20270107T090000
DTSTAMP:20260420T105813
CREATED:20231222T155956Z
LAST-MODIFIED:20231222T155956Z
UID:10009380-1799308800-1799312400@www.brockchc.ca
SUMMARY:Indoor Walking
DESCRIPTION:Walk your way to better physical and mental health in a safe and dry environment.  Every step counts to help you feel better\, sleep better and have more energy.
URL:https://www.brockchc.ca/calendar/indoor-walking/2027-01-07/
LOCATION:Fisher’s Your Independent Grocer\, 30 Beaver Avenue\, Beaverton\, Ontario\, L0K 1A0\, Canada
END:VEVENT
BEGIN:VEVENT
DTSTART;TZID=America/Toronto:20270108T080000
DTEND;TZID=America/Toronto:20270108T090000
DTSTAMP:20260420T105813
CREATED:20231222T155956Z
LAST-MODIFIED:20231222T155956Z
UID:10009381-1799395200-1799398800@www.brockchc.ca
SUMMARY:Indoor Walking
DESCRIPTION:Walk your way to better physical and mental health in a safe and dry environment.  Every step counts to help you feel better\, sleep better and have more energy.
URL:https://www.brockchc.ca/calendar/indoor-walking/2027-01-08/
LOCATION:Fisher’s Your Independent Grocer\, 30 Beaver Avenue\, Beaverton\, Ontario\, L0K 1A0\, Canada
END:VEVENT
BEGIN:VEVENT
DTSTART;TZID=America/Toronto:20270111T080000
DTEND;TZID=America/Toronto:20270111T090000
DTSTAMP:20260420T105813
CREATED:20231222T155956Z
LAST-MODIFIED:20231222T155956Z
UID:10009382-1799654400-1799658000@www.brockchc.ca
SUMMARY:Indoor Walking
DESCRIPTION:Walk your way to better physical and mental health in a safe and dry environment.  Every step counts to help you feel better\, sleep better and have more energy.
URL:https://www.brockchc.ca/calendar/indoor-walking/2027-01-11/
LOCATION:Fisher’s Your Independent Grocer\, 30 Beaver Avenue\, Beaverton\, Ontario\, L0K 1A0\, Canada
END:VEVENT
BEGIN:VEVENT
DTSTART;TZID=America/Toronto:20270112T080000
DTEND;TZID=America/Toronto:20270112T090000
DTSTAMP:20260420T105813
CREATED:20231222T155956Z
LAST-MODIFIED:20231222T155956Z
UID:10009383-1799740800-1799744400@www.brockchc.ca
SUMMARY:Indoor Walking
DESCRIPTION:Walk your way to better physical and mental health in a safe and dry environment.  Every step counts to help you feel better\, sleep better and have more energy.
URL:https://www.brockchc.ca/calendar/indoor-walking/2027-01-12/
LOCATION:Fisher’s Your Independent Grocer\, 30 Beaver Avenue\, Beaverton\, Ontario\, L0K 1A0\, Canada
END:VEVENT
BEGIN:VEVENT
DTSTART;TZID=America/Toronto:20270113T080000
DTEND;TZID=America/Toronto:20270113T090000
DTSTAMP:20260420T105813
CREATED:20231222T155956Z
LAST-MODIFIED:20231222T155956Z
UID:10009384-1799827200-1799830800@www.brockchc.ca
SUMMARY:Indoor Walking
DESCRIPTION:Walk your way to better physical and mental health in a safe and dry environment.  Every step counts to help you feel better\, sleep better and have more energy.
URL:https://www.brockchc.ca/calendar/indoor-walking/2027-01-13/
LOCATION:Fisher’s Your Independent Grocer\, 30 Beaver Avenue\, Beaverton\, Ontario\, L0K 1A0\, Canada
END:VEVENT
BEGIN:VEVENT
DTSTART;TZID=America/Toronto:20270114T080000
DTEND;TZID=America/Toronto:20270114T090000
DTSTAMP:20260420T105813
CREATED:20231222T155956Z
LAST-MODIFIED:20231222T155956Z
UID:10009385-1799913600-1799917200@www.brockchc.ca
SUMMARY:Indoor Walking
DESCRIPTION:Walk your way to better physical and mental health in a safe and dry environment.  Every step counts to help you feel better\, sleep better and have more energy.
URL:https://www.brockchc.ca/calendar/indoor-walking/2027-01-14/
LOCATION:Fisher’s Your Independent Grocer\, 30 Beaver Avenue\, Beaverton\, Ontario\, L0K 1A0\, Canada
END:VEVENT
BEGIN:VEVENT
DTSTART;TZID=America/Toronto:20270115T080000
DTEND;TZID=America/Toronto:20270115T090000
DTSTAMP:20260420T105813
CREATED:20231222T155956Z
LAST-MODIFIED:20231222T155956Z
UID:10009386-1800000000-1800003600@www.brockchc.ca
SUMMARY:Indoor Walking
DESCRIPTION:Walk your way to better physical and mental health in a safe and dry environment.  Every step counts to help you feel better\, sleep better and have more energy.
URL:https://www.brockchc.ca/calendar/indoor-walking/2027-01-15/
LOCATION:Fisher’s Your Independent Grocer\, 30 Beaver Avenue\, Beaverton\, Ontario\, L0K 1A0\, Canada
END:VEVENT
BEGIN:VEVENT
DTSTART;TZID=America/Toronto:20270118T080000
DTEND;TZID=America/Toronto:20270118T090000
DTSTAMP:20260420T105813
CREATED:20231222T155956Z
LAST-MODIFIED:20231222T155956Z
UID:10009387-1800259200-1800262800@www.brockchc.ca
SUMMARY:Indoor Walking
DESCRIPTION:Walk your way to better physical and mental health in a safe and dry environment.  Every step counts to help you feel better\, sleep better and have more energy.
URL:https://www.brockchc.ca/calendar/indoor-walking/2027-01-18/
LOCATION:Fisher’s Your Independent Grocer\, 30 Beaver Avenue\, Beaverton\, Ontario\, L0K 1A0\, Canada
END:VEVENT
BEGIN:VEVENT
DTSTART;TZID=America/Toronto:20270119T080000
DTEND;TZID=America/Toronto:20270119T090000
DTSTAMP:20260420T105813
CREATED:20231222T155956Z
LAST-MODIFIED:20231222T155956Z
UID:10009388-1800345600-1800349200@www.brockchc.ca
SUMMARY:Indoor Walking
DESCRIPTION:Walk your way to better physical and mental health in a safe and dry environment.  Every step counts to help you feel better\, sleep better and have more energy.
URL:https://www.brockchc.ca/calendar/indoor-walking/2027-01-19/
LOCATION:Fisher’s Your Independent Grocer\, 30 Beaver Avenue\, Beaverton\, Ontario\, L0K 1A0\, Canada
END:VEVENT
BEGIN:VEVENT
DTSTART;TZID=America/Toronto:20270120T080000
DTEND;TZID=America/Toronto:20270120T090000
DTSTAMP:20260420T105813
CREATED:20231222T155956Z
LAST-MODIFIED:20231222T155956Z
UID:10009389-1800432000-1800435600@www.brockchc.ca
SUMMARY:Indoor Walking
DESCRIPTION:Walk your way to better physical and mental health in a safe and dry environment.  Every step counts to help you feel better\, sleep better and have more energy.
URL:https://www.brockchc.ca/calendar/indoor-walking/2027-01-20/
LOCATION:Fisher’s Your Independent Grocer\, 30 Beaver Avenue\, Beaverton\, Ontario\, L0K 1A0\, Canada
END:VEVENT
BEGIN:VEVENT
DTSTART;TZID=America/Toronto:20270121T080000
DTEND;TZID=America/Toronto:20270121T090000
DTSTAMP:20260420T105813
CREATED:20231222T155956Z
LAST-MODIFIED:20231222T155956Z
UID:10009390-1800518400-1800522000@www.brockchc.ca
SUMMARY:Indoor Walking
DESCRIPTION:Walk your way to better physical and mental health in a safe and dry environment.  Every step counts to help you feel better\, sleep better and have more energy.
URL:https://www.brockchc.ca/calendar/indoor-walking/2027-01-21/
LOCATION:Fisher’s Your Independent Grocer\, 30 Beaver Avenue\, Beaverton\, Ontario\, L0K 1A0\, Canada
END:VEVENT
END:VCALENDAR