BEGIN:VCALENDAR
VERSION:2.0
PRODID:-//Brock Community Health Centre - ECPv6.15.20//NONSGML v1.0//EN
CALSCALE:GREGORIAN
METHOD:PUBLISH
X-ORIGINAL-URL:https://www.brockchc.ca
X-WR-CALDESC:Events for Brock Community Health Centre
REFRESH-INTERVAL;VALUE=DURATION:PT1H
X-Robots-Tag:noindex
X-PUBLISHED-TTL:PT1H
BEGIN:VTIMEZONE
TZID:America/Toronto
BEGIN:DAYLIGHT
TZOFFSETFROM:-0500
TZOFFSETTO:-0400
TZNAME:EDT
DTSTART:20250309T070000
END:DAYLIGHT
BEGIN:STANDARD
TZOFFSETFROM:-0400
TZOFFSETTO:-0500
TZNAME:EST
DTSTART:20251102T060000
END:STANDARD
BEGIN:DAYLIGHT
TZOFFSETFROM:-0500
TZOFFSETTO:-0400
TZNAME:EDT
DTSTART:20260308T070000
END:DAYLIGHT
BEGIN:STANDARD
TZOFFSETFROM:-0400
TZOFFSETTO:-0500
TZNAME:EST
DTSTART:20261101T060000
END:STANDARD
BEGIN:DAYLIGHT
TZOFFSETFROM:-0500
TZOFFSETTO:-0400
TZNAME:EDT
DTSTART:20270314T070000
END:DAYLIGHT
BEGIN:STANDARD
TZOFFSETFROM:-0400
TZOFFSETTO:-0500
TZNAME:EST
DTSTART:20271107T060000
END:STANDARD
END:VTIMEZONE
BEGIN:VEVENT
DTSTART;TZID=America/Toronto:20261021T080000
DTEND;TZID=America/Toronto:20261021T090000
DTSTAMP:20260420T061319
CREATED:20231222T155956Z
LAST-MODIFIED:20231222T155956Z
UID:10009324-1792569600-1792573200@www.brockchc.ca
SUMMARY:Indoor Walking
DESCRIPTION:Walk your way to better physical and mental health in a safe and dry environment.  Every step counts to help you feel better\, sleep better and have more energy.
URL:https://www.brockchc.ca/calendar/indoor-walking/2026-10-21/
LOCATION:Fisher’s Your Independent Grocer\, 30 Beaver Avenue\, Beaverton\, Ontario\, L0K 1A0\, Canada
END:VEVENT
BEGIN:VEVENT
DTSTART;TZID=America/Toronto:20261022T080000
DTEND;TZID=America/Toronto:20261022T090000
DTSTAMP:20260420T061319
CREATED:20231222T155956Z
LAST-MODIFIED:20231222T155956Z
UID:10009325-1792656000-1792659600@www.brockchc.ca
SUMMARY:Indoor Walking
DESCRIPTION:Walk your way to better physical and mental health in a safe and dry environment.  Every step counts to help you feel better\, sleep better and have more energy.
URL:https://www.brockchc.ca/calendar/indoor-walking/2026-10-22/
LOCATION:Fisher’s Your Independent Grocer\, 30 Beaver Avenue\, Beaverton\, Ontario\, L0K 1A0\, Canada
END:VEVENT
BEGIN:VEVENT
DTSTART;TZID=America/Toronto:20261023T080000
DTEND;TZID=America/Toronto:20261023T090000
DTSTAMP:20260420T061319
CREATED:20231222T155956Z
LAST-MODIFIED:20231222T155956Z
UID:10009326-1792742400-1792746000@www.brockchc.ca
SUMMARY:Indoor Walking
DESCRIPTION:Walk your way to better physical and mental health in a safe and dry environment.  Every step counts to help you feel better\, sleep better and have more energy.
URL:https://www.brockchc.ca/calendar/indoor-walking/2026-10-23/
LOCATION:Fisher’s Your Independent Grocer\, 30 Beaver Avenue\, Beaverton\, Ontario\, L0K 1A0\, Canada
END:VEVENT
BEGIN:VEVENT
DTSTART;TZID=America/Toronto:20261026T080000
DTEND;TZID=America/Toronto:20261026T090000
DTSTAMP:20260420T061319
CREATED:20231222T155956Z
LAST-MODIFIED:20231222T155956Z
UID:10009327-1793001600-1793005200@www.brockchc.ca
SUMMARY:Indoor Walking
DESCRIPTION:Walk your way to better physical and mental health in a safe and dry environment.  Every step counts to help you feel better\, sleep better and have more energy.
URL:https://www.brockchc.ca/calendar/indoor-walking/2026-10-26/
LOCATION:Fisher’s Your Independent Grocer\, 30 Beaver Avenue\, Beaverton\, Ontario\, L0K 1A0\, Canada
END:VEVENT
BEGIN:VEVENT
DTSTART;TZID=America/Toronto:20261027T080000
DTEND;TZID=America/Toronto:20261027T090000
DTSTAMP:20260420T061319
CREATED:20231222T155956Z
LAST-MODIFIED:20231222T155956Z
UID:10009328-1793088000-1793091600@www.brockchc.ca
SUMMARY:Indoor Walking
DESCRIPTION:Walk your way to better physical and mental health in a safe and dry environment.  Every step counts to help you feel better\, sleep better and have more energy.
URL:https://www.brockchc.ca/calendar/indoor-walking/2026-10-27/
LOCATION:Fisher’s Your Independent Grocer\, 30 Beaver Avenue\, Beaverton\, Ontario\, L0K 1A0\, Canada
END:VEVENT
BEGIN:VEVENT
DTSTART;TZID=America/Toronto:20261028T080000
DTEND;TZID=America/Toronto:20261028T090000
DTSTAMP:20260420T061319
CREATED:20231222T155956Z
LAST-MODIFIED:20231222T155956Z
UID:10009329-1793174400-1793178000@www.brockchc.ca
SUMMARY:Indoor Walking
DESCRIPTION:Walk your way to better physical and mental health in a safe and dry environment.  Every step counts to help you feel better\, sleep better and have more energy.
URL:https://www.brockchc.ca/calendar/indoor-walking/2026-10-28/
LOCATION:Fisher’s Your Independent Grocer\, 30 Beaver Avenue\, Beaverton\, Ontario\, L0K 1A0\, Canada
END:VEVENT
BEGIN:VEVENT
DTSTART;TZID=America/Toronto:20261029T080000
DTEND;TZID=America/Toronto:20261029T090000
DTSTAMP:20260420T061319
CREATED:20231222T155956Z
LAST-MODIFIED:20231222T155956Z
UID:10009330-1793260800-1793264400@www.brockchc.ca
SUMMARY:Indoor Walking
DESCRIPTION:Walk your way to better physical and mental health in a safe and dry environment.  Every step counts to help you feel better\, sleep better and have more energy.
URL:https://www.brockchc.ca/calendar/indoor-walking/2026-10-29/
LOCATION:Fisher’s Your Independent Grocer\, 30 Beaver Avenue\, Beaverton\, Ontario\, L0K 1A0\, Canada
END:VEVENT
BEGIN:VEVENT
DTSTART;TZID=America/Toronto:20261030T080000
DTEND;TZID=America/Toronto:20261030T090000
DTSTAMP:20260420T061319
CREATED:20231222T155956Z
LAST-MODIFIED:20231222T155956Z
UID:10009331-1793347200-1793350800@www.brockchc.ca
SUMMARY:Indoor Walking
DESCRIPTION:Walk your way to better physical and mental health in a safe and dry environment.  Every step counts to help you feel better\, sleep better and have more energy.
URL:https://www.brockchc.ca/calendar/indoor-walking/2026-10-30/
LOCATION:Fisher’s Your Independent Grocer\, 30 Beaver Avenue\, Beaverton\, Ontario\, L0K 1A0\, Canada
END:VEVENT
BEGIN:VEVENT
DTSTART;TZID=America/Toronto:20261102T080000
DTEND;TZID=America/Toronto:20261102T090000
DTSTAMP:20260420T061319
CREATED:20231222T155956Z
LAST-MODIFIED:20231222T155956Z
UID:10009332-1793606400-1793610000@www.brockchc.ca
SUMMARY:Indoor Walking
DESCRIPTION:Walk your way to better physical and mental health in a safe and dry environment.  Every step counts to help you feel better\, sleep better and have more energy.
URL:https://www.brockchc.ca/calendar/indoor-walking/2026-11-02/
LOCATION:Fisher’s Your Independent Grocer\, 30 Beaver Avenue\, Beaverton\, Ontario\, L0K 1A0\, Canada
END:VEVENT
BEGIN:VEVENT
DTSTART;TZID=America/Toronto:20261103T080000
DTEND;TZID=America/Toronto:20261103T090000
DTSTAMP:20260420T061319
CREATED:20231222T155956Z
LAST-MODIFIED:20231222T155956Z
UID:10009333-1793692800-1793696400@www.brockchc.ca
SUMMARY:Indoor Walking
DESCRIPTION:Walk your way to better physical and mental health in a safe and dry environment.  Every step counts to help you feel better\, sleep better and have more energy.
URL:https://www.brockchc.ca/calendar/indoor-walking/2026-11-03/
LOCATION:Fisher’s Your Independent Grocer\, 30 Beaver Avenue\, Beaverton\, Ontario\, L0K 1A0\, Canada
END:VEVENT
BEGIN:VEVENT
DTSTART;TZID=America/Toronto:20261104T080000
DTEND;TZID=America/Toronto:20261104T090000
DTSTAMP:20260420T061319
CREATED:20231222T155956Z
LAST-MODIFIED:20231222T155956Z
UID:10009334-1793779200-1793782800@www.brockchc.ca
SUMMARY:Indoor Walking
DESCRIPTION:Walk your way to better physical and mental health in a safe and dry environment.  Every step counts to help you feel better\, sleep better and have more energy.
URL:https://www.brockchc.ca/calendar/indoor-walking/2026-11-04/
LOCATION:Fisher’s Your Independent Grocer\, 30 Beaver Avenue\, Beaverton\, Ontario\, L0K 1A0\, Canada
END:VEVENT
BEGIN:VEVENT
DTSTART;TZID=America/Toronto:20261105T080000
DTEND;TZID=America/Toronto:20261105T090000
DTSTAMP:20260420T061319
CREATED:20231222T155956Z
LAST-MODIFIED:20231222T155956Z
UID:10009335-1793865600-1793869200@www.brockchc.ca
SUMMARY:Indoor Walking
DESCRIPTION:Walk your way to better physical and mental health in a safe and dry environment.  Every step counts to help you feel better\, sleep better and have more energy.
URL:https://www.brockchc.ca/calendar/indoor-walking/2026-11-05/
LOCATION:Fisher’s Your Independent Grocer\, 30 Beaver Avenue\, Beaverton\, Ontario\, L0K 1A0\, Canada
END:VEVENT
BEGIN:VEVENT
DTSTART;TZID=America/Toronto:20261106T080000
DTEND;TZID=America/Toronto:20261106T090000
DTSTAMP:20260420T061319
CREATED:20231222T155956Z
LAST-MODIFIED:20231222T155956Z
UID:10009336-1793952000-1793955600@www.brockchc.ca
SUMMARY:Indoor Walking
DESCRIPTION:Walk your way to better physical and mental health in a safe and dry environment.  Every step counts to help you feel better\, sleep better and have more energy.
URL:https://www.brockchc.ca/calendar/indoor-walking/2026-11-06/
LOCATION:Fisher’s Your Independent Grocer\, 30 Beaver Avenue\, Beaverton\, Ontario\, L0K 1A0\, Canada
END:VEVENT
BEGIN:VEVENT
DTSTART;TZID=America/Toronto:20261109T080000
DTEND;TZID=America/Toronto:20261109T090000
DTSTAMP:20260420T061319
CREATED:20231222T155956Z
LAST-MODIFIED:20231222T155956Z
UID:10009337-1794211200-1794214800@www.brockchc.ca
SUMMARY:Indoor Walking
DESCRIPTION:Walk your way to better physical and mental health in a safe and dry environment.  Every step counts to help you feel better\, sleep better and have more energy.
URL:https://www.brockchc.ca/calendar/indoor-walking/2026-11-09/
LOCATION:Fisher’s Your Independent Grocer\, 30 Beaver Avenue\, Beaverton\, Ontario\, L0K 1A0\, Canada
END:VEVENT
BEGIN:VEVENT
DTSTART;TZID=America/Toronto:20261110T080000
DTEND;TZID=America/Toronto:20261110T090000
DTSTAMP:20260420T061319
CREATED:20231222T155956Z
LAST-MODIFIED:20231222T155956Z
UID:10009338-1794297600-1794301200@www.brockchc.ca
SUMMARY:Indoor Walking
DESCRIPTION:Walk your way to better physical and mental health in a safe and dry environment.  Every step counts to help you feel better\, sleep better and have more energy.
URL:https://www.brockchc.ca/calendar/indoor-walking/2026-11-10/
LOCATION:Fisher’s Your Independent Grocer\, 30 Beaver Avenue\, Beaverton\, Ontario\, L0K 1A0\, Canada
END:VEVENT
BEGIN:VEVENT
DTSTART;TZID=America/Toronto:20261111T080000
DTEND;TZID=America/Toronto:20261111T090000
DTSTAMP:20260420T061319
CREATED:20231222T155956Z
LAST-MODIFIED:20231222T155956Z
UID:10009339-1794384000-1794387600@www.brockchc.ca
SUMMARY:Indoor Walking
DESCRIPTION:Walk your way to better physical and mental health in a safe and dry environment.  Every step counts to help you feel better\, sleep better and have more energy.
URL:https://www.brockchc.ca/calendar/indoor-walking/2026-11-11/
LOCATION:Fisher’s Your Independent Grocer\, 30 Beaver Avenue\, Beaverton\, Ontario\, L0K 1A0\, Canada
END:VEVENT
BEGIN:VEVENT
DTSTART;TZID=America/Toronto:20261112T080000
DTEND;TZID=America/Toronto:20261112T090000
DTSTAMP:20260420T061319
CREATED:20231222T155956Z
LAST-MODIFIED:20231222T155956Z
UID:10009340-1794470400-1794474000@www.brockchc.ca
SUMMARY:Indoor Walking
DESCRIPTION:Walk your way to better physical and mental health in a safe and dry environment.  Every step counts to help you feel better\, sleep better and have more energy.
URL:https://www.brockchc.ca/calendar/indoor-walking/2026-11-12/
LOCATION:Fisher’s Your Independent Grocer\, 30 Beaver Avenue\, Beaverton\, Ontario\, L0K 1A0\, Canada
END:VEVENT
BEGIN:VEVENT
DTSTART;TZID=America/Toronto:20261113T080000
DTEND;TZID=America/Toronto:20261113T090000
DTSTAMP:20260420T061319
CREATED:20231222T155956Z
LAST-MODIFIED:20231222T155956Z
UID:10009341-1794556800-1794560400@www.brockchc.ca
SUMMARY:Indoor Walking
DESCRIPTION:Walk your way to better physical and mental health in a safe and dry environment.  Every step counts to help you feel better\, sleep better and have more energy.
URL:https://www.brockchc.ca/calendar/indoor-walking/2026-11-13/
LOCATION:Fisher’s Your Independent Grocer\, 30 Beaver Avenue\, Beaverton\, Ontario\, L0K 1A0\, Canada
END:VEVENT
BEGIN:VEVENT
DTSTART;TZID=America/Toronto:20261116T080000
DTEND;TZID=America/Toronto:20261116T090000
DTSTAMP:20260420T061319
CREATED:20231222T155956Z
LAST-MODIFIED:20231222T155956Z
UID:10009342-1794816000-1794819600@www.brockchc.ca
SUMMARY:Indoor Walking
DESCRIPTION:Walk your way to better physical and mental health in a safe and dry environment.  Every step counts to help you feel better\, sleep better and have more energy.
URL:https://www.brockchc.ca/calendar/indoor-walking/2026-11-16/
LOCATION:Fisher’s Your Independent Grocer\, 30 Beaver Avenue\, Beaverton\, Ontario\, L0K 1A0\, Canada
END:VEVENT
BEGIN:VEVENT
DTSTART;TZID=America/Toronto:20261117T080000
DTEND;TZID=America/Toronto:20261117T090000
DTSTAMP:20260420T061319
CREATED:20231222T155956Z
LAST-MODIFIED:20231222T155956Z
UID:10009343-1794902400-1794906000@www.brockchc.ca
SUMMARY:Indoor Walking
DESCRIPTION:Walk your way to better physical and mental health in a safe and dry environment.  Every step counts to help you feel better\, sleep better and have more energy.
URL:https://www.brockchc.ca/calendar/indoor-walking/2026-11-17/
LOCATION:Fisher’s Your Independent Grocer\, 30 Beaver Avenue\, Beaverton\, Ontario\, L0K 1A0\, Canada
END:VEVENT
BEGIN:VEVENT
DTSTART;TZID=America/Toronto:20261118T080000
DTEND;TZID=America/Toronto:20261118T090000
DTSTAMP:20260420T061319
CREATED:20231222T155956Z
LAST-MODIFIED:20231222T155956Z
UID:10009344-1794988800-1794992400@www.brockchc.ca
SUMMARY:Indoor Walking
DESCRIPTION:Walk your way to better physical and mental health in a safe and dry environment.  Every step counts to help you feel better\, sleep better and have more energy.
URL:https://www.brockchc.ca/calendar/indoor-walking/2026-11-18/
LOCATION:Fisher’s Your Independent Grocer\, 30 Beaver Avenue\, Beaverton\, Ontario\, L0K 1A0\, Canada
END:VEVENT
BEGIN:VEVENT
DTSTART;TZID=America/Toronto:20261119T080000
DTEND;TZID=America/Toronto:20261119T090000
DTSTAMP:20260420T061319
CREATED:20231222T155956Z
LAST-MODIFIED:20231222T155956Z
UID:10009345-1795075200-1795078800@www.brockchc.ca
SUMMARY:Indoor Walking
DESCRIPTION:Walk your way to better physical and mental health in a safe and dry environment.  Every step counts to help you feel better\, sleep better and have more energy.
URL:https://www.brockchc.ca/calendar/indoor-walking/2026-11-19/
LOCATION:Fisher’s Your Independent Grocer\, 30 Beaver Avenue\, Beaverton\, Ontario\, L0K 1A0\, Canada
END:VEVENT
BEGIN:VEVENT
DTSTART;TZID=America/Toronto:20261120T080000
DTEND;TZID=America/Toronto:20261120T090000
DTSTAMP:20260420T061319
CREATED:20231222T155956Z
LAST-MODIFIED:20231222T155956Z
UID:10009346-1795161600-1795165200@www.brockchc.ca
SUMMARY:Indoor Walking
DESCRIPTION:Walk your way to better physical and mental health in a safe and dry environment.  Every step counts to help you feel better\, sleep better and have more energy.
URL:https://www.brockchc.ca/calendar/indoor-walking/2026-11-20/
LOCATION:Fisher’s Your Independent Grocer\, 30 Beaver Avenue\, Beaverton\, Ontario\, L0K 1A0\, Canada
END:VEVENT
BEGIN:VEVENT
DTSTART;TZID=America/Toronto:20261123T080000
DTEND;TZID=America/Toronto:20261123T090000
DTSTAMP:20260420T061319
CREATED:20231222T155956Z
LAST-MODIFIED:20231222T155956Z
UID:10009347-1795420800-1795424400@www.brockchc.ca
SUMMARY:Indoor Walking
DESCRIPTION:Walk your way to better physical and mental health in a safe and dry environment.  Every step counts to help you feel better\, sleep better and have more energy.
URL:https://www.brockchc.ca/calendar/indoor-walking/2026-11-23/
LOCATION:Fisher’s Your Independent Grocer\, 30 Beaver Avenue\, Beaverton\, Ontario\, L0K 1A0\, Canada
END:VEVENT
BEGIN:VEVENT
DTSTART;TZID=America/Toronto:20261124T080000
DTEND;TZID=America/Toronto:20261124T090000
DTSTAMP:20260420T061319
CREATED:20231222T155956Z
LAST-MODIFIED:20231222T155956Z
UID:10009348-1795507200-1795510800@www.brockchc.ca
SUMMARY:Indoor Walking
DESCRIPTION:Walk your way to better physical and mental health in a safe and dry environment.  Every step counts to help you feel better\, sleep better and have more energy.
URL:https://www.brockchc.ca/calendar/indoor-walking/2026-11-24/
LOCATION:Fisher’s Your Independent Grocer\, 30 Beaver Avenue\, Beaverton\, Ontario\, L0K 1A0\, Canada
END:VEVENT
BEGIN:VEVENT
DTSTART;TZID=America/Toronto:20261125T080000
DTEND;TZID=America/Toronto:20261125T090000
DTSTAMP:20260420T061319
CREATED:20231222T155956Z
LAST-MODIFIED:20231222T155956Z
UID:10009349-1795593600-1795597200@www.brockchc.ca
SUMMARY:Indoor Walking
DESCRIPTION:Walk your way to better physical and mental health in a safe and dry environment.  Every step counts to help you feel better\, sleep better and have more energy.
URL:https://www.brockchc.ca/calendar/indoor-walking/2026-11-25/
LOCATION:Fisher’s Your Independent Grocer\, 30 Beaver Avenue\, Beaverton\, Ontario\, L0K 1A0\, Canada
END:VEVENT
BEGIN:VEVENT
DTSTART;TZID=America/Toronto:20261126T080000
DTEND;TZID=America/Toronto:20261126T090000
DTSTAMP:20260420T061319
CREATED:20231222T155956Z
LAST-MODIFIED:20231222T155956Z
UID:10009350-1795680000-1795683600@www.brockchc.ca
SUMMARY:Indoor Walking
DESCRIPTION:Walk your way to better physical and mental health in a safe and dry environment.  Every step counts to help you feel better\, sleep better and have more energy.
URL:https://www.brockchc.ca/calendar/indoor-walking/2026-11-26/
LOCATION:Fisher’s Your Independent Grocer\, 30 Beaver Avenue\, Beaverton\, Ontario\, L0K 1A0\, Canada
END:VEVENT
BEGIN:VEVENT
DTSTART;TZID=America/Toronto:20261127T080000
DTEND;TZID=America/Toronto:20261127T090000
DTSTAMP:20260420T061319
CREATED:20231222T155956Z
LAST-MODIFIED:20231222T155956Z
UID:10009351-1795766400-1795770000@www.brockchc.ca
SUMMARY:Indoor Walking
DESCRIPTION:Walk your way to better physical and mental health in a safe and dry environment.  Every step counts to help you feel better\, sleep better and have more energy.
URL:https://www.brockchc.ca/calendar/indoor-walking/2026-11-27/
LOCATION:Fisher’s Your Independent Grocer\, 30 Beaver Avenue\, Beaverton\, Ontario\, L0K 1A0\, Canada
END:VEVENT
BEGIN:VEVENT
DTSTART;TZID=America/Toronto:20261130T080000
DTEND;TZID=America/Toronto:20261130T090000
DTSTAMP:20260420T061319
CREATED:20231222T155956Z
LAST-MODIFIED:20231222T155956Z
UID:10009352-1796025600-1796029200@www.brockchc.ca
SUMMARY:Indoor Walking
DESCRIPTION:Walk your way to better physical and mental health in a safe and dry environment.  Every step counts to help you feel better\, sleep better and have more energy.
URL:https://www.brockchc.ca/calendar/indoor-walking/2026-11-30/
LOCATION:Fisher’s Your Independent Grocer\, 30 Beaver Avenue\, Beaverton\, Ontario\, L0K 1A0\, Canada
END:VEVENT
BEGIN:VEVENT
DTSTART;TZID=America/Toronto:20261201T080000
DTEND;TZID=America/Toronto:20261201T090000
DTSTAMP:20260420T061319
CREATED:20231222T155956Z
LAST-MODIFIED:20231222T155956Z
UID:10009353-1796112000-1796115600@www.brockchc.ca
SUMMARY:Indoor Walking
DESCRIPTION:Walk your way to better physical and mental health in a safe and dry environment.  Every step counts to help you feel better\, sleep better and have more energy.
URL:https://www.brockchc.ca/calendar/indoor-walking/2026-12-01/
LOCATION:Fisher’s Your Independent Grocer\, 30 Beaver Avenue\, Beaverton\, Ontario\, L0K 1A0\, Canada
END:VEVENT
END:VCALENDAR