BEGIN:VCALENDAR
VERSION:2.0
PRODID:-//Brock Community Health Centre - ECPv6.15.20//NONSGML v1.0//EN
CALSCALE:GREGORIAN
METHOD:PUBLISH
X-WR-CALNAME:Brock Community Health Centre
X-ORIGINAL-URL:https://www.brockchc.ca
X-WR-CALDESC:Events for Brock Community Health Centre
REFRESH-INTERVAL;VALUE=DURATION:PT1H
X-Robots-Tag:noindex
X-PUBLISHED-TTL:PT1H
BEGIN:VTIMEZONE
TZID:America/Toronto
BEGIN:DAYLIGHT
TZOFFSETFROM:-0500
TZOFFSETTO:-0400
TZNAME:EDT
DTSTART:20300310T070000
END:DAYLIGHT
BEGIN:STANDARD
TZOFFSETFROM:-0400
TZOFFSETTO:-0500
TZNAME:EST
DTSTART:20301103T060000
END:STANDARD
BEGIN:DAYLIGHT
TZOFFSETFROM:-0500
TZOFFSETTO:-0400
TZNAME:EDT
DTSTART:20310309T070000
END:DAYLIGHT
BEGIN:STANDARD
TZOFFSETFROM:-0400
TZOFFSETTO:-0500
TZNAME:EST
DTSTART:20311102T060000
END:STANDARD
BEGIN:DAYLIGHT
TZOFFSETFROM:-0500
TZOFFSETTO:-0400
TZNAME:EDT
DTSTART:20320314T070000
END:DAYLIGHT
BEGIN:STANDARD
TZOFFSETFROM:-0400
TZOFFSETTO:-0500
TZNAME:EST
DTSTART:20321107T060000
END:STANDARD
END:VTIMEZONE
BEGIN:VEVENT
DTSTART;TZID=America/Toronto:20310320T090000
DTEND;TZID=America/Toronto:20310320T120000
DTSTAMP:20260422T185928
CREATED:20251211T161002Z
LAST-MODIFIED:20251211T161002Z
UID:10012913-1931763600-1931774400@www.brockchc.ca
SUMMARY:The Social - Alzheimer Society of Durham Region
DESCRIPTION:This weekly social group for persons living with dementia offers stimulating activities with a focus on social engagement.  Activities are facilitated by experienced staff and co-designed with attendees to meet their interests and needs.  Thursdays from 9am – noon at Brock Community Health Centre.  $12 per day.  Please call the Alzheimer Society of Durham Region to register or for more information at 1-888.301-1106 or email information@alzheimerdurham.com.
URL:https://www.brockchc.ca/calendar/the-social-alzheimer-society-of-durham-region/2031-03-20/
LOCATION:Brock CHC\, 39 Cameron Street West\, Cannington\, ON\, L0E 1E0\, Canada
ORGANIZER;CN="Alzheimer Society of Durham Region":MAILTO:information@alzheimerdurham.com
END:VEVENT
BEGIN:VEVENT
DTSTART;TZID=America/Toronto:20310324T100000
DTEND;TZID=America/Toronto:20310324T110000
DTSTAMP:20260422T185928
CREATED:20260121T143113Z
LAST-MODIFIED:20260121T143701Z
UID:10012923-1932112800-1932116400@www.brockchc.ca
SUMMARY:Chair Yoga
DESCRIPTION:A supportive chair-based yoga class with a creative and open-minded approach.  Using the chair along with simple props\, participants will explore gentle movements\, breath\, and relaxation while staying curious and willing to try new variations.  Suitable for all bodies and abilities.  To register\, contact Jennifer Josephson at 705.432.3322 ext. 105 or jjosephson@brockchc.ca.
URL:https://www.brockchc.ca/calendar/chair-yoga/2031-03-24/
LOCATION:Brock CHC\, 39 Cameron Street West\, Cannington\, ON\, L0E 1E0\, Canada
ATTACH;FMTTYPE=image/jpeg:https://www.brockchc.ca/wp-content/uploads/2026/01/Chair-Yoga.jpg
END:VEVENT
BEGIN:VEVENT
DTSTART;TZID=America/Toronto:20310324T111500
DTEND;TZID=America/Toronto:20310324T121500
DTSTAMP:20260422T185928
CREATED:20260121T143554Z
LAST-MODIFIED:20260121T143845Z
UID:10012927-1932117300-1932120900@www.brockchc.ca
SUMMARY:Gentle Yin Yoga
DESCRIPTION:A calm and grounding Yin Yoga class appropriate for all levels.  Poses are practiced on a yoga mat and held for longer periods to encourage deep release and relaxation.  Props may be used to support comfort\, ease\, and individual needs through the practice.  To register\, contact Jennifer Josephson at 705.432.3322 ext. 105 or email jjosephson@brockchc.ca.
URL:https://www.brockchc.ca/calendar/gentle-yin-yoga/2031-03-24/
LOCATION:Brock CHC\, 39 Cameron Street West\, Cannington\, ON\, L0E 1E0\, Canada
ATTACH;FMTTYPE=image/jpeg:https://www.brockchc.ca/wp-content/uploads/2026/01/Yin-Yoga.jpg
END:VEVENT
BEGIN:VEVENT
DTSTART;TZID=America/Toronto:20310327T090000
DTEND;TZID=America/Toronto:20310327T120000
DTSTAMP:20260422T185928
CREATED:20251211T161002Z
LAST-MODIFIED:20251211T161002Z
UID:10012941-1932368400-1932379200@www.brockchc.ca
SUMMARY:The Social - Alzheimer Society of Durham Region
DESCRIPTION:This weekly social group for persons living with dementia offers stimulating activities with a focus on social engagement.  Activities are facilitated by experienced staff and co-designed with attendees to meet their interests and needs.  Thursdays from 9am – noon at Brock Community Health Centre.  $12 per day.  Please call the Alzheimer Society of Durham Region to register or for more information at 1-888.301-1106 or email information@alzheimerdurham.com.
URL:https://www.brockchc.ca/calendar/the-social-alzheimer-society-of-durham-region/2031-03-27/
LOCATION:Brock CHC\, 39 Cameron Street West\, Cannington\, ON\, L0E 1E0\, Canada
ORGANIZER;CN="Alzheimer Society of Durham Region":MAILTO:information@alzheimerdurham.com
END:VEVENT
BEGIN:VEVENT
DTSTART;TZID=America/Toronto:20310331T100000
DTEND;TZID=America/Toronto:20310331T110000
DTSTAMP:20260422T185928
CREATED:20260121T143113Z
LAST-MODIFIED:20260121T143701Z
UID:10012924-1932717600-1932721200@www.brockchc.ca
SUMMARY:Chair Yoga
DESCRIPTION:A supportive chair-based yoga class with a creative and open-minded approach.  Using the chair along with simple props\, participants will explore gentle movements\, breath\, and relaxation while staying curious and willing to try new variations.  Suitable for all bodies and abilities.  To register\, contact Jennifer Josephson at 705.432.3322 ext. 105 or jjosephson@brockchc.ca.
URL:https://www.brockchc.ca/calendar/chair-yoga/2031-03-31/
LOCATION:Brock CHC\, 39 Cameron Street West\, Cannington\, ON\, L0E 1E0\, Canada
ATTACH;FMTTYPE=image/jpeg:https://www.brockchc.ca/wp-content/uploads/2026/01/Chair-Yoga.jpg
END:VEVENT
BEGIN:VEVENT
DTSTART;TZID=America/Toronto:20310331T111500
DTEND;TZID=America/Toronto:20310331T121500
DTSTAMP:20260422T185928
CREATED:20260121T143554Z
LAST-MODIFIED:20260121T143845Z
UID:10012928-1932722100-1932725700@www.brockchc.ca
SUMMARY:Gentle Yin Yoga
DESCRIPTION:A calm and grounding Yin Yoga class appropriate for all levels.  Poses are practiced on a yoga mat and held for longer periods to encourage deep release and relaxation.  Props may be used to support comfort\, ease\, and individual needs through the practice.  To register\, contact Jennifer Josephson at 705.432.3322 ext. 105 or email jjosephson@brockchc.ca.
URL:https://www.brockchc.ca/calendar/gentle-yin-yoga/2031-03-31/
LOCATION:Brock CHC\, 39 Cameron Street West\, Cannington\, ON\, L0E 1E0\, Canada
ATTACH;FMTTYPE=image/jpeg:https://www.brockchc.ca/wp-content/uploads/2026/01/Yin-Yoga.jpg
END:VEVENT
BEGIN:VEVENT
DTSTART;TZID=America/Toronto:20310403T090000
DTEND;TZID=America/Toronto:20310403T120000
DTSTAMP:20260422T185928
CREATED:20251211T161002Z
LAST-MODIFIED:20251211T161002Z
UID:10012942-1932973200-1932984000@www.brockchc.ca
SUMMARY:The Social - Alzheimer Society of Durham Region
DESCRIPTION:This weekly social group for persons living with dementia offers stimulating activities with a focus on social engagement.  Activities are facilitated by experienced staff and co-designed with attendees to meet their interests and needs.  Thursdays from 9am – noon at Brock Community Health Centre.  $12 per day.  Please call the Alzheimer Society of Durham Region to register or for more information at 1-888.301-1106 or email information@alzheimerdurham.com.
URL:https://www.brockchc.ca/calendar/the-social-alzheimer-society-of-durham-region/2031-04-03/
LOCATION:Brock CHC\, 39 Cameron Street West\, Cannington\, ON\, L0E 1E0\, Canada
ORGANIZER;CN="Alzheimer Society of Durham Region":MAILTO:information@alzheimerdurham.com
END:VEVENT
BEGIN:VEVENT
DTSTART;TZID=America/Toronto:20310407T100000
DTEND;TZID=America/Toronto:20310407T110000
DTSTAMP:20260422T185928
CREATED:20260121T143113Z
LAST-MODIFIED:20260121T143701Z
UID:10012953-1933322400-1933326000@www.brockchc.ca
SUMMARY:Chair Yoga
DESCRIPTION:A supportive chair-based yoga class with a creative and open-minded approach.  Using the chair along with simple props\, participants will explore gentle movements\, breath\, and relaxation while staying curious and willing to try new variations.  Suitable for all bodies and abilities.  To register\, contact Jennifer Josephson at 705.432.3322 ext. 105 or jjosephson@brockchc.ca.
URL:https://www.brockchc.ca/calendar/chair-yoga/2031-04-07/
LOCATION:Brock CHC\, 39 Cameron Street West\, Cannington\, ON\, L0E 1E0\, Canada
ATTACH;FMTTYPE=image/jpeg:https://www.brockchc.ca/wp-content/uploads/2026/01/Chair-Yoga.jpg
END:VEVENT
BEGIN:VEVENT
DTSTART;TZID=America/Toronto:20310407T111500
DTEND;TZID=America/Toronto:20310407T121500
DTSTAMP:20260422T185928
CREATED:20260121T143554Z
LAST-MODIFIED:20260121T143845Z
UID:10012955-1933326900-1933330500@www.brockchc.ca
SUMMARY:Gentle Yin Yoga
DESCRIPTION:A calm and grounding Yin Yoga class appropriate for all levels.  Poses are practiced on a yoga mat and held for longer periods to encourage deep release and relaxation.  Props may be used to support comfort\, ease\, and individual needs through the practice.  To register\, contact Jennifer Josephson at 705.432.3322 ext. 105 or email jjosephson@brockchc.ca.
URL:https://www.brockchc.ca/calendar/gentle-yin-yoga/2031-04-07/
LOCATION:Brock CHC\, 39 Cameron Street West\, Cannington\, ON\, L0E 1E0\, Canada
ATTACH;FMTTYPE=image/jpeg:https://www.brockchc.ca/wp-content/uploads/2026/01/Yin-Yoga.jpg
END:VEVENT
BEGIN:VEVENT
DTSTART;TZID=America/Toronto:20310410T090000
DTEND;TZID=America/Toronto:20310410T120000
DTSTAMP:20260422T185928
CREATED:20251211T161002Z
LAST-MODIFIED:20251211T161002Z
UID:10012964-1933578000-1933588800@www.brockchc.ca
SUMMARY:The Social - Alzheimer Society of Durham Region
DESCRIPTION:This weekly social group for persons living with dementia offers stimulating activities with a focus on social engagement.  Activities are facilitated by experienced staff and co-designed with attendees to meet their interests and needs.  Thursdays from 9am – noon at Brock Community Health Centre.  $12 per day.  Please call the Alzheimer Society of Durham Region to register or for more information at 1-888.301-1106 or email information@alzheimerdurham.com.
URL:https://www.brockchc.ca/calendar/the-social-alzheimer-society-of-durham-region/2031-04-10/
LOCATION:Brock CHC\, 39 Cameron Street West\, Cannington\, ON\, L0E 1E0\, Canada
ORGANIZER;CN="Alzheimer Society of Durham Region":MAILTO:information@alzheimerdurham.com
END:VEVENT
BEGIN:VEVENT
DTSTART;TZID=America/Toronto:20310414T100000
DTEND;TZID=America/Toronto:20310414T110000
DTSTAMP:20260422T185928
CREATED:20260121T143113Z
LAST-MODIFIED:20260121T143701Z
UID:10012972-1933927200-1933930800@www.brockchc.ca
SUMMARY:Chair Yoga
DESCRIPTION:A supportive chair-based yoga class with a creative and open-minded approach.  Using the chair along with simple props\, participants will explore gentle movements\, breath\, and relaxation while staying curious and willing to try new variations.  Suitable for all bodies and abilities.  To register\, contact Jennifer Josephson at 705.432.3322 ext. 105 or jjosephson@brockchc.ca.
URL:https://www.brockchc.ca/calendar/chair-yoga/2031-04-14/
LOCATION:Brock CHC\, 39 Cameron Street West\, Cannington\, ON\, L0E 1E0\, Canada
ATTACH;FMTTYPE=image/jpeg:https://www.brockchc.ca/wp-content/uploads/2026/01/Chair-Yoga.jpg
END:VEVENT
BEGIN:VEVENT
DTSTART;TZID=America/Toronto:20310414T111500
DTEND;TZID=America/Toronto:20310414T121500
DTSTAMP:20260422T185928
CREATED:20260121T143554Z
LAST-MODIFIED:20260121T143845Z
UID:10012974-1933931700-1933935300@www.brockchc.ca
SUMMARY:Gentle Yin Yoga
DESCRIPTION:A calm and grounding Yin Yoga class appropriate for all levels.  Poses are practiced on a yoga mat and held for longer periods to encourage deep release and relaxation.  Props may be used to support comfort\, ease\, and individual needs through the practice.  To register\, contact Jennifer Josephson at 705.432.3322 ext. 105 or email jjosephson@brockchc.ca.
URL:https://www.brockchc.ca/calendar/gentle-yin-yoga/2031-04-14/
LOCATION:Brock CHC\, 39 Cameron Street West\, Cannington\, ON\, L0E 1E0\, Canada
ATTACH;FMTTYPE=image/jpeg:https://www.brockchc.ca/wp-content/uploads/2026/01/Yin-Yoga.jpg
END:VEVENT
BEGIN:VEVENT
DTSTART;TZID=America/Toronto:20310417T090000
DTEND;TZID=America/Toronto:20310417T120000
DTSTAMP:20260422T185928
CREATED:20251211T161002Z
LAST-MODIFIED:20251211T161002Z
UID:10012983-1934182800-1934193600@www.brockchc.ca
SUMMARY:The Social - Alzheimer Society of Durham Region
DESCRIPTION:This weekly social group for persons living with dementia offers stimulating activities with a focus on social engagement.  Activities are facilitated by experienced staff and co-designed with attendees to meet their interests and needs.  Thursdays from 9am – noon at Brock Community Health Centre.  $12 per day.  Please call the Alzheimer Society of Durham Region to register or for more information at 1-888.301-1106 or email information@alzheimerdurham.com.
URL:https://www.brockchc.ca/calendar/the-social-alzheimer-society-of-durham-region/2031-04-17/
LOCATION:Brock CHC\, 39 Cameron Street West\, Cannington\, ON\, L0E 1E0\, Canada
ORGANIZER;CN="Alzheimer Society of Durham Region":MAILTO:information@alzheimerdurham.com
END:VEVENT
END:VCALENDAR