BEGIN:VCALENDAR
VERSION:2.0
PRODID:-//Brock Community Health Centre - ECPv6.15.20//NONSGML v1.0//EN
CALSCALE:GREGORIAN
METHOD:PUBLISH
X-WR-CALNAME:Brock Community Health Centre
X-ORIGINAL-URL:https://www.brockchc.ca
X-WR-CALDESC:Events for Brock Community Health Centre
REFRESH-INTERVAL;VALUE=DURATION:PT1H
X-Robots-Tag:noindex
X-PUBLISHED-TTL:PT1H
BEGIN:VTIMEZONE
TZID:America/Toronto
BEGIN:DAYLIGHT
TZOFFSETFROM:-0500
TZOFFSETTO:-0400
TZNAME:EDT
DTSTART:20280312T070000
END:DAYLIGHT
BEGIN:STANDARD
TZOFFSETFROM:-0400
TZOFFSETTO:-0500
TZNAME:EST
DTSTART:20281105T060000
END:STANDARD
BEGIN:DAYLIGHT
TZOFFSETFROM:-0500
TZOFFSETTO:-0400
TZNAME:EDT
DTSTART:20290311T070000
END:DAYLIGHT
BEGIN:STANDARD
TZOFFSETFROM:-0400
TZOFFSETTO:-0500
TZNAME:EST
DTSTART:20291104T060000
END:STANDARD
BEGIN:DAYLIGHT
TZOFFSETFROM:-0500
TZOFFSETTO:-0400
TZNAME:EDT
DTSTART:20300310T070000
END:DAYLIGHT
BEGIN:STANDARD
TZOFFSETFROM:-0400
TZOFFSETTO:-0500
TZNAME:EST
DTSTART:20301103T060000
END:STANDARD
END:VTIMEZONE
BEGIN:VEVENT
DTSTART;TZID=America/Toronto:20290222T090000
DTEND;TZID=America/Toronto:20290222T120000
DTSTAMP:20260421T024826
CREATED:20251211T161002Z
LAST-MODIFIED:20251211T161002Z
UID:10012179-1866445200-1866456000@www.brockchc.ca
SUMMARY:The Social - Alzheimer Society of Durham Region
DESCRIPTION:This weekly social group for persons living with dementia offers stimulating activities with a focus on social engagement.  Activities are facilitated by experienced staff and co-designed with attendees to meet their interests and needs.  Thursdays from 9am – noon at Brock Community Health Centre.  $12 per day.  Please call the Alzheimer Society of Durham Region to register or for more information at 1-888.301-1106 or email information@alzheimerdurham.com.
URL:https://www.brockchc.ca/calendar/the-social-alzheimer-society-of-durham-region/2029-02-22/
LOCATION:Brock CHC\, 39 Cameron Street West\, Cannington\, ON\, L0E 1E0\, Canada
ORGANIZER;CN="Alzheimer Society of Durham Region":MAILTO:information@alzheimerdurham.com
END:VEVENT
BEGIN:VEVENT
DTSTART;TZID=America/Toronto:20290226T100000
DTEND;TZID=America/Toronto:20290226T110000
DTSTAMP:20260421T024826
CREATED:20260121T143113Z
LAST-MODIFIED:20260121T143701Z
UID:10010061-1866794400-1866798000@www.brockchc.ca
SUMMARY:Chair Yoga
DESCRIPTION:A supportive chair-based yoga class with a creative and open-minded approach.  Using the chair along with simple props\, participants will explore gentle movements\, breath\, and relaxation while staying curious and willing to try new variations.  Suitable for all bodies and abilities.  To register\, contact Jennifer Josephson at 705.432.3322 ext. 105 or jjosephson@brockchc.ca.
URL:https://www.brockchc.ca/calendar/chair-yoga/2029-02-26/
LOCATION:Brock CHC\, 39 Cameron Street West\, Cannington\, ON\, L0E 1E0\, Canada
ATTACH;FMTTYPE=image/jpeg:https://www.brockchc.ca/wp-content/uploads/2026/01/Chair-Yoga.jpg
END:VEVENT
BEGIN:VEVENT
DTSTART;TZID=America/Toronto:20290226T111500
DTEND;TZID=America/Toronto:20290226T121500
DTSTAMP:20260421T024826
CREATED:20260121T143554Z
LAST-MODIFIED:20260121T143845Z
UID:10012532-1866798900-1866802500@www.brockchc.ca
SUMMARY:Gentle Yin Yoga
DESCRIPTION:A calm and grounding Yin Yoga class appropriate for all levels.  Poses are practiced on a yoga mat and held for longer periods to encourage deep release and relaxation.  Props may be used to support comfort\, ease\, and individual needs through the practice.  To register\, contact Jennifer Josephson at 705.432.3322 ext. 105 or email jjosephson@brockchc.ca.
URL:https://www.brockchc.ca/calendar/gentle-yin-yoga/2029-02-26/
LOCATION:Brock CHC\, 39 Cameron Street West\, Cannington\, ON\, L0E 1E0\, Canada
ATTACH;FMTTYPE=image/jpeg:https://www.brockchc.ca/wp-content/uploads/2026/01/Yin-Yoga.jpg
END:VEVENT
BEGIN:VEVENT
DTSTART;TZID=America/Toronto:20290301T090000
DTEND;TZID=America/Toronto:20290301T120000
DTSTAMP:20260421T024826
CREATED:20251211T161002Z
LAST-MODIFIED:20251211T161002Z
UID:10012180-1867050000-1867060800@www.brockchc.ca
SUMMARY:The Social - Alzheimer Society of Durham Region
DESCRIPTION:This weekly social group for persons living with dementia offers stimulating activities with a focus on social engagement.  Activities are facilitated by experienced staff and co-designed with attendees to meet their interests and needs.  Thursdays from 9am – noon at Brock Community Health Centre.  $12 per day.  Please call the Alzheimer Society of Durham Region to register or for more information at 1-888.301-1106 or email information@alzheimerdurham.com.
URL:https://www.brockchc.ca/calendar/the-social-alzheimer-society-of-durham-region/2029-03-01/
LOCATION:Brock CHC\, 39 Cameron Street West\, Cannington\, ON\, L0E 1E0\, Canada
ORGANIZER;CN="Alzheimer Society of Durham Region":MAILTO:information@alzheimerdurham.com
END:VEVENT
BEGIN:VEVENT
DTSTART;TZID=America/Toronto:20290305T100000
DTEND;TZID=America/Toronto:20290305T110000
DTSTAMP:20260421T024826
CREATED:20260121T143113Z
LAST-MODIFIED:20260121T143701Z
UID:10010088-1867399200-1867402800@www.brockchc.ca
SUMMARY:Chair Yoga
DESCRIPTION:A supportive chair-based yoga class with a creative and open-minded approach.  Using the chair along with simple props\, participants will explore gentle movements\, breath\, and relaxation while staying curious and willing to try new variations.  Suitable for all bodies and abilities.  To register\, contact Jennifer Josephson at 705.432.3322 ext. 105 or jjosephson@brockchc.ca.
URL:https://www.brockchc.ca/calendar/chair-yoga/2029-03-05/
LOCATION:Brock CHC\, 39 Cameron Street West\, Cannington\, ON\, L0E 1E0\, Canada
ATTACH;FMTTYPE=image/jpeg:https://www.brockchc.ca/wp-content/uploads/2026/01/Chair-Yoga.jpg
END:VEVENT
BEGIN:VEVENT
DTSTART;TZID=America/Toronto:20290305T111500
DTEND;TZID=America/Toronto:20290305T121500
DTSTAMP:20260421T024826
CREATED:20260121T143554Z
LAST-MODIFIED:20260121T143845Z
UID:10012533-1867403700-1867407300@www.brockchc.ca
SUMMARY:Gentle Yin Yoga
DESCRIPTION:A calm and grounding Yin Yoga class appropriate for all levels.  Poses are practiced on a yoga mat and held for longer periods to encourage deep release and relaxation.  Props may be used to support comfort\, ease\, and individual needs through the practice.  To register\, contact Jennifer Josephson at 705.432.3322 ext. 105 or email jjosephson@brockchc.ca.
URL:https://www.brockchc.ca/calendar/gentle-yin-yoga/2029-03-05/
LOCATION:Brock CHC\, 39 Cameron Street West\, Cannington\, ON\, L0E 1E0\, Canada
ATTACH;FMTTYPE=image/jpeg:https://www.brockchc.ca/wp-content/uploads/2026/01/Yin-Yoga.jpg
END:VEVENT
BEGIN:VEVENT
DTSTART;TZID=America/Toronto:20290308T090000
DTEND;TZID=America/Toronto:20290308T120000
DTSTAMP:20260421T024826
CREATED:20251211T161002Z
LAST-MODIFIED:20251211T161002Z
UID:10012181-1867654800-1867665600@www.brockchc.ca
SUMMARY:The Social - Alzheimer Society of Durham Region
DESCRIPTION:This weekly social group for persons living with dementia offers stimulating activities with a focus on social engagement.  Activities are facilitated by experienced staff and co-designed with attendees to meet their interests and needs.  Thursdays from 9am – noon at Brock Community Health Centre.  $12 per day.  Please call the Alzheimer Society of Durham Region to register or for more information at 1-888.301-1106 or email information@alzheimerdurham.com.
URL:https://www.brockchc.ca/calendar/the-social-alzheimer-society-of-durham-region/2029-03-08/
LOCATION:Brock CHC\, 39 Cameron Street West\, Cannington\, ON\, L0E 1E0\, Canada
ORGANIZER;CN="Alzheimer Society of Durham Region":MAILTO:information@alzheimerdurham.com
END:VEVENT
BEGIN:VEVENT
DTSTART;TZID=America/Toronto:20290312T100000
DTEND;TZID=America/Toronto:20290312T110000
DTSTAMP:20260421T024826
CREATED:20260121T143113Z
LAST-MODIFIED:20260121T143701Z
UID:10010104-1868004000-1868007600@www.brockchc.ca
SUMMARY:Chair Yoga
DESCRIPTION:A supportive chair-based yoga class with a creative and open-minded approach.  Using the chair along with simple props\, participants will explore gentle movements\, breath\, and relaxation while staying curious and willing to try new variations.  Suitable for all bodies and abilities.  To register\, contact Jennifer Josephson at 705.432.3322 ext. 105 or jjosephson@brockchc.ca.
URL:https://www.brockchc.ca/calendar/chair-yoga/2029-03-12/
LOCATION:Brock CHC\, 39 Cameron Street West\, Cannington\, ON\, L0E 1E0\, Canada
ATTACH;FMTTYPE=image/jpeg:https://www.brockchc.ca/wp-content/uploads/2026/01/Chair-Yoga.jpg
END:VEVENT
BEGIN:VEVENT
DTSTART;TZID=America/Toronto:20290312T111500
DTEND;TZID=America/Toronto:20290312T121500
DTSTAMP:20260421T024826
CREATED:20260121T143554Z
LAST-MODIFIED:20260121T143845Z
UID:10012534-1868008500-1868012100@www.brockchc.ca
SUMMARY:Gentle Yin Yoga
DESCRIPTION:A calm and grounding Yin Yoga class appropriate for all levels.  Poses are practiced on a yoga mat and held for longer periods to encourage deep release and relaxation.  Props may be used to support comfort\, ease\, and individual needs through the practice.  To register\, contact Jennifer Josephson at 705.432.3322 ext. 105 or email jjosephson@brockchc.ca.
URL:https://www.brockchc.ca/calendar/gentle-yin-yoga/2029-03-12/
LOCATION:Brock CHC\, 39 Cameron Street West\, Cannington\, ON\, L0E 1E0\, Canada
ATTACH;FMTTYPE=image/jpeg:https://www.brockchc.ca/wp-content/uploads/2026/01/Yin-Yoga.jpg
END:VEVENT
BEGIN:VEVENT
DTSTART;TZID=America/Toronto:20290315T090000
DTEND;TZID=America/Toronto:20290315T120000
DTSTAMP:20260421T024826
CREATED:20251211T161002Z
LAST-MODIFIED:20251211T161002Z
UID:10012182-1868259600-1868270400@www.brockchc.ca
SUMMARY:The Social - Alzheimer Society of Durham Region
DESCRIPTION:This weekly social group for persons living with dementia offers stimulating activities with a focus on social engagement.  Activities are facilitated by experienced staff and co-designed with attendees to meet their interests and needs.  Thursdays from 9am – noon at Brock Community Health Centre.  $12 per day.  Please call the Alzheimer Society of Durham Region to register or for more information at 1-888.301-1106 or email information@alzheimerdurham.com.
URL:https://www.brockchc.ca/calendar/the-social-alzheimer-society-of-durham-region/2029-03-15/
LOCATION:Brock CHC\, 39 Cameron Street West\, Cannington\, ON\, L0E 1E0\, Canada
ORGANIZER;CN="Alzheimer Society of Durham Region":MAILTO:information@alzheimerdurham.com
END:VEVENT
BEGIN:VEVENT
DTSTART;TZID=America/Toronto:20290319T100000
DTEND;TZID=America/Toronto:20290319T110000
DTSTAMP:20260421T024826
CREATED:20260121T143113Z
LAST-MODIFIED:20260121T143701Z
UID:10010120-1868608800-1868612400@www.brockchc.ca
SUMMARY:Chair Yoga
DESCRIPTION:A supportive chair-based yoga class with a creative and open-minded approach.  Using the chair along with simple props\, participants will explore gentle movements\, breath\, and relaxation while staying curious and willing to try new variations.  Suitable for all bodies and abilities.  To register\, contact Jennifer Josephson at 705.432.3322 ext. 105 or jjosephson@brockchc.ca.
URL:https://www.brockchc.ca/calendar/chair-yoga/2029-03-19/
LOCATION:Brock CHC\, 39 Cameron Street West\, Cannington\, ON\, L0E 1E0\, Canada
ATTACH;FMTTYPE=image/jpeg:https://www.brockchc.ca/wp-content/uploads/2026/01/Chair-Yoga.jpg
END:VEVENT
BEGIN:VEVENT
DTSTART;TZID=America/Toronto:20290319T111500
DTEND;TZID=America/Toronto:20290319T121500
DTSTAMP:20260421T024826
CREATED:20260121T143554Z
LAST-MODIFIED:20260121T143845Z
UID:10012535-1868613300-1868616900@www.brockchc.ca
SUMMARY:Gentle Yin Yoga
DESCRIPTION:A calm and grounding Yin Yoga class appropriate for all levels.  Poses are practiced on a yoga mat and held for longer periods to encourage deep release and relaxation.  Props may be used to support comfort\, ease\, and individual needs through the practice.  To register\, contact Jennifer Josephson at 705.432.3322 ext. 105 or email jjosephson@brockchc.ca.
URL:https://www.brockchc.ca/calendar/gentle-yin-yoga/2029-03-19/
LOCATION:Brock CHC\, 39 Cameron Street West\, Cannington\, ON\, L0E 1E0\, Canada
ATTACH;FMTTYPE=image/jpeg:https://www.brockchc.ca/wp-content/uploads/2026/01/Yin-Yoga.jpg
END:VEVENT
BEGIN:VEVENT
DTSTART;TZID=America/Toronto:20290322T090000
DTEND;TZID=America/Toronto:20290322T120000
DTSTAMP:20260421T024826
CREATED:20251211T161002Z
LAST-MODIFIED:20251211T161002Z
UID:10012183-1868864400-1868875200@www.brockchc.ca
SUMMARY:The Social - Alzheimer Society of Durham Region
DESCRIPTION:This weekly social group for persons living with dementia offers stimulating activities with a focus on social engagement.  Activities are facilitated by experienced staff and co-designed with attendees to meet their interests and needs.  Thursdays from 9am – noon at Brock Community Health Centre.  $12 per day.  Please call the Alzheimer Society of Durham Region to register or for more information at 1-888.301-1106 or email information@alzheimerdurham.com.
URL:https://www.brockchc.ca/calendar/the-social-alzheimer-society-of-durham-region/2029-03-22/
LOCATION:Brock CHC\, 39 Cameron Street West\, Cannington\, ON\, L0E 1E0\, Canada
ORGANIZER;CN="Alzheimer Society of Durham Region":MAILTO:information@alzheimerdurham.com
END:VEVENT
BEGIN:VEVENT
DTSTART;TZID=America/Toronto:20290326T100000
DTEND;TZID=America/Toronto:20290326T110000
DTSTAMP:20260421T024826
CREATED:20260121T143113Z
LAST-MODIFIED:20260121T143701Z
UID:10010136-1869213600-1869217200@www.brockchc.ca
SUMMARY:Chair Yoga
DESCRIPTION:A supportive chair-based yoga class with a creative and open-minded approach.  Using the chair along with simple props\, participants will explore gentle movements\, breath\, and relaxation while staying curious and willing to try new variations.  Suitable for all bodies and abilities.  To register\, contact Jennifer Josephson at 705.432.3322 ext. 105 or jjosephson@brockchc.ca.
URL:https://www.brockchc.ca/calendar/chair-yoga/2029-03-26/
LOCATION:Brock CHC\, 39 Cameron Street West\, Cannington\, ON\, L0E 1E0\, Canada
ATTACH;FMTTYPE=image/jpeg:https://www.brockchc.ca/wp-content/uploads/2026/01/Chair-Yoga.jpg
END:VEVENT
BEGIN:VEVENT
DTSTART;TZID=America/Toronto:20290326T111500
DTEND;TZID=America/Toronto:20290326T121500
DTSTAMP:20260421T024826
CREATED:20260121T143554Z
LAST-MODIFIED:20260121T143845Z
UID:10012536-1869218100-1869221700@www.brockchc.ca
SUMMARY:Gentle Yin Yoga
DESCRIPTION:A calm and grounding Yin Yoga class appropriate for all levels.  Poses are practiced on a yoga mat and held for longer periods to encourage deep release and relaxation.  Props may be used to support comfort\, ease\, and individual needs through the practice.  To register\, contact Jennifer Josephson at 705.432.3322 ext. 105 or email jjosephson@brockchc.ca.
URL:https://www.brockchc.ca/calendar/gentle-yin-yoga/2029-03-26/
LOCATION:Brock CHC\, 39 Cameron Street West\, Cannington\, ON\, L0E 1E0\, Canada
ATTACH;FMTTYPE=image/jpeg:https://www.brockchc.ca/wp-content/uploads/2026/01/Yin-Yoga.jpg
END:VEVENT
BEGIN:VEVENT
DTSTART;TZID=America/Toronto:20290329T090000
DTEND;TZID=America/Toronto:20290329T120000
DTSTAMP:20260421T024826
CREATED:20251211T161002Z
LAST-MODIFIED:20251211T161002Z
UID:10012184-1869469200-1869480000@www.brockchc.ca
SUMMARY:The Social - Alzheimer Society of Durham Region
DESCRIPTION:This weekly social group for persons living with dementia offers stimulating activities with a focus on social engagement.  Activities are facilitated by experienced staff and co-designed with attendees to meet their interests and needs.  Thursdays from 9am – noon at Brock Community Health Centre.  $12 per day.  Please call the Alzheimer Society of Durham Region to register or for more information at 1-888.301-1106 or email information@alzheimerdurham.com.
URL:https://www.brockchc.ca/calendar/the-social-alzheimer-society-of-durham-region/2029-03-29/
LOCATION:Brock CHC\, 39 Cameron Street West\, Cannington\, ON\, L0E 1E0\, Canada
ORGANIZER;CN="Alzheimer Society of Durham Region":MAILTO:information@alzheimerdurham.com
END:VEVENT
BEGIN:VEVENT
DTSTART;TZID=America/Toronto:20290402T100000
DTEND;TZID=America/Toronto:20290402T110000
DTSTAMP:20260421T024826
CREATED:20260121T143113Z
LAST-MODIFIED:20260121T143701Z
UID:10010154-1869818400-1869822000@www.brockchc.ca
SUMMARY:Chair Yoga
DESCRIPTION:A supportive chair-based yoga class with a creative and open-minded approach.  Using the chair along with simple props\, participants will explore gentle movements\, breath\, and relaxation while staying curious and willing to try new variations.  Suitable for all bodies and abilities.  To register\, contact Jennifer Josephson at 705.432.3322 ext. 105 or jjosephson@brockchc.ca.
URL:https://www.brockchc.ca/calendar/chair-yoga/2029-04-02/
LOCATION:Brock CHC\, 39 Cameron Street West\, Cannington\, ON\, L0E 1E0\, Canada
ATTACH;FMTTYPE=image/jpeg:https://www.brockchc.ca/wp-content/uploads/2026/01/Chair-Yoga.jpg
END:VEVENT
BEGIN:VEVENT
DTSTART;TZID=America/Toronto:20290402T111500
DTEND;TZID=America/Toronto:20290402T121500
DTSTAMP:20260421T024826
CREATED:20260121T143554Z
LAST-MODIFIED:20260121T143845Z
UID:10012537-1869822900-1869826500@www.brockchc.ca
SUMMARY:Gentle Yin Yoga
DESCRIPTION:A calm and grounding Yin Yoga class appropriate for all levels.  Poses are practiced on a yoga mat and held for longer periods to encourage deep release and relaxation.  Props may be used to support comfort\, ease\, and individual needs through the practice.  To register\, contact Jennifer Josephson at 705.432.3322 ext. 105 or email jjosephson@brockchc.ca.
URL:https://www.brockchc.ca/calendar/gentle-yin-yoga/2029-04-02/
LOCATION:Brock CHC\, 39 Cameron Street West\, Cannington\, ON\, L0E 1E0\, Canada
ATTACH;FMTTYPE=image/jpeg:https://www.brockchc.ca/wp-content/uploads/2026/01/Yin-Yoga.jpg
END:VEVENT
BEGIN:VEVENT
DTSTART;TZID=America/Toronto:20290405T090000
DTEND;TZID=America/Toronto:20290405T120000
DTSTAMP:20260421T024826
CREATED:20251211T161002Z
LAST-MODIFIED:20251211T161002Z
UID:10012185-1870074000-1870084800@www.brockchc.ca
SUMMARY:The Social - Alzheimer Society of Durham Region
DESCRIPTION:This weekly social group for persons living with dementia offers stimulating activities with a focus on social engagement.  Activities are facilitated by experienced staff and co-designed with attendees to meet their interests and needs.  Thursdays from 9am – noon at Brock Community Health Centre.  $12 per day.  Please call the Alzheimer Society of Durham Region to register or for more information at 1-888.301-1106 or email information@alzheimerdurham.com.
URL:https://www.brockchc.ca/calendar/the-social-alzheimer-society-of-durham-region/2029-04-05/
LOCATION:Brock CHC\, 39 Cameron Street West\, Cannington\, ON\, L0E 1E0\, Canada
ORGANIZER;CN="Alzheimer Society of Durham Region":MAILTO:information@alzheimerdurham.com
END:VEVENT
BEGIN:VEVENT
DTSTART;TZID=America/Toronto:20290409T100000
DTEND;TZID=America/Toronto:20290409T110000
DTSTAMP:20260421T024826
CREATED:20260121T143113Z
LAST-MODIFIED:20260121T143701Z
UID:10010170-1870423200-1870426800@www.brockchc.ca
SUMMARY:Chair Yoga
DESCRIPTION:A supportive chair-based yoga class with a creative and open-minded approach.  Using the chair along with simple props\, participants will explore gentle movements\, breath\, and relaxation while staying curious and willing to try new variations.  Suitable for all bodies and abilities.  To register\, contact Jennifer Josephson at 705.432.3322 ext. 105 or jjosephson@brockchc.ca.
URL:https://www.brockchc.ca/calendar/chair-yoga/2029-04-09/
LOCATION:Brock CHC\, 39 Cameron Street West\, Cannington\, ON\, L0E 1E0\, Canada
ATTACH;FMTTYPE=image/jpeg:https://www.brockchc.ca/wp-content/uploads/2026/01/Chair-Yoga.jpg
END:VEVENT
BEGIN:VEVENT
DTSTART;TZID=America/Toronto:20290409T111500
DTEND;TZID=America/Toronto:20290409T121500
DTSTAMP:20260421T024826
CREATED:20260121T143554Z
LAST-MODIFIED:20260121T143845Z
UID:10012538-1870427700-1870431300@www.brockchc.ca
SUMMARY:Gentle Yin Yoga
DESCRIPTION:A calm and grounding Yin Yoga class appropriate for all levels.  Poses are practiced on a yoga mat and held for longer periods to encourage deep release and relaxation.  Props may be used to support comfort\, ease\, and individual needs through the practice.  To register\, contact Jennifer Josephson at 705.432.3322 ext. 105 or email jjosephson@brockchc.ca.
URL:https://www.brockchc.ca/calendar/gentle-yin-yoga/2029-04-09/
LOCATION:Brock CHC\, 39 Cameron Street West\, Cannington\, ON\, L0E 1E0\, Canada
ATTACH;FMTTYPE=image/jpeg:https://www.brockchc.ca/wp-content/uploads/2026/01/Yin-Yoga.jpg
END:VEVENT
BEGIN:VEVENT
DTSTART;TZID=America/Toronto:20290412T090000
DTEND;TZID=America/Toronto:20290412T120000
DTSTAMP:20260421T024826
CREATED:20251211T161002Z
LAST-MODIFIED:20251211T161002Z
UID:10012186-1870678800-1870689600@www.brockchc.ca
SUMMARY:The Social - Alzheimer Society of Durham Region
DESCRIPTION:This weekly social group for persons living with dementia offers stimulating activities with a focus on social engagement.  Activities are facilitated by experienced staff and co-designed with attendees to meet their interests and needs.  Thursdays from 9am – noon at Brock Community Health Centre.  $12 per day.  Please call the Alzheimer Society of Durham Region to register or for more information at 1-888.301-1106 or email information@alzheimerdurham.com.
URL:https://www.brockchc.ca/calendar/the-social-alzheimer-society-of-durham-region/2029-04-12/
LOCATION:Brock CHC\, 39 Cameron Street West\, Cannington\, ON\, L0E 1E0\, Canada
ORGANIZER;CN="Alzheimer Society of Durham Region":MAILTO:information@alzheimerdurham.com
END:VEVENT
BEGIN:VEVENT
DTSTART;TZID=America/Toronto:20290416T100000
DTEND;TZID=America/Toronto:20290416T110000
DTSTAMP:20260421T024826
CREATED:20260121T143113Z
LAST-MODIFIED:20260121T143701Z
UID:10010186-1871028000-1871031600@www.brockchc.ca
SUMMARY:Chair Yoga
DESCRIPTION:A supportive chair-based yoga class with a creative and open-minded approach.  Using the chair along with simple props\, participants will explore gentle movements\, breath\, and relaxation while staying curious and willing to try new variations.  Suitable for all bodies and abilities.  To register\, contact Jennifer Josephson at 705.432.3322 ext. 105 or jjosephson@brockchc.ca.
URL:https://www.brockchc.ca/calendar/chair-yoga/2029-04-16/
LOCATION:Brock CHC\, 39 Cameron Street West\, Cannington\, ON\, L0E 1E0\, Canada
ATTACH;FMTTYPE=image/jpeg:https://www.brockchc.ca/wp-content/uploads/2026/01/Chair-Yoga.jpg
END:VEVENT
BEGIN:VEVENT
DTSTART;TZID=America/Toronto:20290416T111500
DTEND;TZID=America/Toronto:20290416T121500
DTSTAMP:20260421T024826
CREATED:20260121T143554Z
LAST-MODIFIED:20260121T143845Z
UID:10012539-1871032500-1871036100@www.brockchc.ca
SUMMARY:Gentle Yin Yoga
DESCRIPTION:A calm and grounding Yin Yoga class appropriate for all levels.  Poses are practiced on a yoga mat and held for longer periods to encourage deep release and relaxation.  Props may be used to support comfort\, ease\, and individual needs through the practice.  To register\, contact Jennifer Josephson at 705.432.3322 ext. 105 or email jjosephson@brockchc.ca.
URL:https://www.brockchc.ca/calendar/gentle-yin-yoga/2029-04-16/
LOCATION:Brock CHC\, 39 Cameron Street West\, Cannington\, ON\, L0E 1E0\, Canada
ATTACH;FMTTYPE=image/jpeg:https://www.brockchc.ca/wp-content/uploads/2026/01/Yin-Yoga.jpg
END:VEVENT
BEGIN:VEVENT
DTSTART;TZID=America/Toronto:20290419T090000
DTEND;TZID=America/Toronto:20290419T120000
DTSTAMP:20260421T024826
CREATED:20251211T161002Z
LAST-MODIFIED:20251211T161002Z
UID:10012187-1871283600-1871294400@www.brockchc.ca
SUMMARY:The Social - Alzheimer Society of Durham Region
DESCRIPTION:This weekly social group for persons living with dementia offers stimulating activities with a focus on social engagement.  Activities are facilitated by experienced staff and co-designed with attendees to meet their interests and needs.  Thursdays from 9am – noon at Brock Community Health Centre.  $12 per day.  Please call the Alzheimer Society of Durham Region to register or for more information at 1-888.301-1106 or email information@alzheimerdurham.com.
URL:https://www.brockchc.ca/calendar/the-social-alzheimer-society-of-durham-region/2029-04-19/
LOCATION:Brock CHC\, 39 Cameron Street West\, Cannington\, ON\, L0E 1E0\, Canada
ORGANIZER;CN="Alzheimer Society of Durham Region":MAILTO:information@alzheimerdurham.com
END:VEVENT
BEGIN:VEVENT
DTSTART;TZID=America/Toronto:20290423T100000
DTEND;TZID=America/Toronto:20290423T110000
DTSTAMP:20260421T024826
CREATED:20260121T143113Z
LAST-MODIFIED:20260121T143701Z
UID:10010202-1871632800-1871636400@www.brockchc.ca
SUMMARY:Chair Yoga
DESCRIPTION:A supportive chair-based yoga class with a creative and open-minded approach.  Using the chair along with simple props\, participants will explore gentle movements\, breath\, and relaxation while staying curious and willing to try new variations.  Suitable for all bodies and abilities.  To register\, contact Jennifer Josephson at 705.432.3322 ext. 105 or jjosephson@brockchc.ca.
URL:https://www.brockchc.ca/calendar/chair-yoga/2029-04-23/
LOCATION:Brock CHC\, 39 Cameron Street West\, Cannington\, ON\, L0E 1E0\, Canada
ATTACH;FMTTYPE=image/jpeg:https://www.brockchc.ca/wp-content/uploads/2026/01/Chair-Yoga.jpg
END:VEVENT
BEGIN:VEVENT
DTSTART;TZID=America/Toronto:20290423T111500
DTEND;TZID=America/Toronto:20290423T121500
DTSTAMP:20260421T024826
CREATED:20260121T143554Z
LAST-MODIFIED:20260121T143845Z
UID:10012540-1871637300-1871640900@www.brockchc.ca
SUMMARY:Gentle Yin Yoga
DESCRIPTION:A calm and grounding Yin Yoga class appropriate for all levels.  Poses are practiced on a yoga mat and held for longer periods to encourage deep release and relaxation.  Props may be used to support comfort\, ease\, and individual needs through the practice.  To register\, contact Jennifer Josephson at 705.432.3322 ext. 105 or email jjosephson@brockchc.ca.
URL:https://www.brockchc.ca/calendar/gentle-yin-yoga/2029-04-23/
LOCATION:Brock CHC\, 39 Cameron Street West\, Cannington\, ON\, L0E 1E0\, Canada
ATTACH;FMTTYPE=image/jpeg:https://www.brockchc.ca/wp-content/uploads/2026/01/Yin-Yoga.jpg
END:VEVENT
BEGIN:VEVENT
DTSTART;TZID=America/Toronto:20290426T090000
DTEND;TZID=America/Toronto:20290426T120000
DTSTAMP:20260421T024826
CREATED:20251211T161002Z
LAST-MODIFIED:20251211T161002Z
UID:10012188-1871888400-1871899200@www.brockchc.ca
SUMMARY:The Social - Alzheimer Society of Durham Region
DESCRIPTION:This weekly social group for persons living with dementia offers stimulating activities with a focus on social engagement.  Activities are facilitated by experienced staff and co-designed with attendees to meet their interests and needs.  Thursdays from 9am – noon at Brock Community Health Centre.  $12 per day.  Please call the Alzheimer Society of Durham Region to register or for more information at 1-888.301-1106 or email information@alzheimerdurham.com.
URL:https://www.brockchc.ca/calendar/the-social-alzheimer-society-of-durham-region/2029-04-26/
LOCATION:Brock CHC\, 39 Cameron Street West\, Cannington\, ON\, L0E 1E0\, Canada
ORGANIZER;CN="Alzheimer Society of Durham Region":MAILTO:information@alzheimerdurham.com
END:VEVENT
BEGIN:VEVENT
DTSTART;TZID=America/Toronto:20290430T100000
DTEND;TZID=America/Toronto:20290430T110000
DTSTAMP:20260421T024826
CREATED:20260121T143113Z
LAST-MODIFIED:20260121T143701Z
UID:10010217-1872237600-1872241200@www.brockchc.ca
SUMMARY:Chair Yoga
DESCRIPTION:A supportive chair-based yoga class with a creative and open-minded approach.  Using the chair along with simple props\, participants will explore gentle movements\, breath\, and relaxation while staying curious and willing to try new variations.  Suitable for all bodies and abilities.  To register\, contact Jennifer Josephson at 705.432.3322 ext. 105 or jjosephson@brockchc.ca.
URL:https://www.brockchc.ca/calendar/chair-yoga/2029-04-30/
LOCATION:Brock CHC\, 39 Cameron Street West\, Cannington\, ON\, L0E 1E0\, Canada
ATTACH;FMTTYPE=image/jpeg:https://www.brockchc.ca/wp-content/uploads/2026/01/Chair-Yoga.jpg
END:VEVENT
BEGIN:VEVENT
DTSTART;TZID=America/Toronto:20290430T111500
DTEND;TZID=America/Toronto:20290430T121500
DTSTAMP:20260421T024826
CREATED:20260121T143554Z
LAST-MODIFIED:20260121T143845Z
UID:10012541-1872242100-1872245700@www.brockchc.ca
SUMMARY:Gentle Yin Yoga
DESCRIPTION:A calm and grounding Yin Yoga class appropriate for all levels.  Poses are practiced on a yoga mat and held for longer periods to encourage deep release and relaxation.  Props may be used to support comfort\, ease\, and individual needs through the practice.  To register\, contact Jennifer Josephson at 705.432.3322 ext. 105 or email jjosephson@brockchc.ca.
URL:https://www.brockchc.ca/calendar/gentle-yin-yoga/2029-04-30/
LOCATION:Brock CHC\, 39 Cameron Street West\, Cannington\, ON\, L0E 1E0\, Canada
ATTACH;FMTTYPE=image/jpeg:https://www.brockchc.ca/wp-content/uploads/2026/01/Yin-Yoga.jpg
END:VEVENT
END:VCALENDAR