BEGIN:VCALENDAR
VERSION:2.0
PRODID:-//Brock Community Health Centre - ECPv6.15.20//NONSGML v1.0//EN
CALSCALE:GREGORIAN
METHOD:PUBLISH
X-ORIGINAL-URL:https://www.brockchc.ca
X-WR-CALDESC:Events for Brock Community Health Centre
REFRESH-INTERVAL;VALUE=DURATION:PT1H
X-Robots-Tag:noindex
X-PUBLISHED-TTL:PT1H
BEGIN:VTIMEZONE
TZID:America/Toronto
BEGIN:DAYLIGHT
TZOFFSETFROM:-0500
TZOFFSETTO:-0400
TZNAME:EDT
DTSTART:20270314T070000
END:DAYLIGHT
BEGIN:STANDARD
TZOFFSETFROM:-0400
TZOFFSETTO:-0500
TZNAME:EST
DTSTART:20271107T060000
END:STANDARD
BEGIN:DAYLIGHT
TZOFFSETFROM:-0500
TZOFFSETTO:-0400
TZNAME:EDT
DTSTART:20280312T070000
END:DAYLIGHT
BEGIN:STANDARD
TZOFFSETFROM:-0400
TZOFFSETTO:-0500
TZNAME:EST
DTSTART:20281105T060000
END:STANDARD
BEGIN:DAYLIGHT
TZOFFSETFROM:-0500
TZOFFSETTO:-0400
TZNAME:EDT
DTSTART:20290311T070000
END:DAYLIGHT
BEGIN:STANDARD
TZOFFSETFROM:-0400
TZOFFSETTO:-0500
TZNAME:EST
DTSTART:20291104T060000
END:STANDARD
END:VTIMEZONE
BEGIN:VEVENT
DTSTART;TZID=America/Toronto:20280810T090000
DTEND;TZID=America/Toronto:20280810T120000
DTSTAMP:20260420T161137
CREATED:20251211T161002Z
LAST-MODIFIED:20251211T161002Z
UID:10012151-1849510800-1849521600@www.brockchc.ca
SUMMARY:The Social - Alzheimer Society of Durham Region
DESCRIPTION:This weekly social group for persons living with dementia offers stimulating activities with a focus on social engagement.  Activities are facilitated by experienced staff and co-designed with attendees to meet their interests and needs.  Thursdays from 9am – noon at Brock Community Health Centre.  $12 per day.  Please call the Alzheimer Society of Durham Region to register or for more information at 1-888.301-1106 or email information@alzheimerdurham.com.
URL:https://www.brockchc.ca/calendar/the-social-alzheimer-society-of-durham-region/2028-08-10/
LOCATION:Brock CHC\, 39 Cameron Street West\, Cannington\, ON\, L0E 1E0\, Canada
ORGANIZER;CN="Alzheimer Society of Durham Region":MAILTO:information@alzheimerdurham.com
END:VEVENT
BEGIN:VEVENT
DTSTART;TZID=America/Toronto:20280814T100000
DTEND;TZID=America/Toronto:20280814T110000
DTSTAMP:20260420T161137
CREATED:20260121T143113Z
LAST-MODIFIED:20260121T143701Z
UID:10006855-1849860000-1849863600@www.brockchc.ca
SUMMARY:Chair Yoga
DESCRIPTION:A supportive chair-based yoga class with a creative and open-minded approach.  Using the chair along with simple props\, participants will explore gentle movements\, breath\, and relaxation while staying curious and willing to try new variations.  Suitable for all bodies and abilities.  To register\, contact Jennifer Josephson at 705.432.3322 ext. 105 or jjosephson@brockchc.ca.
URL:https://www.brockchc.ca/calendar/chair-yoga/2028-08-14/
LOCATION:Brock CHC\, 39 Cameron Street West\, Cannington\, ON\, L0E 1E0\, Canada
ATTACH;FMTTYPE=image/jpeg:https://www.brockchc.ca/wp-content/uploads/2026/01/Chair-Yoga.jpg
END:VEVENT
BEGIN:VEVENT
DTSTART;TZID=America/Toronto:20280814T111500
DTEND;TZID=America/Toronto:20280814T121500
DTSTAMP:20260420T161137
CREATED:20260121T143554Z
LAST-MODIFIED:20260121T143845Z
UID:10012504-1849864500-1849868100@www.brockchc.ca
SUMMARY:Gentle Yin Yoga
DESCRIPTION:A calm and grounding Yin Yoga class appropriate for all levels.  Poses are practiced on a yoga mat and held for longer periods to encourage deep release and relaxation.  Props may be used to support comfort\, ease\, and individual needs through the practice.  To register\, contact Jennifer Josephson at 705.432.3322 ext. 105 or email jjosephson@brockchc.ca.
URL:https://www.brockchc.ca/calendar/gentle-yin-yoga/2028-08-14/
LOCATION:Brock CHC\, 39 Cameron Street West\, Cannington\, ON\, L0E 1E0\, Canada
ATTACH;FMTTYPE=image/jpeg:https://www.brockchc.ca/wp-content/uploads/2026/01/Yin-Yoga.jpg
END:VEVENT
BEGIN:VEVENT
DTSTART;TZID=America/Toronto:20280817T090000
DTEND;TZID=America/Toronto:20280817T120000
DTSTAMP:20260420T161137
CREATED:20251211T161002Z
LAST-MODIFIED:20251211T161002Z
UID:10012152-1850115600-1850126400@www.brockchc.ca
SUMMARY:The Social - Alzheimer Society of Durham Region
DESCRIPTION:This weekly social group for persons living with dementia offers stimulating activities with a focus on social engagement.  Activities are facilitated by experienced staff and co-designed with attendees to meet their interests and needs.  Thursdays from 9am – noon at Brock Community Health Centre.  $12 per day.  Please call the Alzheimer Society of Durham Region to register or for more information at 1-888.301-1106 or email information@alzheimerdurham.com.
URL:https://www.brockchc.ca/calendar/the-social-alzheimer-society-of-durham-region/2028-08-17/
LOCATION:Brock CHC\, 39 Cameron Street West\, Cannington\, ON\, L0E 1E0\, Canada
ORGANIZER;CN="Alzheimer Society of Durham Region":MAILTO:information@alzheimerdurham.com
END:VEVENT
BEGIN:VEVENT
DTSTART;TZID=America/Toronto:20280821T100000
DTEND;TZID=America/Toronto:20280821T110000
DTSTAMP:20260420T161137
CREATED:20260121T143113Z
LAST-MODIFIED:20260121T143701Z
UID:10006856-1850464800-1850468400@www.brockchc.ca
SUMMARY:Chair Yoga
DESCRIPTION:A supportive chair-based yoga class with a creative and open-minded approach.  Using the chair along with simple props\, participants will explore gentle movements\, breath\, and relaxation while staying curious and willing to try new variations.  Suitable for all bodies and abilities.  To register\, contact Jennifer Josephson at 705.432.3322 ext. 105 or jjosephson@brockchc.ca.
URL:https://www.brockchc.ca/calendar/chair-yoga/2028-08-21/
LOCATION:Brock CHC\, 39 Cameron Street West\, Cannington\, ON\, L0E 1E0\, Canada
ATTACH;FMTTYPE=image/jpeg:https://www.brockchc.ca/wp-content/uploads/2026/01/Chair-Yoga.jpg
END:VEVENT
BEGIN:VEVENT
DTSTART;TZID=America/Toronto:20280821T111500
DTEND;TZID=America/Toronto:20280821T121500
DTSTAMP:20260420T161137
CREATED:20260121T143554Z
LAST-MODIFIED:20260121T143845Z
UID:10012505-1850469300-1850472900@www.brockchc.ca
SUMMARY:Gentle Yin Yoga
DESCRIPTION:A calm and grounding Yin Yoga class appropriate for all levels.  Poses are practiced on a yoga mat and held for longer periods to encourage deep release and relaxation.  Props may be used to support comfort\, ease\, and individual needs through the practice.  To register\, contact Jennifer Josephson at 705.432.3322 ext. 105 or email jjosephson@brockchc.ca.
URL:https://www.brockchc.ca/calendar/gentle-yin-yoga/2028-08-21/
LOCATION:Brock CHC\, 39 Cameron Street West\, Cannington\, ON\, L0E 1E0\, Canada
ATTACH;FMTTYPE=image/jpeg:https://www.brockchc.ca/wp-content/uploads/2026/01/Yin-Yoga.jpg
END:VEVENT
BEGIN:VEVENT
DTSTART;TZID=America/Toronto:20280824T090000
DTEND;TZID=America/Toronto:20280824T120000
DTSTAMP:20260420T161137
CREATED:20251211T161002Z
LAST-MODIFIED:20251211T161002Z
UID:10012153-1850720400-1850731200@www.brockchc.ca
SUMMARY:The Social - Alzheimer Society of Durham Region
DESCRIPTION:This weekly social group for persons living with dementia offers stimulating activities with a focus on social engagement.  Activities are facilitated by experienced staff and co-designed with attendees to meet their interests and needs.  Thursdays from 9am – noon at Brock Community Health Centre.  $12 per day.  Please call the Alzheimer Society of Durham Region to register or for more information at 1-888.301-1106 or email information@alzheimerdurham.com.
URL:https://www.brockchc.ca/calendar/the-social-alzheimer-society-of-durham-region/2028-08-24/
LOCATION:Brock CHC\, 39 Cameron Street West\, Cannington\, ON\, L0E 1E0\, Canada
ORGANIZER;CN="Alzheimer Society of Durham Region":MAILTO:information@alzheimerdurham.com
END:VEVENT
BEGIN:VEVENT
DTSTART;TZID=America/Toronto:20280828T100000
DTEND;TZID=America/Toronto:20280828T110000
DTSTAMP:20260420T161137
CREATED:20260121T143113Z
LAST-MODIFIED:20260121T143701Z
UID:10006869-1851069600-1851073200@www.brockchc.ca
SUMMARY:Chair Yoga
DESCRIPTION:A supportive chair-based yoga class with a creative and open-minded approach.  Using the chair along with simple props\, participants will explore gentle movements\, breath\, and relaxation while staying curious and willing to try new variations.  Suitable for all bodies and abilities.  To register\, contact Jennifer Josephson at 705.432.3322 ext. 105 or jjosephson@brockchc.ca.
URL:https://www.brockchc.ca/calendar/chair-yoga/2028-08-28/
LOCATION:Brock CHC\, 39 Cameron Street West\, Cannington\, ON\, L0E 1E0\, Canada
ATTACH;FMTTYPE=image/jpeg:https://www.brockchc.ca/wp-content/uploads/2026/01/Chair-Yoga.jpg
END:VEVENT
BEGIN:VEVENT
DTSTART;TZID=America/Toronto:20280828T111500
DTEND;TZID=America/Toronto:20280828T121500
DTSTAMP:20260420T161137
CREATED:20260121T143554Z
LAST-MODIFIED:20260121T143845Z
UID:10012506-1851074100-1851077700@www.brockchc.ca
SUMMARY:Gentle Yin Yoga
DESCRIPTION:A calm and grounding Yin Yoga class appropriate for all levels.  Poses are practiced on a yoga mat and held for longer periods to encourage deep release and relaxation.  Props may be used to support comfort\, ease\, and individual needs through the practice.  To register\, contact Jennifer Josephson at 705.432.3322 ext. 105 or email jjosephson@brockchc.ca.
URL:https://www.brockchc.ca/calendar/gentle-yin-yoga/2028-08-28/
LOCATION:Brock CHC\, 39 Cameron Street West\, Cannington\, ON\, L0E 1E0\, Canada
ATTACH;FMTTYPE=image/jpeg:https://www.brockchc.ca/wp-content/uploads/2026/01/Yin-Yoga.jpg
END:VEVENT
BEGIN:VEVENT
DTSTART;TZID=America/Toronto:20280831T090000
DTEND;TZID=America/Toronto:20280831T120000
DTSTAMP:20260420T161137
CREATED:20251211T161002Z
LAST-MODIFIED:20251211T161002Z
UID:10012154-1851325200-1851336000@www.brockchc.ca
SUMMARY:The Social - Alzheimer Society of Durham Region
DESCRIPTION:This weekly social group for persons living with dementia offers stimulating activities with a focus on social engagement.  Activities are facilitated by experienced staff and co-designed with attendees to meet their interests and needs.  Thursdays from 9am – noon at Brock Community Health Centre.  $12 per day.  Please call the Alzheimer Society of Durham Region to register or for more information at 1-888.301-1106 or email information@alzheimerdurham.com.
URL:https://www.brockchc.ca/calendar/the-social-alzheimer-society-of-durham-region/2028-08-31/
LOCATION:Brock CHC\, 39 Cameron Street West\, Cannington\, ON\, L0E 1E0\, Canada
ORGANIZER;CN="Alzheimer Society of Durham Region":MAILTO:information@alzheimerdurham.com
END:VEVENT
BEGIN:VEVENT
DTSTART;TZID=America/Toronto:20280904T100000
DTEND;TZID=America/Toronto:20280904T110000
DTSTAMP:20260420T161137
CREATED:20260121T143113Z
LAST-MODIFIED:20260121T143701Z
UID:10006870-1851674400-1851678000@www.brockchc.ca
SUMMARY:Chair Yoga
DESCRIPTION:A supportive chair-based yoga class with a creative and open-minded approach.  Using the chair along with simple props\, participants will explore gentle movements\, breath\, and relaxation while staying curious and willing to try new variations.  Suitable for all bodies and abilities.  To register\, contact Jennifer Josephson at 705.432.3322 ext. 105 or jjosephson@brockchc.ca.
URL:https://www.brockchc.ca/calendar/chair-yoga/2028-09-04/
LOCATION:Brock CHC\, 39 Cameron Street West\, Cannington\, ON\, L0E 1E0\, Canada
ATTACH;FMTTYPE=image/jpeg:https://www.brockchc.ca/wp-content/uploads/2026/01/Chair-Yoga.jpg
END:VEVENT
BEGIN:VEVENT
DTSTART;TZID=America/Toronto:20280904T111500
DTEND;TZID=America/Toronto:20280904T121500
DTSTAMP:20260420T161137
CREATED:20260121T143554Z
LAST-MODIFIED:20260121T143845Z
UID:10012507-1851678900-1851682500@www.brockchc.ca
SUMMARY:Gentle Yin Yoga
DESCRIPTION:A calm and grounding Yin Yoga class appropriate for all levels.  Poses are practiced on a yoga mat and held for longer periods to encourage deep release and relaxation.  Props may be used to support comfort\, ease\, and individual needs through the practice.  To register\, contact Jennifer Josephson at 705.432.3322 ext. 105 or email jjosephson@brockchc.ca.
URL:https://www.brockchc.ca/calendar/gentle-yin-yoga/2028-09-04/
LOCATION:Brock CHC\, 39 Cameron Street West\, Cannington\, ON\, L0E 1E0\, Canada
ATTACH;FMTTYPE=image/jpeg:https://www.brockchc.ca/wp-content/uploads/2026/01/Yin-Yoga.jpg
END:VEVENT
BEGIN:VEVENT
DTSTART;TZID=America/Toronto:20280907T090000
DTEND;TZID=America/Toronto:20280907T120000
DTSTAMP:20260420T161137
CREATED:20251211T161002Z
LAST-MODIFIED:20251211T161002Z
UID:10012155-1851930000-1851940800@www.brockchc.ca
SUMMARY:The Social - Alzheimer Society of Durham Region
DESCRIPTION:This weekly social group for persons living with dementia offers stimulating activities with a focus on social engagement.  Activities are facilitated by experienced staff and co-designed with attendees to meet their interests and needs.  Thursdays from 9am – noon at Brock Community Health Centre.  $12 per day.  Please call the Alzheimer Society of Durham Region to register or for more information at 1-888.301-1106 or email information@alzheimerdurham.com.
URL:https://www.brockchc.ca/calendar/the-social-alzheimer-society-of-durham-region/2028-09-07/
LOCATION:Brock CHC\, 39 Cameron Street West\, Cannington\, ON\, L0E 1E0\, Canada
ORGANIZER;CN="Alzheimer Society of Durham Region":MAILTO:information@alzheimerdurham.com
END:VEVENT
BEGIN:VEVENT
DTSTART;TZID=America/Toronto:20280911T100000
DTEND;TZID=America/Toronto:20280911T110000
DTSTAMP:20260420T161137
CREATED:20260121T143113Z
LAST-MODIFIED:20260121T143701Z
UID:10006900-1852279200-1852282800@www.brockchc.ca
SUMMARY:Chair Yoga
DESCRIPTION:A supportive chair-based yoga class with a creative and open-minded approach.  Using the chair along with simple props\, participants will explore gentle movements\, breath\, and relaxation while staying curious and willing to try new variations.  Suitable for all bodies and abilities.  To register\, contact Jennifer Josephson at 705.432.3322 ext. 105 or jjosephson@brockchc.ca.
URL:https://www.brockchc.ca/calendar/chair-yoga/2028-09-11/
LOCATION:Brock CHC\, 39 Cameron Street West\, Cannington\, ON\, L0E 1E0\, Canada
ATTACH;FMTTYPE=image/jpeg:https://www.brockchc.ca/wp-content/uploads/2026/01/Chair-Yoga.jpg
END:VEVENT
BEGIN:VEVENT
DTSTART;TZID=America/Toronto:20280911T111500
DTEND;TZID=America/Toronto:20280911T121500
DTSTAMP:20260420T161137
CREATED:20260121T143554Z
LAST-MODIFIED:20260121T143845Z
UID:10012508-1852283700-1852287300@www.brockchc.ca
SUMMARY:Gentle Yin Yoga
DESCRIPTION:A calm and grounding Yin Yoga class appropriate for all levels.  Poses are practiced on a yoga mat and held for longer periods to encourage deep release and relaxation.  Props may be used to support comfort\, ease\, and individual needs through the practice.  To register\, contact Jennifer Josephson at 705.432.3322 ext. 105 or email jjosephson@brockchc.ca.
URL:https://www.brockchc.ca/calendar/gentle-yin-yoga/2028-09-11/
LOCATION:Brock CHC\, 39 Cameron Street West\, Cannington\, ON\, L0E 1E0\, Canada
ATTACH;FMTTYPE=image/jpeg:https://www.brockchc.ca/wp-content/uploads/2026/01/Yin-Yoga.jpg
END:VEVENT
BEGIN:VEVENT
DTSTART;TZID=America/Toronto:20280914T090000
DTEND;TZID=America/Toronto:20280914T120000
DTSTAMP:20260420T161137
CREATED:20251211T161002Z
LAST-MODIFIED:20251211T161002Z
UID:10012156-1852534800-1852545600@www.brockchc.ca
SUMMARY:The Social - Alzheimer Society of Durham Region
DESCRIPTION:This weekly social group for persons living with dementia offers stimulating activities with a focus on social engagement.  Activities are facilitated by experienced staff and co-designed with attendees to meet their interests and needs.  Thursdays from 9am – noon at Brock Community Health Centre.  $12 per day.  Please call the Alzheimer Society of Durham Region to register or for more information at 1-888.301-1106 or email information@alzheimerdurham.com.
URL:https://www.brockchc.ca/calendar/the-social-alzheimer-society-of-durham-region/2028-09-14/
LOCATION:Brock CHC\, 39 Cameron Street West\, Cannington\, ON\, L0E 1E0\, Canada
ORGANIZER;CN="Alzheimer Society of Durham Region":MAILTO:information@alzheimerdurham.com
END:VEVENT
BEGIN:VEVENT
DTSTART;TZID=America/Toronto:20280918T100000
DTEND;TZID=America/Toronto:20280918T110000
DTSTAMP:20260420T161137
CREATED:20260121T143113Z
LAST-MODIFIED:20260121T143701Z
UID:10006901-1852884000-1852887600@www.brockchc.ca
SUMMARY:Chair Yoga
DESCRIPTION:A supportive chair-based yoga class with a creative and open-minded approach.  Using the chair along with simple props\, participants will explore gentle movements\, breath\, and relaxation while staying curious and willing to try new variations.  Suitable for all bodies and abilities.  To register\, contact Jennifer Josephson at 705.432.3322 ext. 105 or jjosephson@brockchc.ca.
URL:https://www.brockchc.ca/calendar/chair-yoga/2028-09-18/
LOCATION:Brock CHC\, 39 Cameron Street West\, Cannington\, ON\, L0E 1E0\, Canada
ATTACH;FMTTYPE=image/jpeg:https://www.brockchc.ca/wp-content/uploads/2026/01/Chair-Yoga.jpg
END:VEVENT
BEGIN:VEVENT
DTSTART;TZID=America/Toronto:20280918T111500
DTEND;TZID=America/Toronto:20280918T121500
DTSTAMP:20260420T161137
CREATED:20260121T143554Z
LAST-MODIFIED:20260121T143845Z
UID:10012509-1852888500-1852892100@www.brockchc.ca
SUMMARY:Gentle Yin Yoga
DESCRIPTION:A calm and grounding Yin Yoga class appropriate for all levels.  Poses are practiced on a yoga mat and held for longer periods to encourage deep release and relaxation.  Props may be used to support comfort\, ease\, and individual needs through the practice.  To register\, contact Jennifer Josephson at 705.432.3322 ext. 105 or email jjosephson@brockchc.ca.
URL:https://www.brockchc.ca/calendar/gentle-yin-yoga/2028-09-18/
LOCATION:Brock CHC\, 39 Cameron Street West\, Cannington\, ON\, L0E 1E0\, Canada
ATTACH;FMTTYPE=image/jpeg:https://www.brockchc.ca/wp-content/uploads/2026/01/Yin-Yoga.jpg
END:VEVENT
BEGIN:VEVENT
DTSTART;TZID=America/Toronto:20280921T090000
DTEND;TZID=America/Toronto:20280921T120000
DTSTAMP:20260420T161137
CREATED:20251211T161002Z
LAST-MODIFIED:20251211T161002Z
UID:10012157-1853139600-1853150400@www.brockchc.ca
SUMMARY:The Social - Alzheimer Society of Durham Region
DESCRIPTION:This weekly social group for persons living with dementia offers stimulating activities with a focus on social engagement.  Activities are facilitated by experienced staff and co-designed with attendees to meet their interests and needs.  Thursdays from 9am – noon at Brock Community Health Centre.  $12 per day.  Please call the Alzheimer Society of Durham Region to register or for more information at 1-888.301-1106 or email information@alzheimerdurham.com.
URL:https://www.brockchc.ca/calendar/the-social-alzheimer-society-of-durham-region/2028-09-21/
LOCATION:Brock CHC\, 39 Cameron Street West\, Cannington\, ON\, L0E 1E0\, Canada
ORGANIZER;CN="Alzheimer Society of Durham Region":MAILTO:information@alzheimerdurham.com
END:VEVENT
BEGIN:VEVENT
DTSTART;TZID=America/Toronto:20280925T100000
DTEND;TZID=America/Toronto:20280925T110000
DTSTAMP:20260420T161137
CREATED:20260121T143113Z
LAST-MODIFIED:20260121T143701Z
UID:10006902-1853488800-1853492400@www.brockchc.ca
SUMMARY:Chair Yoga
DESCRIPTION:A supportive chair-based yoga class with a creative and open-minded approach.  Using the chair along with simple props\, participants will explore gentle movements\, breath\, and relaxation while staying curious and willing to try new variations.  Suitable for all bodies and abilities.  To register\, contact Jennifer Josephson at 705.432.3322 ext. 105 or jjosephson@brockchc.ca.
URL:https://www.brockchc.ca/calendar/chair-yoga/2028-09-25/
LOCATION:Brock CHC\, 39 Cameron Street West\, Cannington\, ON\, L0E 1E0\, Canada
ATTACH;FMTTYPE=image/jpeg:https://www.brockchc.ca/wp-content/uploads/2026/01/Chair-Yoga.jpg
END:VEVENT
BEGIN:VEVENT
DTSTART;TZID=America/Toronto:20280925T111500
DTEND;TZID=America/Toronto:20280925T121500
DTSTAMP:20260420T161137
CREATED:20260121T143554Z
LAST-MODIFIED:20260121T143845Z
UID:10012510-1853493300-1853496900@www.brockchc.ca
SUMMARY:Gentle Yin Yoga
DESCRIPTION:A calm and grounding Yin Yoga class appropriate for all levels.  Poses are practiced on a yoga mat and held for longer periods to encourage deep release and relaxation.  Props may be used to support comfort\, ease\, and individual needs through the practice.  To register\, contact Jennifer Josephson at 705.432.3322 ext. 105 or email jjosephson@brockchc.ca.
URL:https://www.brockchc.ca/calendar/gentle-yin-yoga/2028-09-25/
LOCATION:Brock CHC\, 39 Cameron Street West\, Cannington\, ON\, L0E 1E0\, Canada
ATTACH;FMTTYPE=image/jpeg:https://www.brockchc.ca/wp-content/uploads/2026/01/Yin-Yoga.jpg
END:VEVENT
BEGIN:VEVENT
DTSTART;TZID=America/Toronto:20280928T090000
DTEND;TZID=America/Toronto:20280928T120000
DTSTAMP:20260420T161137
CREATED:20251211T161002Z
LAST-MODIFIED:20251211T161002Z
UID:10012158-1853744400-1853755200@www.brockchc.ca
SUMMARY:The Social - Alzheimer Society of Durham Region
DESCRIPTION:This weekly social group for persons living with dementia offers stimulating activities with a focus on social engagement.  Activities are facilitated by experienced staff and co-designed with attendees to meet their interests and needs.  Thursdays from 9am – noon at Brock Community Health Centre.  $12 per day.  Please call the Alzheimer Society of Durham Region to register or for more information at 1-888.301-1106 or email information@alzheimerdurham.com.
URL:https://www.brockchc.ca/calendar/the-social-alzheimer-society-of-durham-region/2028-09-28/
LOCATION:Brock CHC\, 39 Cameron Street West\, Cannington\, ON\, L0E 1E0\, Canada
ORGANIZER;CN="Alzheimer Society of Durham Region":MAILTO:information@alzheimerdurham.com
END:VEVENT
BEGIN:VEVENT
DTSTART;TZID=America/Toronto:20281002T100000
DTEND;TZID=America/Toronto:20281002T110000
DTSTAMP:20260420T161137
CREATED:20260121T143113Z
LAST-MODIFIED:20260121T143701Z
UID:10006903-1854093600-1854097200@www.brockchc.ca
SUMMARY:Chair Yoga
DESCRIPTION:A supportive chair-based yoga class with a creative and open-minded approach.  Using the chair along with simple props\, participants will explore gentle movements\, breath\, and relaxation while staying curious and willing to try new variations.  Suitable for all bodies and abilities.  To register\, contact Jennifer Josephson at 705.432.3322 ext. 105 or jjosephson@brockchc.ca.
URL:https://www.brockchc.ca/calendar/chair-yoga/2028-10-02/
LOCATION:Brock CHC\, 39 Cameron Street West\, Cannington\, ON\, L0E 1E0\, Canada
ATTACH;FMTTYPE=image/jpeg:https://www.brockchc.ca/wp-content/uploads/2026/01/Chair-Yoga.jpg
END:VEVENT
BEGIN:VEVENT
DTSTART;TZID=America/Toronto:20281002T111500
DTEND;TZID=America/Toronto:20281002T121500
DTSTAMP:20260420T161137
CREATED:20260121T143554Z
LAST-MODIFIED:20260121T143845Z
UID:10012511-1854098100-1854101700@www.brockchc.ca
SUMMARY:Gentle Yin Yoga
DESCRIPTION:A calm and grounding Yin Yoga class appropriate for all levels.  Poses are practiced on a yoga mat and held for longer periods to encourage deep release and relaxation.  Props may be used to support comfort\, ease\, and individual needs through the practice.  To register\, contact Jennifer Josephson at 705.432.3322 ext. 105 or email jjosephson@brockchc.ca.
URL:https://www.brockchc.ca/calendar/gentle-yin-yoga/2028-10-02/
LOCATION:Brock CHC\, 39 Cameron Street West\, Cannington\, ON\, L0E 1E0\, Canada
ATTACH;FMTTYPE=image/jpeg:https://www.brockchc.ca/wp-content/uploads/2026/01/Yin-Yoga.jpg
END:VEVENT
BEGIN:VEVENT
DTSTART;TZID=America/Toronto:20281005T090000
DTEND;TZID=America/Toronto:20281005T120000
DTSTAMP:20260420T161137
CREATED:20251211T161002Z
LAST-MODIFIED:20251211T161002Z
UID:10012159-1854349200-1854360000@www.brockchc.ca
SUMMARY:The Social - Alzheimer Society of Durham Region
DESCRIPTION:This weekly social group for persons living with dementia offers stimulating activities with a focus on social engagement.  Activities are facilitated by experienced staff and co-designed with attendees to meet their interests and needs.  Thursdays from 9am – noon at Brock Community Health Centre.  $12 per day.  Please call the Alzheimer Society of Durham Region to register or for more information at 1-888.301-1106 or email information@alzheimerdurham.com.
URL:https://www.brockchc.ca/calendar/the-social-alzheimer-society-of-durham-region/2028-10-05/
LOCATION:Brock CHC\, 39 Cameron Street West\, Cannington\, ON\, L0E 1E0\, Canada
ORGANIZER;CN="Alzheimer Society of Durham Region":MAILTO:information@alzheimerdurham.com
END:VEVENT
BEGIN:VEVENT
DTSTART;TZID=America/Toronto:20281009T100000
DTEND;TZID=America/Toronto:20281009T110000
DTSTAMP:20260420T161137
CREATED:20260121T143113Z
LAST-MODIFIED:20260121T143701Z
UID:10006959-1854698400-1854702000@www.brockchc.ca
SUMMARY:Chair Yoga
DESCRIPTION:A supportive chair-based yoga class with a creative and open-minded approach.  Using the chair along with simple props\, participants will explore gentle movements\, breath\, and relaxation while staying curious and willing to try new variations.  Suitable for all bodies and abilities.  To register\, contact Jennifer Josephson at 705.432.3322 ext. 105 or jjosephson@brockchc.ca.
URL:https://www.brockchc.ca/calendar/chair-yoga/2028-10-09/
LOCATION:Brock CHC\, 39 Cameron Street West\, Cannington\, ON\, L0E 1E0\, Canada
ATTACH;FMTTYPE=image/jpeg:https://www.brockchc.ca/wp-content/uploads/2026/01/Chair-Yoga.jpg
END:VEVENT
BEGIN:VEVENT
DTSTART;TZID=America/Toronto:20281009T111500
DTEND;TZID=America/Toronto:20281009T121500
DTSTAMP:20260420T161137
CREATED:20260121T143554Z
LAST-MODIFIED:20260121T143845Z
UID:10012512-1854702900-1854706500@www.brockchc.ca
SUMMARY:Gentle Yin Yoga
DESCRIPTION:A calm and grounding Yin Yoga class appropriate for all levels.  Poses are practiced on a yoga mat and held for longer periods to encourage deep release and relaxation.  Props may be used to support comfort\, ease\, and individual needs through the practice.  To register\, contact Jennifer Josephson at 705.432.3322 ext. 105 or email jjosephson@brockchc.ca.
URL:https://www.brockchc.ca/calendar/gentle-yin-yoga/2028-10-09/
LOCATION:Brock CHC\, 39 Cameron Street West\, Cannington\, ON\, L0E 1E0\, Canada
ATTACH;FMTTYPE=image/jpeg:https://www.brockchc.ca/wp-content/uploads/2026/01/Yin-Yoga.jpg
END:VEVENT
BEGIN:VEVENT
DTSTART;TZID=America/Toronto:20281012T090000
DTEND;TZID=America/Toronto:20281012T120000
DTSTAMP:20260420T161137
CREATED:20251211T161002Z
LAST-MODIFIED:20251211T161002Z
UID:10012160-1854954000-1854964800@www.brockchc.ca
SUMMARY:The Social - Alzheimer Society of Durham Region
DESCRIPTION:This weekly social group for persons living with dementia offers stimulating activities with a focus on social engagement.  Activities are facilitated by experienced staff and co-designed with attendees to meet their interests and needs.  Thursdays from 9am – noon at Brock Community Health Centre.  $12 per day.  Please call the Alzheimer Society of Durham Region to register or for more information at 1-888.301-1106 or email information@alzheimerdurham.com.
URL:https://www.brockchc.ca/calendar/the-social-alzheimer-society-of-durham-region/2028-10-12/
LOCATION:Brock CHC\, 39 Cameron Street West\, Cannington\, ON\, L0E 1E0\, Canada
ORGANIZER;CN="Alzheimer Society of Durham Region":MAILTO:information@alzheimerdurham.com
END:VEVENT
BEGIN:VEVENT
DTSTART;TZID=America/Toronto:20281016T100000
DTEND;TZID=America/Toronto:20281016T110000
DTSTAMP:20260420T161137
CREATED:20260121T143113Z
LAST-MODIFIED:20260121T143701Z
UID:10006960-1855303200-1855306800@www.brockchc.ca
SUMMARY:Chair Yoga
DESCRIPTION:A supportive chair-based yoga class with a creative and open-minded approach.  Using the chair along with simple props\, participants will explore gentle movements\, breath\, and relaxation while staying curious and willing to try new variations.  Suitable for all bodies and abilities.  To register\, contact Jennifer Josephson at 705.432.3322 ext. 105 or jjosephson@brockchc.ca.
URL:https://www.brockchc.ca/calendar/chair-yoga/2028-10-16/
LOCATION:Brock CHC\, 39 Cameron Street West\, Cannington\, ON\, L0E 1E0\, Canada
ATTACH;FMTTYPE=image/jpeg:https://www.brockchc.ca/wp-content/uploads/2026/01/Chair-Yoga.jpg
END:VEVENT
BEGIN:VEVENT
DTSTART;TZID=America/Toronto:20281016T111500
DTEND;TZID=America/Toronto:20281016T121500
DTSTAMP:20260420T161137
CREATED:20260121T143554Z
LAST-MODIFIED:20260121T143845Z
UID:10012513-1855307700-1855311300@www.brockchc.ca
SUMMARY:Gentle Yin Yoga
DESCRIPTION:A calm and grounding Yin Yoga class appropriate for all levels.  Poses are practiced on a yoga mat and held for longer periods to encourage deep release and relaxation.  Props may be used to support comfort\, ease\, and individual needs through the practice.  To register\, contact Jennifer Josephson at 705.432.3322 ext. 105 or email jjosephson@brockchc.ca.
URL:https://www.brockchc.ca/calendar/gentle-yin-yoga/2028-10-16/
LOCATION:Brock CHC\, 39 Cameron Street West\, Cannington\, ON\, L0E 1E0\, Canada
ATTACH;FMTTYPE=image/jpeg:https://www.brockchc.ca/wp-content/uploads/2026/01/Yin-Yoga.jpg
END:VEVENT
END:VCALENDAR