BEGIN:VCALENDAR
VERSION:2.0
PRODID:-//Brock Community Health Centre - ECPv6.15.20//NONSGML v1.0//EN
CALSCALE:GREGORIAN
METHOD:PUBLISH
X-WR-CALNAME:Brock Community Health Centre
X-ORIGINAL-URL:https://www.brockchc.ca
X-WR-CALDESC:Events for Brock Community Health Centre
REFRESH-INTERVAL;VALUE=DURATION:PT1H
X-Robots-Tag:noindex
X-PUBLISHED-TTL:PT1H
BEGIN:VTIMEZONE
TZID:America/Toronto
BEGIN:DAYLIGHT
TZOFFSETFROM:-0500
TZOFFSETTO:-0400
TZNAME:EDT
DTSTART:20260308T070000
END:DAYLIGHT
BEGIN:STANDARD
TZOFFSETFROM:-0400
TZOFFSETTO:-0500
TZNAME:EST
DTSTART:20261101T060000
END:STANDARD
BEGIN:DAYLIGHT
TZOFFSETFROM:-0500
TZOFFSETTO:-0400
TZNAME:EDT
DTSTART:20270314T070000
END:DAYLIGHT
BEGIN:STANDARD
TZOFFSETFROM:-0400
TZOFFSETTO:-0500
TZNAME:EST
DTSTART:20271107T060000
END:STANDARD
BEGIN:DAYLIGHT
TZOFFSETFROM:-0500
TZOFFSETTO:-0400
TZNAME:EDT
DTSTART:20280312T070000
END:DAYLIGHT
BEGIN:STANDARD
TZOFFSETFROM:-0400
TZOFFSETTO:-0500
TZNAME:EST
DTSTART:20281105T060000
END:STANDARD
BEGIN:DAYLIGHT
TZOFFSETFROM:-0500
TZOFFSETTO:-0400
TZNAME:EDT
DTSTART:20290311T070000
END:DAYLIGHT
BEGIN:STANDARD
TZOFFSETFROM:-0400
TZOFFSETTO:-0500
TZNAME:EST
DTSTART:20291104T060000
END:STANDARD
END:VTIMEZONE
BEGIN:VEVENT
DTSTART;TZID=America/Toronto:20271129T100000
DTEND;TZID=America/Toronto:20271129T110000
DTSTAMP:20260420T021042
CREATED:20260121T143113Z
LAST-MODIFIED:20260121T143701Z
UID:10006818-1827482400-1827486000@www.brockchc.ca
SUMMARY:Chair Yoga
DESCRIPTION:A supportive chair-based yoga class with a creative and open-minded approach.  Using the chair along with simple props\, participants will explore gentle movements\, breath\, and relaxation while staying curious and willing to try new variations.  Suitable for all bodies and abilities.  To register\, contact Jennifer Josephson at 705.432.3322 ext. 105 or jjosephson@brockchc.ca.
URL:https://www.brockchc.ca/calendar/chair-yoga/2027-11-29/
LOCATION:Brock CHC\, 39 Cameron Street West\, Cannington\, ON\, L0E 1E0\, Canada
ATTACH;FMTTYPE=image/jpeg:https://www.brockchc.ca/wp-content/uploads/2026/01/Chair-Yoga.jpg
END:VEVENT
BEGIN:VEVENT
DTSTART;TZID=America/Toronto:20271129T111500
DTEND;TZID=America/Toronto:20271129T121500
DTSTAMP:20260420T021042
CREATED:20260121T143554Z
LAST-MODIFIED:20260121T143845Z
UID:10012467-1827486900-1827490500@www.brockchc.ca
SUMMARY:Gentle Yin Yoga
DESCRIPTION:A calm and grounding Yin Yoga class appropriate for all levels.  Poses are practiced on a yoga mat and held for longer periods to encourage deep release and relaxation.  Props may be used to support comfort\, ease\, and individual needs through the practice.  To register\, contact Jennifer Josephson at 705.432.3322 ext. 105 or email jjosephson@brockchc.ca.
URL:https://www.brockchc.ca/calendar/gentle-yin-yoga/2027-11-29/
LOCATION:Brock CHC\, 39 Cameron Street West\, Cannington\, ON\, L0E 1E0\, Canada
ATTACH;FMTTYPE=image/jpeg:https://www.brockchc.ca/wp-content/uploads/2026/01/Yin-Yoga.jpg
END:VEVENT
BEGIN:VEVENT
DTSTART;TZID=America/Toronto:20271202T090000
DTEND;TZID=America/Toronto:20271202T120000
DTSTAMP:20260420T021042
CREATED:20251211T161002Z
LAST-MODIFIED:20251211T161002Z
UID:10012115-1827738000-1827748800@www.brockchc.ca
SUMMARY:The Social - Alzheimer Society of Durham Region
DESCRIPTION:This weekly social group for persons living with dementia offers stimulating activities with a focus on social engagement.  Activities are facilitated by experienced staff and co-designed with attendees to meet their interests and needs.  Thursdays from 9am – noon at Brock Community Health Centre.  $12 per day.  Please call the Alzheimer Society of Durham Region to register or for more information at 1-888.301-1106 or email information@alzheimerdurham.com.
URL:https://www.brockchc.ca/calendar/the-social-alzheimer-society-of-durham-region/2027-12-02/
LOCATION:Brock CHC\, 39 Cameron Street West\, Cannington\, ON\, L0E 1E0\, Canada
ORGANIZER;CN="Alzheimer Society of Durham Region":MAILTO:information@alzheimerdurham.com
END:VEVENT
BEGIN:VEVENT
DTSTART;TZID=America/Toronto:20271206T100000
DTEND;TZID=America/Toronto:20271206T110000
DTSTAMP:20260420T021042
CREATED:20260121T143113Z
LAST-MODIFIED:20260121T143701Z
UID:10006819-1828087200-1828090800@www.brockchc.ca
SUMMARY:Chair Yoga
DESCRIPTION:A supportive chair-based yoga class with a creative and open-minded approach.  Using the chair along with simple props\, participants will explore gentle movements\, breath\, and relaxation while staying curious and willing to try new variations.  Suitable for all bodies and abilities.  To register\, contact Jennifer Josephson at 705.432.3322 ext. 105 or jjosephson@brockchc.ca.
URL:https://www.brockchc.ca/calendar/chair-yoga/2027-12-06/
LOCATION:Brock CHC\, 39 Cameron Street West\, Cannington\, ON\, L0E 1E0\, Canada
ATTACH;FMTTYPE=image/jpeg:https://www.brockchc.ca/wp-content/uploads/2026/01/Chair-Yoga.jpg
END:VEVENT
BEGIN:VEVENT
DTSTART;TZID=America/Toronto:20271206T111500
DTEND;TZID=America/Toronto:20271206T121500
DTSTAMP:20260420T021042
CREATED:20260121T143554Z
LAST-MODIFIED:20260121T143845Z
UID:10012468-1828091700-1828095300@www.brockchc.ca
SUMMARY:Gentle Yin Yoga
DESCRIPTION:A calm and grounding Yin Yoga class appropriate for all levels.  Poses are practiced on a yoga mat and held for longer periods to encourage deep release and relaxation.  Props may be used to support comfort\, ease\, and individual needs through the practice.  To register\, contact Jennifer Josephson at 705.432.3322 ext. 105 or email jjosephson@brockchc.ca.
URL:https://www.brockchc.ca/calendar/gentle-yin-yoga/2027-12-06/
LOCATION:Brock CHC\, 39 Cameron Street West\, Cannington\, ON\, L0E 1E0\, Canada
ATTACH;FMTTYPE=image/jpeg:https://www.brockchc.ca/wp-content/uploads/2026/01/Yin-Yoga.jpg
END:VEVENT
BEGIN:VEVENT
DTSTART;TZID=America/Toronto:20271209T090000
DTEND;TZID=America/Toronto:20271209T120000
DTSTAMP:20260420T021042
CREATED:20251211T161002Z
LAST-MODIFIED:20251211T161002Z
UID:10012116-1828342800-1828353600@www.brockchc.ca
SUMMARY:The Social - Alzheimer Society of Durham Region
DESCRIPTION:This weekly social group for persons living with dementia offers stimulating activities with a focus on social engagement.  Activities are facilitated by experienced staff and co-designed with attendees to meet their interests and needs.  Thursdays from 9am – noon at Brock Community Health Centre.  $12 per day.  Please call the Alzheimer Society of Durham Region to register or for more information at 1-888.301-1106 or email information@alzheimerdurham.com.
URL:https://www.brockchc.ca/calendar/the-social-alzheimer-society-of-durham-region/2027-12-09/
LOCATION:Brock CHC\, 39 Cameron Street West\, Cannington\, ON\, L0E 1E0\, Canada
ORGANIZER;CN="Alzheimer Society of Durham Region":MAILTO:information@alzheimerdurham.com
END:VEVENT
BEGIN:VEVENT
DTSTART;TZID=America/Toronto:20271213T100000
DTEND;TZID=America/Toronto:20271213T110000
DTSTAMP:20260420T021042
CREATED:20260121T143113Z
LAST-MODIFIED:20260121T143701Z
UID:10006820-1828692000-1828695600@www.brockchc.ca
SUMMARY:Chair Yoga
DESCRIPTION:A supportive chair-based yoga class with a creative and open-minded approach.  Using the chair along with simple props\, participants will explore gentle movements\, breath\, and relaxation while staying curious and willing to try new variations.  Suitable for all bodies and abilities.  To register\, contact Jennifer Josephson at 705.432.3322 ext. 105 or jjosephson@brockchc.ca.
URL:https://www.brockchc.ca/calendar/chair-yoga/2027-12-13/
LOCATION:Brock CHC\, 39 Cameron Street West\, Cannington\, ON\, L0E 1E0\, Canada
ATTACH;FMTTYPE=image/jpeg:https://www.brockchc.ca/wp-content/uploads/2026/01/Chair-Yoga.jpg
END:VEVENT
BEGIN:VEVENT
DTSTART;TZID=America/Toronto:20271213T111500
DTEND;TZID=America/Toronto:20271213T121500
DTSTAMP:20260420T021042
CREATED:20260121T143554Z
LAST-MODIFIED:20260121T143845Z
UID:10012469-1828696500-1828700100@www.brockchc.ca
SUMMARY:Gentle Yin Yoga
DESCRIPTION:A calm and grounding Yin Yoga class appropriate for all levels.  Poses are practiced on a yoga mat and held for longer periods to encourage deep release and relaxation.  Props may be used to support comfort\, ease\, and individual needs through the practice.  To register\, contact Jennifer Josephson at 705.432.3322 ext. 105 or email jjosephson@brockchc.ca.
URL:https://www.brockchc.ca/calendar/gentle-yin-yoga/2027-12-13/
LOCATION:Brock CHC\, 39 Cameron Street West\, Cannington\, ON\, L0E 1E0\, Canada
ATTACH;FMTTYPE=image/jpeg:https://www.brockchc.ca/wp-content/uploads/2026/01/Yin-Yoga.jpg
END:VEVENT
BEGIN:VEVENT
DTSTART;TZID=America/Toronto:20271216T090000
DTEND;TZID=America/Toronto:20271216T120000
DTSTAMP:20260420T021042
CREATED:20251211T161002Z
LAST-MODIFIED:20251211T161002Z
UID:10012117-1828947600-1828958400@www.brockchc.ca
SUMMARY:The Social - Alzheimer Society of Durham Region
DESCRIPTION:This weekly social group for persons living with dementia offers stimulating activities with a focus on social engagement.  Activities are facilitated by experienced staff and co-designed with attendees to meet their interests and needs.  Thursdays from 9am – noon at Brock Community Health Centre.  $12 per day.  Please call the Alzheimer Society of Durham Region to register or for more information at 1-888.301-1106 or email information@alzheimerdurham.com.
URL:https://www.brockchc.ca/calendar/the-social-alzheimer-society-of-durham-region/2027-12-16/
LOCATION:Brock CHC\, 39 Cameron Street West\, Cannington\, ON\, L0E 1E0\, Canada
ORGANIZER;CN="Alzheimer Society of Durham Region":MAILTO:information@alzheimerdurham.com
END:VEVENT
BEGIN:VEVENT
DTSTART;TZID=America/Toronto:20271220T100000
DTEND;TZID=America/Toronto:20271220T110000
DTSTAMP:20260420T021042
CREATED:20260121T143113Z
LAST-MODIFIED:20260121T143701Z
UID:10006821-1829296800-1829300400@www.brockchc.ca
SUMMARY:Chair Yoga
DESCRIPTION:A supportive chair-based yoga class with a creative and open-minded approach.  Using the chair along with simple props\, participants will explore gentle movements\, breath\, and relaxation while staying curious and willing to try new variations.  Suitable for all bodies and abilities.  To register\, contact Jennifer Josephson at 705.432.3322 ext. 105 or jjosephson@brockchc.ca.
URL:https://www.brockchc.ca/calendar/chair-yoga/2027-12-20/
LOCATION:Brock CHC\, 39 Cameron Street West\, Cannington\, ON\, L0E 1E0\, Canada
ATTACH;FMTTYPE=image/jpeg:https://www.brockchc.ca/wp-content/uploads/2026/01/Chair-Yoga.jpg
END:VEVENT
BEGIN:VEVENT
DTSTART;TZID=America/Toronto:20271220T111500
DTEND;TZID=America/Toronto:20271220T121500
DTSTAMP:20260420T021042
CREATED:20260121T143554Z
LAST-MODIFIED:20260121T143845Z
UID:10012470-1829301300-1829304900@www.brockchc.ca
SUMMARY:Gentle Yin Yoga
DESCRIPTION:A calm and grounding Yin Yoga class appropriate for all levels.  Poses are practiced on a yoga mat and held for longer periods to encourage deep release and relaxation.  Props may be used to support comfort\, ease\, and individual needs through the practice.  To register\, contact Jennifer Josephson at 705.432.3322 ext. 105 or email jjosephson@brockchc.ca.
URL:https://www.brockchc.ca/calendar/gentle-yin-yoga/2027-12-20/
LOCATION:Brock CHC\, 39 Cameron Street West\, Cannington\, ON\, L0E 1E0\, Canada
ATTACH;FMTTYPE=image/jpeg:https://www.brockchc.ca/wp-content/uploads/2026/01/Yin-Yoga.jpg
END:VEVENT
BEGIN:VEVENT
DTSTART;TZID=America/Toronto:20271223T090000
DTEND;TZID=America/Toronto:20271223T120000
DTSTAMP:20260420T021042
CREATED:20251211T161002Z
LAST-MODIFIED:20251211T161002Z
UID:10012118-1829552400-1829563200@www.brockchc.ca
SUMMARY:The Social - Alzheimer Society of Durham Region
DESCRIPTION:This weekly social group for persons living with dementia offers stimulating activities with a focus on social engagement.  Activities are facilitated by experienced staff and co-designed with attendees to meet their interests and needs.  Thursdays from 9am – noon at Brock Community Health Centre.  $12 per day.  Please call the Alzheimer Society of Durham Region to register or for more information at 1-888.301-1106 or email information@alzheimerdurham.com.
URL:https://www.brockchc.ca/calendar/the-social-alzheimer-society-of-durham-region/2027-12-23/
LOCATION:Brock CHC\, 39 Cameron Street West\, Cannington\, ON\, L0E 1E0\, Canada
ORGANIZER;CN="Alzheimer Society of Durham Region":MAILTO:information@alzheimerdurham.com
END:VEVENT
BEGIN:VEVENT
DTSTART;TZID=America/Toronto:20271227T100000
DTEND;TZID=America/Toronto:20271227T110000
DTSTAMP:20260420T021042
CREATED:20260121T143113Z
LAST-MODIFIED:20260121T143701Z
UID:10006822-1829901600-1829905200@www.brockchc.ca
SUMMARY:Chair Yoga
DESCRIPTION:A supportive chair-based yoga class with a creative and open-minded approach.  Using the chair along with simple props\, participants will explore gentle movements\, breath\, and relaxation while staying curious and willing to try new variations.  Suitable for all bodies and abilities.  To register\, contact Jennifer Josephson at 705.432.3322 ext. 105 or jjosephson@brockchc.ca.
URL:https://www.brockchc.ca/calendar/chair-yoga/2027-12-27/
LOCATION:Brock CHC\, 39 Cameron Street West\, Cannington\, ON\, L0E 1E0\, Canada
ATTACH;FMTTYPE=image/jpeg:https://www.brockchc.ca/wp-content/uploads/2026/01/Chair-Yoga.jpg
END:VEVENT
BEGIN:VEVENT
DTSTART;TZID=America/Toronto:20271227T111500
DTEND;TZID=America/Toronto:20271227T121500
DTSTAMP:20260420T021042
CREATED:20260121T143554Z
LAST-MODIFIED:20260121T143845Z
UID:10012471-1829906100-1829909700@www.brockchc.ca
SUMMARY:Gentle Yin Yoga
DESCRIPTION:A calm and grounding Yin Yoga class appropriate for all levels.  Poses are practiced on a yoga mat and held for longer periods to encourage deep release and relaxation.  Props may be used to support comfort\, ease\, and individual needs through the practice.  To register\, contact Jennifer Josephson at 705.432.3322 ext. 105 or email jjosephson@brockchc.ca.
URL:https://www.brockchc.ca/calendar/gentle-yin-yoga/2027-12-27/
LOCATION:Brock CHC\, 39 Cameron Street West\, Cannington\, ON\, L0E 1E0\, Canada
ATTACH;FMTTYPE=image/jpeg:https://www.brockchc.ca/wp-content/uploads/2026/01/Yin-Yoga.jpg
END:VEVENT
BEGIN:VEVENT
DTSTART;TZID=America/Toronto:20271230T090000
DTEND;TZID=America/Toronto:20271230T120000
DTSTAMP:20260420T021042
CREATED:20251211T161002Z
LAST-MODIFIED:20251211T161002Z
UID:10012119-1830157200-1830168000@www.brockchc.ca
SUMMARY:The Social - Alzheimer Society of Durham Region
DESCRIPTION:This weekly social group for persons living with dementia offers stimulating activities with a focus on social engagement.  Activities are facilitated by experienced staff and co-designed with attendees to meet their interests and needs.  Thursdays from 9am – noon at Brock Community Health Centre.  $12 per day.  Please call the Alzheimer Society of Durham Region to register or for more information at 1-888.301-1106 or email information@alzheimerdurham.com.
URL:https://www.brockchc.ca/calendar/the-social-alzheimer-society-of-durham-region/2027-12-30/
LOCATION:Brock CHC\, 39 Cameron Street West\, Cannington\, ON\, L0E 1E0\, Canada
ORGANIZER;CN="Alzheimer Society of Durham Region":MAILTO:information@alzheimerdurham.com
END:VEVENT
BEGIN:VEVENT
DTSTART;TZID=America/Toronto:20280103T100000
DTEND;TZID=America/Toronto:20280103T110000
DTSTAMP:20260420T021042
CREATED:20260121T143113Z
LAST-MODIFIED:20260121T143701Z
UID:10006823-1830506400-1830510000@www.brockchc.ca
SUMMARY:Chair Yoga
DESCRIPTION:A supportive chair-based yoga class with a creative and open-minded approach.  Using the chair along with simple props\, participants will explore gentle movements\, breath\, and relaxation while staying curious and willing to try new variations.  Suitable for all bodies and abilities.  To register\, contact Jennifer Josephson at 705.432.3322 ext. 105 or jjosephson@brockchc.ca.
URL:https://www.brockchc.ca/calendar/chair-yoga/2028-01-03/
LOCATION:Brock CHC\, 39 Cameron Street West\, Cannington\, ON\, L0E 1E0\, Canada
ATTACH;FMTTYPE=image/jpeg:https://www.brockchc.ca/wp-content/uploads/2026/01/Chair-Yoga.jpg
END:VEVENT
BEGIN:VEVENT
DTSTART;TZID=America/Toronto:20280103T111500
DTEND;TZID=America/Toronto:20280103T121500
DTSTAMP:20260420T021042
CREATED:20260121T143554Z
LAST-MODIFIED:20260121T143845Z
UID:10012472-1830510900-1830514500@www.brockchc.ca
SUMMARY:Gentle Yin Yoga
DESCRIPTION:A calm and grounding Yin Yoga class appropriate for all levels.  Poses are practiced on a yoga mat and held for longer periods to encourage deep release and relaxation.  Props may be used to support comfort\, ease\, and individual needs through the practice.  To register\, contact Jennifer Josephson at 705.432.3322 ext. 105 or email jjosephson@brockchc.ca.
URL:https://www.brockchc.ca/calendar/gentle-yin-yoga/2028-01-03/
LOCATION:Brock CHC\, 39 Cameron Street West\, Cannington\, ON\, L0E 1E0\, Canada
ATTACH;FMTTYPE=image/jpeg:https://www.brockchc.ca/wp-content/uploads/2026/01/Yin-Yoga.jpg
END:VEVENT
BEGIN:VEVENT
DTSTART;TZID=America/Toronto:20280106T090000
DTEND;TZID=America/Toronto:20280106T120000
DTSTAMP:20260420T021042
CREATED:20251211T161002Z
LAST-MODIFIED:20251211T161002Z
UID:10012120-1830762000-1830772800@www.brockchc.ca
SUMMARY:The Social - Alzheimer Society of Durham Region
DESCRIPTION:This weekly social group for persons living with dementia offers stimulating activities with a focus on social engagement.  Activities are facilitated by experienced staff and co-designed with attendees to meet their interests and needs.  Thursdays from 9am – noon at Brock Community Health Centre.  $12 per day.  Please call the Alzheimer Society of Durham Region to register or for more information at 1-888.301-1106 or email information@alzheimerdurham.com.
URL:https://www.brockchc.ca/calendar/the-social-alzheimer-society-of-durham-region/2028-01-06/
LOCATION:Brock CHC\, 39 Cameron Street West\, Cannington\, ON\, L0E 1E0\, Canada
ORGANIZER;CN="Alzheimer Society of Durham Region":MAILTO:information@alzheimerdurham.com
END:VEVENT
BEGIN:VEVENT
DTSTART;TZID=America/Toronto:20280110T100000
DTEND;TZID=America/Toronto:20280110T110000
DTSTAMP:20260420T021042
CREATED:20260121T143113Z
LAST-MODIFIED:20260121T143701Z
UID:10006824-1831111200-1831114800@www.brockchc.ca
SUMMARY:Chair Yoga
DESCRIPTION:A supportive chair-based yoga class with a creative and open-minded approach.  Using the chair along with simple props\, participants will explore gentle movements\, breath\, and relaxation while staying curious and willing to try new variations.  Suitable for all bodies and abilities.  To register\, contact Jennifer Josephson at 705.432.3322 ext. 105 or jjosephson@brockchc.ca.
URL:https://www.brockchc.ca/calendar/chair-yoga/2028-01-10/
LOCATION:Brock CHC\, 39 Cameron Street West\, Cannington\, ON\, L0E 1E0\, Canada
ATTACH;FMTTYPE=image/jpeg:https://www.brockchc.ca/wp-content/uploads/2026/01/Chair-Yoga.jpg
END:VEVENT
BEGIN:VEVENT
DTSTART;TZID=America/Toronto:20280110T111500
DTEND;TZID=America/Toronto:20280110T121500
DTSTAMP:20260420T021042
CREATED:20260121T143554Z
LAST-MODIFIED:20260121T143845Z
UID:10012473-1831115700-1831119300@www.brockchc.ca
SUMMARY:Gentle Yin Yoga
DESCRIPTION:A calm and grounding Yin Yoga class appropriate for all levels.  Poses are practiced on a yoga mat and held for longer periods to encourage deep release and relaxation.  Props may be used to support comfort\, ease\, and individual needs through the practice.  To register\, contact Jennifer Josephson at 705.432.3322 ext. 105 or email jjosephson@brockchc.ca.
URL:https://www.brockchc.ca/calendar/gentle-yin-yoga/2028-01-10/
LOCATION:Brock CHC\, 39 Cameron Street West\, Cannington\, ON\, L0E 1E0\, Canada
ATTACH;FMTTYPE=image/jpeg:https://www.brockchc.ca/wp-content/uploads/2026/01/Yin-Yoga.jpg
END:VEVENT
BEGIN:VEVENT
DTSTART;TZID=America/Toronto:20280113T090000
DTEND;TZID=America/Toronto:20280113T120000
DTSTAMP:20260420T021042
CREATED:20251211T161002Z
LAST-MODIFIED:20251211T161002Z
UID:10012121-1831366800-1831377600@www.brockchc.ca
SUMMARY:The Social - Alzheimer Society of Durham Region
DESCRIPTION:This weekly social group for persons living with dementia offers stimulating activities with a focus on social engagement.  Activities are facilitated by experienced staff and co-designed with attendees to meet their interests and needs.  Thursdays from 9am – noon at Brock Community Health Centre.  $12 per day.  Please call the Alzheimer Society of Durham Region to register or for more information at 1-888.301-1106 or email information@alzheimerdurham.com.
URL:https://www.brockchc.ca/calendar/the-social-alzheimer-society-of-durham-region/2028-01-13/
LOCATION:Brock CHC\, 39 Cameron Street West\, Cannington\, ON\, L0E 1E0\, Canada
ORGANIZER;CN="Alzheimer Society of Durham Region":MAILTO:information@alzheimerdurham.com
END:VEVENT
BEGIN:VEVENT
DTSTART;TZID=America/Toronto:20280117T100000
DTEND;TZID=America/Toronto:20280117T110000
DTSTAMP:20260420T021042
CREATED:20260121T143113Z
LAST-MODIFIED:20260121T143701Z
UID:10006825-1831716000-1831719600@www.brockchc.ca
SUMMARY:Chair Yoga
DESCRIPTION:A supportive chair-based yoga class with a creative and open-minded approach.  Using the chair along with simple props\, participants will explore gentle movements\, breath\, and relaxation while staying curious and willing to try new variations.  Suitable for all bodies and abilities.  To register\, contact Jennifer Josephson at 705.432.3322 ext. 105 or jjosephson@brockchc.ca.
URL:https://www.brockchc.ca/calendar/chair-yoga/2028-01-17/
LOCATION:Brock CHC\, 39 Cameron Street West\, Cannington\, ON\, L0E 1E0\, Canada
ATTACH;FMTTYPE=image/jpeg:https://www.brockchc.ca/wp-content/uploads/2026/01/Chair-Yoga.jpg
END:VEVENT
BEGIN:VEVENT
DTSTART;TZID=America/Toronto:20280117T111500
DTEND;TZID=America/Toronto:20280117T121500
DTSTAMP:20260420T021042
CREATED:20260121T143554Z
LAST-MODIFIED:20260121T143845Z
UID:10012474-1831720500-1831724100@www.brockchc.ca
SUMMARY:Gentle Yin Yoga
DESCRIPTION:A calm and grounding Yin Yoga class appropriate for all levels.  Poses are practiced on a yoga mat and held for longer periods to encourage deep release and relaxation.  Props may be used to support comfort\, ease\, and individual needs through the practice.  To register\, contact Jennifer Josephson at 705.432.3322 ext. 105 or email jjosephson@brockchc.ca.
URL:https://www.brockchc.ca/calendar/gentle-yin-yoga/2028-01-17/
LOCATION:Brock CHC\, 39 Cameron Street West\, Cannington\, ON\, L0E 1E0\, Canada
ATTACH;FMTTYPE=image/jpeg:https://www.brockchc.ca/wp-content/uploads/2026/01/Yin-Yoga.jpg
END:VEVENT
BEGIN:VEVENT
DTSTART;TZID=America/Toronto:20280120T090000
DTEND;TZID=America/Toronto:20280120T120000
DTSTAMP:20260420T021042
CREATED:20251211T161002Z
LAST-MODIFIED:20251211T161002Z
UID:10012122-1831971600-1831982400@www.brockchc.ca
SUMMARY:The Social - Alzheimer Society of Durham Region
DESCRIPTION:This weekly social group for persons living with dementia offers stimulating activities with a focus on social engagement.  Activities are facilitated by experienced staff and co-designed with attendees to meet their interests and needs.  Thursdays from 9am – noon at Brock Community Health Centre.  $12 per day.  Please call the Alzheimer Society of Durham Region to register or for more information at 1-888.301-1106 or email information@alzheimerdurham.com.
URL:https://www.brockchc.ca/calendar/the-social-alzheimer-society-of-durham-region/2028-01-20/
LOCATION:Brock CHC\, 39 Cameron Street West\, Cannington\, ON\, L0E 1E0\, Canada
ORGANIZER;CN="Alzheimer Society of Durham Region":MAILTO:information@alzheimerdurham.com
END:VEVENT
BEGIN:VEVENT
DTSTART;TZID=America/Toronto:20280124T100000
DTEND;TZID=America/Toronto:20280124T110000
DTSTAMP:20260420T021042
CREATED:20260121T143113Z
LAST-MODIFIED:20260121T143701Z
UID:10006826-1832320800-1832324400@www.brockchc.ca
SUMMARY:Chair Yoga
DESCRIPTION:A supportive chair-based yoga class with a creative and open-minded approach.  Using the chair along with simple props\, participants will explore gentle movements\, breath\, and relaxation while staying curious and willing to try new variations.  Suitable for all bodies and abilities.  To register\, contact Jennifer Josephson at 705.432.3322 ext. 105 or jjosephson@brockchc.ca.
URL:https://www.brockchc.ca/calendar/chair-yoga/2028-01-24/
LOCATION:Brock CHC\, 39 Cameron Street West\, Cannington\, ON\, L0E 1E0\, Canada
ATTACH;FMTTYPE=image/jpeg:https://www.brockchc.ca/wp-content/uploads/2026/01/Chair-Yoga.jpg
END:VEVENT
BEGIN:VEVENT
DTSTART;TZID=America/Toronto:20280124T111500
DTEND;TZID=America/Toronto:20280124T121500
DTSTAMP:20260420T021042
CREATED:20260121T143554Z
LAST-MODIFIED:20260121T143845Z
UID:10012475-1832325300-1832328900@www.brockchc.ca
SUMMARY:Gentle Yin Yoga
DESCRIPTION:A calm and grounding Yin Yoga class appropriate for all levels.  Poses are practiced on a yoga mat and held for longer periods to encourage deep release and relaxation.  Props may be used to support comfort\, ease\, and individual needs through the practice.  To register\, contact Jennifer Josephson at 705.432.3322 ext. 105 or email jjosephson@brockchc.ca.
URL:https://www.brockchc.ca/calendar/gentle-yin-yoga/2028-01-24/
LOCATION:Brock CHC\, 39 Cameron Street West\, Cannington\, ON\, L0E 1E0\, Canada
ATTACH;FMTTYPE=image/jpeg:https://www.brockchc.ca/wp-content/uploads/2026/01/Yin-Yoga.jpg
END:VEVENT
BEGIN:VEVENT
DTSTART;TZID=America/Toronto:20280127T090000
DTEND;TZID=America/Toronto:20280127T120000
DTSTAMP:20260420T021042
CREATED:20251211T161002Z
LAST-MODIFIED:20251211T161002Z
UID:10012123-1832576400-1832587200@www.brockchc.ca
SUMMARY:The Social - Alzheimer Society of Durham Region
DESCRIPTION:This weekly social group for persons living with dementia offers stimulating activities with a focus on social engagement.  Activities are facilitated by experienced staff and co-designed with attendees to meet their interests and needs.  Thursdays from 9am – noon at Brock Community Health Centre.  $12 per day.  Please call the Alzheimer Society of Durham Region to register or for more information at 1-888.301-1106 or email information@alzheimerdurham.com.
URL:https://www.brockchc.ca/calendar/the-social-alzheimer-society-of-durham-region/2028-01-27/
LOCATION:Brock CHC\, 39 Cameron Street West\, Cannington\, ON\, L0E 1E0\, Canada
ORGANIZER;CN="Alzheimer Society of Durham Region":MAILTO:information@alzheimerdurham.com
END:VEVENT
BEGIN:VEVENT
DTSTART;TZID=America/Toronto:20280131T100000
DTEND;TZID=America/Toronto:20280131T110000
DTSTAMP:20260420T021042
CREATED:20260121T143113Z
LAST-MODIFIED:20260121T143701Z
UID:10006827-1832925600-1832929200@www.brockchc.ca
SUMMARY:Chair Yoga
DESCRIPTION:A supportive chair-based yoga class with a creative and open-minded approach.  Using the chair along with simple props\, participants will explore gentle movements\, breath\, and relaxation while staying curious and willing to try new variations.  Suitable for all bodies and abilities.  To register\, contact Jennifer Josephson at 705.432.3322 ext. 105 or jjosephson@brockchc.ca.
URL:https://www.brockchc.ca/calendar/chair-yoga/2028-01-31/
LOCATION:Brock CHC\, 39 Cameron Street West\, Cannington\, ON\, L0E 1E0\, Canada
ATTACH;FMTTYPE=image/jpeg:https://www.brockchc.ca/wp-content/uploads/2026/01/Chair-Yoga.jpg
END:VEVENT
BEGIN:VEVENT
DTSTART;TZID=America/Toronto:20280131T111500
DTEND;TZID=America/Toronto:20280131T121500
DTSTAMP:20260420T021042
CREATED:20260121T143554Z
LAST-MODIFIED:20260121T143845Z
UID:10012476-1832930100-1832933700@www.brockchc.ca
SUMMARY:Gentle Yin Yoga
DESCRIPTION:A calm and grounding Yin Yoga class appropriate for all levels.  Poses are practiced on a yoga mat and held for longer periods to encourage deep release and relaxation.  Props may be used to support comfort\, ease\, and individual needs through the practice.  To register\, contact Jennifer Josephson at 705.432.3322 ext. 105 or email jjosephson@brockchc.ca.
URL:https://www.brockchc.ca/calendar/gentle-yin-yoga/2028-01-31/
LOCATION:Brock CHC\, 39 Cameron Street West\, Cannington\, ON\, L0E 1E0\, Canada
ATTACH;FMTTYPE=image/jpeg:https://www.brockchc.ca/wp-content/uploads/2026/01/Yin-Yoga.jpg
END:VEVENT
BEGIN:VEVENT
DTSTART;TZID=America/Toronto:20280203T090000
DTEND;TZID=America/Toronto:20280203T120000
DTSTAMP:20260420T021042
CREATED:20251211T161002Z
LAST-MODIFIED:20251211T161002Z
UID:10012124-1833181200-1833192000@www.brockchc.ca
SUMMARY:The Social - Alzheimer Society of Durham Region
DESCRIPTION:This weekly social group for persons living with dementia offers stimulating activities with a focus on social engagement.  Activities are facilitated by experienced staff and co-designed with attendees to meet their interests and needs.  Thursdays from 9am – noon at Brock Community Health Centre.  $12 per day.  Please call the Alzheimer Society of Durham Region to register or for more information at 1-888.301-1106 or email information@alzheimerdurham.com.
URL:https://www.brockchc.ca/calendar/the-social-alzheimer-society-of-durham-region/2028-02-03/
LOCATION:Brock CHC\, 39 Cameron Street West\, Cannington\, ON\, L0E 1E0\, Canada
ORGANIZER;CN="Alzheimer Society of Durham Region":MAILTO:information@alzheimerdurham.com
END:VEVENT
END:VCALENDAR