BEGIN:VCALENDAR
VERSION:2.0
PRODID:-//Brock Community Health Centre - ECPv6.15.20//NONSGML v1.0//EN
CALSCALE:GREGORIAN
METHOD:PUBLISH
X-ORIGINAL-URL:https://www.brockchc.ca
X-WR-CALDESC:Events for Brock Community Health Centre
REFRESH-INTERVAL;VALUE=DURATION:PT1H
X-Robots-Tag:noindex
X-PUBLISHED-TTL:PT1H
BEGIN:VTIMEZONE
TZID:America/Toronto
BEGIN:DAYLIGHT
TZOFFSETFROM:-0500
TZOFFSETTO:-0400
TZNAME:EDT
DTSTART:20260308T070000
END:DAYLIGHT
BEGIN:STANDARD
TZOFFSETFROM:-0400
TZOFFSETTO:-0500
TZNAME:EST
DTSTART:20261101T060000
END:STANDARD
BEGIN:DAYLIGHT
TZOFFSETFROM:-0500
TZOFFSETTO:-0400
TZNAME:EDT
DTSTART:20270314T070000
END:DAYLIGHT
BEGIN:STANDARD
TZOFFSETFROM:-0400
TZOFFSETTO:-0500
TZNAME:EST
DTSTART:20271107T060000
END:STANDARD
BEGIN:DAYLIGHT
TZOFFSETFROM:-0500
TZOFFSETTO:-0400
TZNAME:EDT
DTSTART:20280312T070000
END:DAYLIGHT
BEGIN:STANDARD
TZOFFSETFROM:-0400
TZOFFSETTO:-0500
TZNAME:EST
DTSTART:20281105T060000
END:STANDARD
END:VTIMEZONE
BEGIN:VEVENT
DTSTART;TZID=America/Toronto:20270712T100000
DTEND;TZID=America/Toronto:20270712T110000
DTSTAMP:20260419T182220
CREATED:20260121T143113Z
LAST-MODIFIED:20260121T143701Z
UID:10006798-1815386400-1815390000@www.brockchc.ca
SUMMARY:Chair Yoga
DESCRIPTION:A supportive chair-based yoga class with a creative and open-minded approach.  Using the chair along with simple props\, participants will explore gentle movements\, breath\, and relaxation while staying curious and willing to try new variations.  Suitable for all bodies and abilities.  To register\, contact Jennifer Josephson at 705.432.3322 ext. 105 or jjosephson@brockchc.ca.
URL:https://www.brockchc.ca/calendar/chair-yoga/2027-07-12/
LOCATION:Brock CHC\, 39 Cameron Street West\, Cannington\, ON\, L0E 1E0\, Canada
ATTACH;FMTTYPE=image/jpeg:https://www.brockchc.ca/wp-content/uploads/2026/01/Chair-Yoga.jpg
END:VEVENT
BEGIN:VEVENT
DTSTART;TZID=America/Toronto:20270712T111500
DTEND;TZID=America/Toronto:20270712T121500
DTSTAMP:20260419T182220
CREATED:20260121T143554Z
LAST-MODIFIED:20260121T143845Z
UID:10012447-1815390900-1815394500@www.brockchc.ca
SUMMARY:Gentle Yin Yoga
DESCRIPTION:A calm and grounding Yin Yoga class appropriate for all levels.  Poses are practiced on a yoga mat and held for longer periods to encourage deep release and relaxation.  Props may be used to support comfort\, ease\, and individual needs through the practice.  To register\, contact Jennifer Josephson at 705.432.3322 ext. 105 or email jjosephson@brockchc.ca.
URL:https://www.brockchc.ca/calendar/gentle-yin-yoga/2027-07-12/
LOCATION:Brock CHC\, 39 Cameron Street West\, Cannington\, ON\, L0E 1E0\, Canada
ATTACH;FMTTYPE=image/jpeg:https://www.brockchc.ca/wp-content/uploads/2026/01/Yin-Yoga.jpg
END:VEVENT
BEGIN:VEVENT
DTSTART;TZID=America/Toronto:20270715T090000
DTEND;TZID=America/Toronto:20270715T120000
DTSTAMP:20260419T182220
CREATED:20251211T161002Z
LAST-MODIFIED:20251211T161002Z
UID:10012095-1815642000-1815652800@www.brockchc.ca
SUMMARY:The Social - Alzheimer Society of Durham Region
DESCRIPTION:This weekly social group for persons living with dementia offers stimulating activities with a focus on social engagement.  Activities are facilitated by experienced staff and co-designed with attendees to meet their interests and needs.  Thursdays from 9am – noon at Brock Community Health Centre.  $12 per day.  Please call the Alzheimer Society of Durham Region to register or for more information at 1-888.301-1106 or email information@alzheimerdurham.com.
URL:https://www.brockchc.ca/calendar/the-social-alzheimer-society-of-durham-region/2027-07-15/
LOCATION:Brock CHC\, 39 Cameron Street West\, Cannington\, ON\, L0E 1E0\, Canada
ORGANIZER;CN="Alzheimer Society of Durham Region":MAILTO:information@alzheimerdurham.com
END:VEVENT
BEGIN:VEVENT
DTSTART;TZID=America/Toronto:20270719T100000
DTEND;TZID=America/Toronto:20270719T110000
DTSTAMP:20260419T182220
CREATED:20260121T143113Z
LAST-MODIFIED:20260121T143701Z
UID:10006799-1815991200-1815994800@www.brockchc.ca
SUMMARY:Chair Yoga
DESCRIPTION:A supportive chair-based yoga class with a creative and open-minded approach.  Using the chair along with simple props\, participants will explore gentle movements\, breath\, and relaxation while staying curious and willing to try new variations.  Suitable for all bodies and abilities.  To register\, contact Jennifer Josephson at 705.432.3322 ext. 105 or jjosephson@brockchc.ca.
URL:https://www.brockchc.ca/calendar/chair-yoga/2027-07-19/
LOCATION:Brock CHC\, 39 Cameron Street West\, Cannington\, ON\, L0E 1E0\, Canada
ATTACH;FMTTYPE=image/jpeg:https://www.brockchc.ca/wp-content/uploads/2026/01/Chair-Yoga.jpg
END:VEVENT
BEGIN:VEVENT
DTSTART;TZID=America/Toronto:20270719T111500
DTEND;TZID=America/Toronto:20270719T121500
DTSTAMP:20260419T182220
CREATED:20260121T143554Z
LAST-MODIFIED:20260121T143845Z
UID:10012448-1815995700-1815999300@www.brockchc.ca
SUMMARY:Gentle Yin Yoga
DESCRIPTION:A calm and grounding Yin Yoga class appropriate for all levels.  Poses are practiced on a yoga mat and held for longer periods to encourage deep release and relaxation.  Props may be used to support comfort\, ease\, and individual needs through the practice.  To register\, contact Jennifer Josephson at 705.432.3322 ext. 105 or email jjosephson@brockchc.ca.
URL:https://www.brockchc.ca/calendar/gentle-yin-yoga/2027-07-19/
LOCATION:Brock CHC\, 39 Cameron Street West\, Cannington\, ON\, L0E 1E0\, Canada
ATTACH;FMTTYPE=image/jpeg:https://www.brockchc.ca/wp-content/uploads/2026/01/Yin-Yoga.jpg
END:VEVENT
BEGIN:VEVENT
DTSTART;TZID=America/Toronto:20270722T090000
DTEND;TZID=America/Toronto:20270722T120000
DTSTAMP:20260419T182220
CREATED:20251211T161002Z
LAST-MODIFIED:20251211T161002Z
UID:10012096-1816246800-1816257600@www.brockchc.ca
SUMMARY:The Social - Alzheimer Society of Durham Region
DESCRIPTION:This weekly social group for persons living with dementia offers stimulating activities with a focus on social engagement.  Activities are facilitated by experienced staff and co-designed with attendees to meet their interests and needs.  Thursdays from 9am – noon at Brock Community Health Centre.  $12 per day.  Please call the Alzheimer Society of Durham Region to register or for more information at 1-888.301-1106 or email information@alzheimerdurham.com.
URL:https://www.brockchc.ca/calendar/the-social-alzheimer-society-of-durham-region/2027-07-22/
LOCATION:Brock CHC\, 39 Cameron Street West\, Cannington\, ON\, L0E 1E0\, Canada
ORGANIZER;CN="Alzheimer Society of Durham Region":MAILTO:information@alzheimerdurham.com
END:VEVENT
BEGIN:VEVENT
DTSTART;TZID=America/Toronto:20270726T100000
DTEND;TZID=America/Toronto:20270726T110000
DTSTAMP:20260419T182220
CREATED:20260121T143113Z
LAST-MODIFIED:20260121T143701Z
UID:10006800-1816596000-1816599600@www.brockchc.ca
SUMMARY:Chair Yoga
DESCRIPTION:A supportive chair-based yoga class with a creative and open-minded approach.  Using the chair along with simple props\, participants will explore gentle movements\, breath\, and relaxation while staying curious and willing to try new variations.  Suitable for all bodies and abilities.  To register\, contact Jennifer Josephson at 705.432.3322 ext. 105 or jjosephson@brockchc.ca.
URL:https://www.brockchc.ca/calendar/chair-yoga/2027-07-26/
LOCATION:Brock CHC\, 39 Cameron Street West\, Cannington\, ON\, L0E 1E0\, Canada
ATTACH;FMTTYPE=image/jpeg:https://www.brockchc.ca/wp-content/uploads/2026/01/Chair-Yoga.jpg
END:VEVENT
BEGIN:VEVENT
DTSTART;TZID=America/Toronto:20270726T111500
DTEND;TZID=America/Toronto:20270726T121500
DTSTAMP:20260419T182220
CREATED:20260121T143554Z
LAST-MODIFIED:20260121T143845Z
UID:10012449-1816600500-1816604100@www.brockchc.ca
SUMMARY:Gentle Yin Yoga
DESCRIPTION:A calm and grounding Yin Yoga class appropriate for all levels.  Poses are practiced on a yoga mat and held for longer periods to encourage deep release and relaxation.  Props may be used to support comfort\, ease\, and individual needs through the practice.  To register\, contact Jennifer Josephson at 705.432.3322 ext. 105 or email jjosephson@brockchc.ca.
URL:https://www.brockchc.ca/calendar/gentle-yin-yoga/2027-07-26/
LOCATION:Brock CHC\, 39 Cameron Street West\, Cannington\, ON\, L0E 1E0\, Canada
ATTACH;FMTTYPE=image/jpeg:https://www.brockchc.ca/wp-content/uploads/2026/01/Yin-Yoga.jpg
END:VEVENT
BEGIN:VEVENT
DTSTART;TZID=America/Toronto:20270729T090000
DTEND;TZID=America/Toronto:20270729T120000
DTSTAMP:20260419T182220
CREATED:20251211T161002Z
LAST-MODIFIED:20251211T161002Z
UID:10012097-1816851600-1816862400@www.brockchc.ca
SUMMARY:The Social - Alzheimer Society of Durham Region
DESCRIPTION:This weekly social group for persons living with dementia offers stimulating activities with a focus on social engagement.  Activities are facilitated by experienced staff and co-designed with attendees to meet their interests and needs.  Thursdays from 9am – noon at Brock Community Health Centre.  $12 per day.  Please call the Alzheimer Society of Durham Region to register or for more information at 1-888.301-1106 or email information@alzheimerdurham.com.
URL:https://www.brockchc.ca/calendar/the-social-alzheimer-society-of-durham-region/2027-07-29/
LOCATION:Brock CHC\, 39 Cameron Street West\, Cannington\, ON\, L0E 1E0\, Canada
ORGANIZER;CN="Alzheimer Society of Durham Region":MAILTO:information@alzheimerdurham.com
END:VEVENT
BEGIN:VEVENT
DTSTART;TZID=America/Toronto:20270802T100000
DTEND;TZID=America/Toronto:20270802T110000
DTSTAMP:20260419T182220
CREATED:20260121T143113Z
LAST-MODIFIED:20260121T143701Z
UID:10006801-1817200800-1817204400@www.brockchc.ca
SUMMARY:Chair Yoga
DESCRIPTION:A supportive chair-based yoga class with a creative and open-minded approach.  Using the chair along with simple props\, participants will explore gentle movements\, breath\, and relaxation while staying curious and willing to try new variations.  Suitable for all bodies and abilities.  To register\, contact Jennifer Josephson at 705.432.3322 ext. 105 or jjosephson@brockchc.ca.
URL:https://www.brockchc.ca/calendar/chair-yoga/2027-08-02/
LOCATION:Brock CHC\, 39 Cameron Street West\, Cannington\, ON\, L0E 1E0\, Canada
ATTACH;FMTTYPE=image/jpeg:https://www.brockchc.ca/wp-content/uploads/2026/01/Chair-Yoga.jpg
END:VEVENT
BEGIN:VEVENT
DTSTART;TZID=America/Toronto:20270802T111500
DTEND;TZID=America/Toronto:20270802T121500
DTSTAMP:20260419T182220
CREATED:20260121T143554Z
LAST-MODIFIED:20260121T143845Z
UID:10012450-1817205300-1817208900@www.brockchc.ca
SUMMARY:Gentle Yin Yoga
DESCRIPTION:A calm and grounding Yin Yoga class appropriate for all levels.  Poses are practiced on a yoga mat and held for longer periods to encourage deep release and relaxation.  Props may be used to support comfort\, ease\, and individual needs through the practice.  To register\, contact Jennifer Josephson at 705.432.3322 ext. 105 or email jjosephson@brockchc.ca.
URL:https://www.brockchc.ca/calendar/gentle-yin-yoga/2027-08-02/
LOCATION:Brock CHC\, 39 Cameron Street West\, Cannington\, ON\, L0E 1E0\, Canada
ATTACH;FMTTYPE=image/jpeg:https://www.brockchc.ca/wp-content/uploads/2026/01/Yin-Yoga.jpg
END:VEVENT
BEGIN:VEVENT
DTSTART;TZID=America/Toronto:20270805T090000
DTEND;TZID=America/Toronto:20270805T120000
DTSTAMP:20260419T182220
CREATED:20251211T161002Z
LAST-MODIFIED:20251211T161002Z
UID:10012098-1817456400-1817467200@www.brockchc.ca
SUMMARY:The Social - Alzheimer Society of Durham Region
DESCRIPTION:This weekly social group for persons living with dementia offers stimulating activities with a focus on social engagement.  Activities are facilitated by experienced staff and co-designed with attendees to meet their interests and needs.  Thursdays from 9am – noon at Brock Community Health Centre.  $12 per day.  Please call the Alzheimer Society of Durham Region to register or for more information at 1-888.301-1106 or email information@alzheimerdurham.com.
URL:https://www.brockchc.ca/calendar/the-social-alzheimer-society-of-durham-region/2027-08-05/
LOCATION:Brock CHC\, 39 Cameron Street West\, Cannington\, ON\, L0E 1E0\, Canada
ORGANIZER;CN="Alzheimer Society of Durham Region":MAILTO:information@alzheimerdurham.com
END:VEVENT
BEGIN:VEVENT
DTSTART;TZID=America/Toronto:20270809T100000
DTEND;TZID=America/Toronto:20270809T110000
DTSTAMP:20260419T182220
CREATED:20260121T143113Z
LAST-MODIFIED:20260121T143701Z
UID:10006802-1817805600-1817809200@www.brockchc.ca
SUMMARY:Chair Yoga
DESCRIPTION:A supportive chair-based yoga class with a creative and open-minded approach.  Using the chair along with simple props\, participants will explore gentle movements\, breath\, and relaxation while staying curious and willing to try new variations.  Suitable for all bodies and abilities.  To register\, contact Jennifer Josephson at 705.432.3322 ext. 105 or jjosephson@brockchc.ca.
URL:https://www.brockchc.ca/calendar/chair-yoga/2027-08-09/
LOCATION:Brock CHC\, 39 Cameron Street West\, Cannington\, ON\, L0E 1E0\, Canada
ATTACH;FMTTYPE=image/jpeg:https://www.brockchc.ca/wp-content/uploads/2026/01/Chair-Yoga.jpg
END:VEVENT
BEGIN:VEVENT
DTSTART;TZID=America/Toronto:20270809T111500
DTEND;TZID=America/Toronto:20270809T121500
DTSTAMP:20260419T182220
CREATED:20260121T143554Z
LAST-MODIFIED:20260121T143845Z
UID:10012451-1817810100-1817813700@www.brockchc.ca
SUMMARY:Gentle Yin Yoga
DESCRIPTION:A calm and grounding Yin Yoga class appropriate for all levels.  Poses are practiced on a yoga mat and held for longer periods to encourage deep release and relaxation.  Props may be used to support comfort\, ease\, and individual needs through the practice.  To register\, contact Jennifer Josephson at 705.432.3322 ext. 105 or email jjosephson@brockchc.ca.
URL:https://www.brockchc.ca/calendar/gentle-yin-yoga/2027-08-09/
LOCATION:Brock CHC\, 39 Cameron Street West\, Cannington\, ON\, L0E 1E0\, Canada
ATTACH;FMTTYPE=image/jpeg:https://www.brockchc.ca/wp-content/uploads/2026/01/Yin-Yoga.jpg
END:VEVENT
BEGIN:VEVENT
DTSTART;TZID=America/Toronto:20270812T090000
DTEND;TZID=America/Toronto:20270812T120000
DTSTAMP:20260419T182220
CREATED:20251211T161002Z
LAST-MODIFIED:20251211T161002Z
UID:10012099-1818061200-1818072000@www.brockchc.ca
SUMMARY:The Social - Alzheimer Society of Durham Region
DESCRIPTION:This weekly social group for persons living with dementia offers stimulating activities with a focus on social engagement.  Activities are facilitated by experienced staff and co-designed with attendees to meet their interests and needs.  Thursdays from 9am – noon at Brock Community Health Centre.  $12 per day.  Please call the Alzheimer Society of Durham Region to register or for more information at 1-888.301-1106 or email information@alzheimerdurham.com.
URL:https://www.brockchc.ca/calendar/the-social-alzheimer-society-of-durham-region/2027-08-12/
LOCATION:Brock CHC\, 39 Cameron Street West\, Cannington\, ON\, L0E 1E0\, Canada
ORGANIZER;CN="Alzheimer Society of Durham Region":MAILTO:information@alzheimerdurham.com
END:VEVENT
BEGIN:VEVENT
DTSTART;TZID=America/Toronto:20270816T100000
DTEND;TZID=America/Toronto:20270816T110000
DTSTAMP:20260419T182220
CREATED:20260121T143113Z
LAST-MODIFIED:20260121T143701Z
UID:10006803-1818410400-1818414000@www.brockchc.ca
SUMMARY:Chair Yoga
DESCRIPTION:A supportive chair-based yoga class with a creative and open-minded approach.  Using the chair along with simple props\, participants will explore gentle movements\, breath\, and relaxation while staying curious and willing to try new variations.  Suitable for all bodies and abilities.  To register\, contact Jennifer Josephson at 705.432.3322 ext. 105 or jjosephson@brockchc.ca.
URL:https://www.brockchc.ca/calendar/chair-yoga/2027-08-16/
LOCATION:Brock CHC\, 39 Cameron Street West\, Cannington\, ON\, L0E 1E0\, Canada
ATTACH;FMTTYPE=image/jpeg:https://www.brockchc.ca/wp-content/uploads/2026/01/Chair-Yoga.jpg
END:VEVENT
BEGIN:VEVENT
DTSTART;TZID=America/Toronto:20270816T111500
DTEND;TZID=America/Toronto:20270816T121500
DTSTAMP:20260419T182220
CREATED:20260121T143554Z
LAST-MODIFIED:20260121T143845Z
UID:10012452-1818414900-1818418500@www.brockchc.ca
SUMMARY:Gentle Yin Yoga
DESCRIPTION:A calm and grounding Yin Yoga class appropriate for all levels.  Poses are practiced on a yoga mat and held for longer periods to encourage deep release and relaxation.  Props may be used to support comfort\, ease\, and individual needs through the practice.  To register\, contact Jennifer Josephson at 705.432.3322 ext. 105 or email jjosephson@brockchc.ca.
URL:https://www.brockchc.ca/calendar/gentle-yin-yoga/2027-08-16/
LOCATION:Brock CHC\, 39 Cameron Street West\, Cannington\, ON\, L0E 1E0\, Canada
ATTACH;FMTTYPE=image/jpeg:https://www.brockchc.ca/wp-content/uploads/2026/01/Yin-Yoga.jpg
END:VEVENT
BEGIN:VEVENT
DTSTART;TZID=America/Toronto:20270819T090000
DTEND;TZID=America/Toronto:20270819T120000
DTSTAMP:20260419T182220
CREATED:20251211T161002Z
LAST-MODIFIED:20251211T161002Z
UID:10012100-1818666000-1818676800@www.brockchc.ca
SUMMARY:The Social - Alzheimer Society of Durham Region
DESCRIPTION:This weekly social group for persons living with dementia offers stimulating activities with a focus on social engagement.  Activities are facilitated by experienced staff and co-designed with attendees to meet their interests and needs.  Thursdays from 9am – noon at Brock Community Health Centre.  $12 per day.  Please call the Alzheimer Society of Durham Region to register or for more information at 1-888.301-1106 or email information@alzheimerdurham.com.
URL:https://www.brockchc.ca/calendar/the-social-alzheimer-society-of-durham-region/2027-08-19/
LOCATION:Brock CHC\, 39 Cameron Street West\, Cannington\, ON\, L0E 1E0\, Canada
ORGANIZER;CN="Alzheimer Society of Durham Region":MAILTO:information@alzheimerdurham.com
END:VEVENT
BEGIN:VEVENT
DTSTART;TZID=America/Toronto:20270823T100000
DTEND;TZID=America/Toronto:20270823T110000
DTSTAMP:20260419T182220
CREATED:20260121T143113Z
LAST-MODIFIED:20260121T143701Z
UID:10006804-1819015200-1819018800@www.brockchc.ca
SUMMARY:Chair Yoga
DESCRIPTION:A supportive chair-based yoga class with a creative and open-minded approach.  Using the chair along with simple props\, participants will explore gentle movements\, breath\, and relaxation while staying curious and willing to try new variations.  Suitable for all bodies and abilities.  To register\, contact Jennifer Josephson at 705.432.3322 ext. 105 or jjosephson@brockchc.ca.
URL:https://www.brockchc.ca/calendar/chair-yoga/2027-08-23/
LOCATION:Brock CHC\, 39 Cameron Street West\, Cannington\, ON\, L0E 1E0\, Canada
ATTACH;FMTTYPE=image/jpeg:https://www.brockchc.ca/wp-content/uploads/2026/01/Chair-Yoga.jpg
END:VEVENT
BEGIN:VEVENT
DTSTART;TZID=America/Toronto:20270823T111500
DTEND;TZID=America/Toronto:20270823T121500
DTSTAMP:20260419T182220
CREATED:20260121T143554Z
LAST-MODIFIED:20260121T143845Z
UID:10012453-1819019700-1819023300@www.brockchc.ca
SUMMARY:Gentle Yin Yoga
DESCRIPTION:A calm and grounding Yin Yoga class appropriate for all levels.  Poses are practiced on a yoga mat and held for longer periods to encourage deep release and relaxation.  Props may be used to support comfort\, ease\, and individual needs through the practice.  To register\, contact Jennifer Josephson at 705.432.3322 ext. 105 or email jjosephson@brockchc.ca.
URL:https://www.brockchc.ca/calendar/gentle-yin-yoga/2027-08-23/
LOCATION:Brock CHC\, 39 Cameron Street West\, Cannington\, ON\, L0E 1E0\, Canada
ATTACH;FMTTYPE=image/jpeg:https://www.brockchc.ca/wp-content/uploads/2026/01/Yin-Yoga.jpg
END:VEVENT
BEGIN:VEVENT
DTSTART;TZID=America/Toronto:20270826T090000
DTEND;TZID=America/Toronto:20270826T120000
DTSTAMP:20260419T182220
CREATED:20251211T161002Z
LAST-MODIFIED:20251211T161002Z
UID:10012101-1819270800-1819281600@www.brockchc.ca
SUMMARY:The Social - Alzheimer Society of Durham Region
DESCRIPTION:This weekly social group for persons living with dementia offers stimulating activities with a focus on social engagement.  Activities are facilitated by experienced staff and co-designed with attendees to meet their interests and needs.  Thursdays from 9am – noon at Brock Community Health Centre.  $12 per day.  Please call the Alzheimer Society of Durham Region to register or for more information at 1-888.301-1106 or email information@alzheimerdurham.com.
URL:https://www.brockchc.ca/calendar/the-social-alzheimer-society-of-durham-region/2027-08-26/
LOCATION:Brock CHC\, 39 Cameron Street West\, Cannington\, ON\, L0E 1E0\, Canada
ORGANIZER;CN="Alzheimer Society of Durham Region":MAILTO:information@alzheimerdurham.com
END:VEVENT
BEGIN:VEVENT
DTSTART;TZID=America/Toronto:20270830T100000
DTEND;TZID=America/Toronto:20270830T110000
DTSTAMP:20260419T182220
CREATED:20260121T143113Z
LAST-MODIFIED:20260121T143701Z
UID:10006805-1819620000-1819623600@www.brockchc.ca
SUMMARY:Chair Yoga
DESCRIPTION:A supportive chair-based yoga class with a creative and open-minded approach.  Using the chair along with simple props\, participants will explore gentle movements\, breath\, and relaxation while staying curious and willing to try new variations.  Suitable for all bodies and abilities.  To register\, contact Jennifer Josephson at 705.432.3322 ext. 105 or jjosephson@brockchc.ca.
URL:https://www.brockchc.ca/calendar/chair-yoga/2027-08-30/
LOCATION:Brock CHC\, 39 Cameron Street West\, Cannington\, ON\, L0E 1E0\, Canada
ATTACH;FMTTYPE=image/jpeg:https://www.brockchc.ca/wp-content/uploads/2026/01/Chair-Yoga.jpg
END:VEVENT
BEGIN:VEVENT
DTSTART;TZID=America/Toronto:20270830T111500
DTEND;TZID=America/Toronto:20270830T121500
DTSTAMP:20260419T182220
CREATED:20260121T143554Z
LAST-MODIFIED:20260121T143845Z
UID:10012454-1819624500-1819628100@www.brockchc.ca
SUMMARY:Gentle Yin Yoga
DESCRIPTION:A calm and grounding Yin Yoga class appropriate for all levels.  Poses are practiced on a yoga mat and held for longer periods to encourage deep release and relaxation.  Props may be used to support comfort\, ease\, and individual needs through the practice.  To register\, contact Jennifer Josephson at 705.432.3322 ext. 105 or email jjosephson@brockchc.ca.
URL:https://www.brockchc.ca/calendar/gentle-yin-yoga/2027-08-30/
LOCATION:Brock CHC\, 39 Cameron Street West\, Cannington\, ON\, L0E 1E0\, Canada
ATTACH;FMTTYPE=image/jpeg:https://www.brockchc.ca/wp-content/uploads/2026/01/Yin-Yoga.jpg
END:VEVENT
BEGIN:VEVENT
DTSTART;TZID=America/Toronto:20270902T090000
DTEND;TZID=America/Toronto:20270902T120000
DTSTAMP:20260419T182220
CREATED:20251211T161002Z
LAST-MODIFIED:20251211T161002Z
UID:10012102-1819875600-1819886400@www.brockchc.ca
SUMMARY:The Social - Alzheimer Society of Durham Region
DESCRIPTION:This weekly social group for persons living with dementia offers stimulating activities with a focus on social engagement.  Activities are facilitated by experienced staff and co-designed with attendees to meet their interests and needs.  Thursdays from 9am – noon at Brock Community Health Centre.  $12 per day.  Please call the Alzheimer Society of Durham Region to register or for more information at 1-888.301-1106 or email information@alzheimerdurham.com.
URL:https://www.brockchc.ca/calendar/the-social-alzheimer-society-of-durham-region/2027-09-02/
LOCATION:Brock CHC\, 39 Cameron Street West\, Cannington\, ON\, L0E 1E0\, Canada
ORGANIZER;CN="Alzheimer Society of Durham Region":MAILTO:information@alzheimerdurham.com
END:VEVENT
BEGIN:VEVENT
DTSTART;TZID=America/Toronto:20270906T100000
DTEND;TZID=America/Toronto:20270906T110000
DTSTAMP:20260419T182220
CREATED:20260121T143113Z
LAST-MODIFIED:20260121T143701Z
UID:10006806-1820224800-1820228400@www.brockchc.ca
SUMMARY:Chair Yoga
DESCRIPTION:A supportive chair-based yoga class with a creative and open-minded approach.  Using the chair along with simple props\, participants will explore gentle movements\, breath\, and relaxation while staying curious and willing to try new variations.  Suitable for all bodies and abilities.  To register\, contact Jennifer Josephson at 705.432.3322 ext. 105 or jjosephson@brockchc.ca.
URL:https://www.brockchc.ca/calendar/chair-yoga/2027-09-06/
LOCATION:Brock CHC\, 39 Cameron Street West\, Cannington\, ON\, L0E 1E0\, Canada
ATTACH;FMTTYPE=image/jpeg:https://www.brockchc.ca/wp-content/uploads/2026/01/Chair-Yoga.jpg
END:VEVENT
BEGIN:VEVENT
DTSTART;TZID=America/Toronto:20270906T111500
DTEND;TZID=America/Toronto:20270906T121500
DTSTAMP:20260419T182220
CREATED:20260121T143554Z
LAST-MODIFIED:20260121T143845Z
UID:10012455-1820229300-1820232900@www.brockchc.ca
SUMMARY:Gentle Yin Yoga
DESCRIPTION:A calm and grounding Yin Yoga class appropriate for all levels.  Poses are practiced on a yoga mat and held for longer periods to encourage deep release and relaxation.  Props may be used to support comfort\, ease\, and individual needs through the practice.  To register\, contact Jennifer Josephson at 705.432.3322 ext. 105 or email jjosephson@brockchc.ca.
URL:https://www.brockchc.ca/calendar/gentle-yin-yoga/2027-09-06/
LOCATION:Brock CHC\, 39 Cameron Street West\, Cannington\, ON\, L0E 1E0\, Canada
ATTACH;FMTTYPE=image/jpeg:https://www.brockchc.ca/wp-content/uploads/2026/01/Yin-Yoga.jpg
END:VEVENT
BEGIN:VEVENT
DTSTART;TZID=America/Toronto:20270909T090000
DTEND;TZID=America/Toronto:20270909T120000
DTSTAMP:20260419T182220
CREATED:20251211T161002Z
LAST-MODIFIED:20251211T161002Z
UID:10012103-1820480400-1820491200@www.brockchc.ca
SUMMARY:The Social - Alzheimer Society of Durham Region
DESCRIPTION:This weekly social group for persons living with dementia offers stimulating activities with a focus on social engagement.  Activities are facilitated by experienced staff and co-designed with attendees to meet their interests and needs.  Thursdays from 9am – noon at Brock Community Health Centre.  $12 per day.  Please call the Alzheimer Society of Durham Region to register or for more information at 1-888.301-1106 or email information@alzheimerdurham.com.
URL:https://www.brockchc.ca/calendar/the-social-alzheimer-society-of-durham-region/2027-09-09/
LOCATION:Brock CHC\, 39 Cameron Street West\, Cannington\, ON\, L0E 1E0\, Canada
ORGANIZER;CN="Alzheimer Society of Durham Region":MAILTO:information@alzheimerdurham.com
END:VEVENT
BEGIN:VEVENT
DTSTART;TZID=America/Toronto:20270913T100000
DTEND;TZID=America/Toronto:20270913T110000
DTSTAMP:20260419T182220
CREATED:20260121T143113Z
LAST-MODIFIED:20260121T143701Z
UID:10006807-1820829600-1820833200@www.brockchc.ca
SUMMARY:Chair Yoga
DESCRIPTION:A supportive chair-based yoga class with a creative and open-minded approach.  Using the chair along with simple props\, participants will explore gentle movements\, breath\, and relaxation while staying curious and willing to try new variations.  Suitable for all bodies and abilities.  To register\, contact Jennifer Josephson at 705.432.3322 ext. 105 or jjosephson@brockchc.ca.
URL:https://www.brockchc.ca/calendar/chair-yoga/2027-09-13/
LOCATION:Brock CHC\, 39 Cameron Street West\, Cannington\, ON\, L0E 1E0\, Canada
ATTACH;FMTTYPE=image/jpeg:https://www.brockchc.ca/wp-content/uploads/2026/01/Chair-Yoga.jpg
END:VEVENT
BEGIN:VEVENT
DTSTART;TZID=America/Toronto:20270913T111500
DTEND;TZID=America/Toronto:20270913T121500
DTSTAMP:20260419T182220
CREATED:20260121T143554Z
LAST-MODIFIED:20260121T143845Z
UID:10012456-1820834100-1820837700@www.brockchc.ca
SUMMARY:Gentle Yin Yoga
DESCRIPTION:A calm and grounding Yin Yoga class appropriate for all levels.  Poses are practiced on a yoga mat and held for longer periods to encourage deep release and relaxation.  Props may be used to support comfort\, ease\, and individual needs through the practice.  To register\, contact Jennifer Josephson at 705.432.3322 ext. 105 or email jjosephson@brockchc.ca.
URL:https://www.brockchc.ca/calendar/gentle-yin-yoga/2027-09-13/
LOCATION:Brock CHC\, 39 Cameron Street West\, Cannington\, ON\, L0E 1E0\, Canada
ATTACH;FMTTYPE=image/jpeg:https://www.brockchc.ca/wp-content/uploads/2026/01/Yin-Yoga.jpg
END:VEVENT
BEGIN:VEVENT
DTSTART;TZID=America/Toronto:20270916T090000
DTEND;TZID=America/Toronto:20270916T120000
DTSTAMP:20260419T182220
CREATED:20251211T161002Z
LAST-MODIFIED:20251211T161002Z
UID:10012104-1821085200-1821096000@www.brockchc.ca
SUMMARY:The Social - Alzheimer Society of Durham Region
DESCRIPTION:This weekly social group for persons living with dementia offers stimulating activities with a focus on social engagement.  Activities are facilitated by experienced staff and co-designed with attendees to meet their interests and needs.  Thursdays from 9am – noon at Brock Community Health Centre.  $12 per day.  Please call the Alzheimer Society of Durham Region to register or for more information at 1-888.301-1106 or email information@alzheimerdurham.com.
URL:https://www.brockchc.ca/calendar/the-social-alzheimer-society-of-durham-region/2027-09-16/
LOCATION:Brock CHC\, 39 Cameron Street West\, Cannington\, ON\, L0E 1E0\, Canada
ORGANIZER;CN="Alzheimer Society of Durham Region":MAILTO:information@alzheimerdurham.com
END:VEVENT
END:VCALENDAR