BEGIN:VCALENDAR
VERSION:2.0
PRODID:-//Brock Community Health Centre - ECPv6.15.20//NONSGML v1.0//EN
CALSCALE:GREGORIAN
METHOD:PUBLISH
X-ORIGINAL-URL:https://www.brockchc.ca
X-WR-CALDESC:Events for Brock Community Health Centre
REFRESH-INTERVAL;VALUE=DURATION:PT1H
X-Robots-Tag:noindex
X-PUBLISHED-TTL:PT1H
BEGIN:VTIMEZONE
TZID:America/Toronto
BEGIN:DAYLIGHT
TZOFFSETFROM:-0500
TZOFFSETTO:-0400
TZNAME:EDT
DTSTART:20300310T070000
END:DAYLIGHT
BEGIN:STANDARD
TZOFFSETFROM:-0400
TZOFFSETTO:-0500
TZNAME:EST
DTSTART:20301103T060000
END:STANDARD
BEGIN:DAYLIGHT
TZOFFSETFROM:-0500
TZOFFSETTO:-0400
TZNAME:EDT
DTSTART:20310309T070000
END:DAYLIGHT
BEGIN:STANDARD
TZOFFSETFROM:-0400
TZOFFSETTO:-0500
TZNAME:EST
DTSTART:20311102T060000
END:STANDARD
BEGIN:DAYLIGHT
TZOFFSETFROM:-0500
TZOFFSETTO:-0400
TZNAME:EDT
DTSTART:20320314T070000
END:DAYLIGHT
BEGIN:STANDARD
TZOFFSETFROM:-0400
TZOFFSETTO:-0500
TZNAME:EST
DTSTART:20321107T060000
END:STANDARD
END:VTIMEZONE
BEGIN:VEVENT
DTSTART;TZID=America/Toronto:20310303T100000
DTEND;TZID=America/Toronto:20310303T110000
DTSTAMP:20260421T184640
CREATED:20260121T143113Z
LAST-MODIFIED:20260121T143701Z
UID:10012863-1930298400-1930302000@www.brockchc.ca
SUMMARY:Chair Yoga
DESCRIPTION:A supportive chair-based yoga class with a creative and open-minded approach.  Using the chair along with simple props\, participants will explore gentle movements\, breath\, and relaxation while staying curious and willing to try new variations.  Suitable for all bodies and abilities.  To register\, contact Jennifer Josephson at 705.432.3322 ext. 105 or jjosephson@brockchc.ca.
URL:https://www.brockchc.ca/calendar/chair-yoga/2031-03-03/
LOCATION:Brock CHC\, 39 Cameron Street West\, Cannington\, ON\, L0E 1E0\, Canada
ATTACH;FMTTYPE=image/jpeg:https://www.brockchc.ca/wp-content/uploads/2026/01/Chair-Yoga.jpg
END:VEVENT
BEGIN:VEVENT
DTSTART;TZID=America/Toronto:20310310T100000
DTEND;TZID=America/Toronto:20310310T110000
DTSTAMP:20260421T184640
CREATED:20260121T143113Z
LAST-MODIFIED:20260121T143701Z
UID:10012882-1930903200-1930906800@www.brockchc.ca
SUMMARY:Chair Yoga
DESCRIPTION:A supportive chair-based yoga class with a creative and open-minded approach.  Using the chair along with simple props\, participants will explore gentle movements\, breath\, and relaxation while staying curious and willing to try new variations.  Suitable for all bodies and abilities.  To register\, contact Jennifer Josephson at 705.432.3322 ext. 105 or jjosephson@brockchc.ca.
URL:https://www.brockchc.ca/calendar/chair-yoga/2031-03-10/
LOCATION:Brock CHC\, 39 Cameron Street West\, Cannington\, ON\, L0E 1E0\, Canada
ATTACH;FMTTYPE=image/jpeg:https://www.brockchc.ca/wp-content/uploads/2026/01/Chair-Yoga.jpg
END:VEVENT
BEGIN:VEVENT
DTSTART;TZID=America/Toronto:20310317T100000
DTEND;TZID=America/Toronto:20310317T110000
DTSTAMP:20260421T184640
CREATED:20260121T143113Z
LAST-MODIFIED:20260121T143701Z
UID:10012901-1931508000-1931511600@www.brockchc.ca
SUMMARY:Chair Yoga
DESCRIPTION:A supportive chair-based yoga class with a creative and open-minded approach.  Using the chair along with simple props\, participants will explore gentle movements\, breath\, and relaxation while staying curious and willing to try new variations.  Suitable for all bodies and abilities.  To register\, contact Jennifer Josephson at 705.432.3322 ext. 105 or jjosephson@brockchc.ca.
URL:https://www.brockchc.ca/calendar/chair-yoga/2031-03-17/
LOCATION:Brock CHC\, 39 Cameron Street West\, Cannington\, ON\, L0E 1E0\, Canada
ATTACH;FMTTYPE=image/jpeg:https://www.brockchc.ca/wp-content/uploads/2026/01/Chair-Yoga.jpg
END:VEVENT
BEGIN:VEVENT
DTSTART;TZID=America/Toronto:20310324T100000
DTEND;TZID=America/Toronto:20310324T110000
DTSTAMP:20260421T184640
CREATED:20260121T143113Z
LAST-MODIFIED:20260121T143701Z
UID:10012923-1932112800-1932116400@www.brockchc.ca
SUMMARY:Chair Yoga
DESCRIPTION:A supportive chair-based yoga class with a creative and open-minded approach.  Using the chair along with simple props\, participants will explore gentle movements\, breath\, and relaxation while staying curious and willing to try new variations.  Suitable for all bodies and abilities.  To register\, contact Jennifer Josephson at 705.432.3322 ext. 105 or jjosephson@brockchc.ca.
URL:https://www.brockchc.ca/calendar/chair-yoga/2031-03-24/
LOCATION:Brock CHC\, 39 Cameron Street West\, Cannington\, ON\, L0E 1E0\, Canada
ATTACH;FMTTYPE=image/jpeg:https://www.brockchc.ca/wp-content/uploads/2026/01/Chair-Yoga.jpg
END:VEVENT
BEGIN:VEVENT
DTSTART;TZID=America/Toronto:20310331T100000
DTEND;TZID=America/Toronto:20310331T110000
DTSTAMP:20260421T184640
CREATED:20260121T143113Z
LAST-MODIFIED:20260121T143701Z
UID:10012924-1932717600-1932721200@www.brockchc.ca
SUMMARY:Chair Yoga
DESCRIPTION:A supportive chair-based yoga class with a creative and open-minded approach.  Using the chair along with simple props\, participants will explore gentle movements\, breath\, and relaxation while staying curious and willing to try new variations.  Suitable for all bodies and abilities.  To register\, contact Jennifer Josephson at 705.432.3322 ext. 105 or jjosephson@brockchc.ca.
URL:https://www.brockchc.ca/calendar/chair-yoga/2031-03-31/
LOCATION:Brock CHC\, 39 Cameron Street West\, Cannington\, ON\, L0E 1E0\, Canada
ATTACH;FMTTYPE=image/jpeg:https://www.brockchc.ca/wp-content/uploads/2026/01/Chair-Yoga.jpg
END:VEVENT
END:VCALENDAR