BEGIN:VCALENDAR
VERSION:2.0
PRODID:-//Brock Community Health Centre - ECPv6.15.20//NONSGML v1.0//EN
CALSCALE:GREGORIAN
METHOD:PUBLISH
X-WR-CALNAME:Brock Community Health Centre
X-ORIGINAL-URL:https://www.brockchc.ca
X-WR-CALDESC:Events for Brock Community Health Centre
REFRESH-INTERVAL;VALUE=DURATION:PT1H
X-Robots-Tag:noindex
X-PUBLISHED-TTL:PT1H
BEGIN:VTIMEZONE
TZID:America/Toronto
BEGIN:DAYLIGHT
TZOFFSETFROM:-0500
TZOFFSETTO:-0400
TZNAME:EDT
DTSTART:20300310T070000
END:DAYLIGHT
BEGIN:STANDARD
TZOFFSETFROM:-0400
TZOFFSETTO:-0500
TZNAME:EST
DTSTART:20301103T060000
END:STANDARD
BEGIN:DAYLIGHT
TZOFFSETFROM:-0500
TZOFFSETTO:-0400
TZNAME:EDT
DTSTART:20310309T070000
END:DAYLIGHT
BEGIN:STANDARD
TZOFFSETFROM:-0400
TZOFFSETTO:-0500
TZNAME:EST
DTSTART:20311102T060000
END:STANDARD
BEGIN:DAYLIGHT
TZOFFSETFROM:-0500
TZOFFSETTO:-0400
TZNAME:EDT
DTSTART:20320314T070000
END:DAYLIGHT
BEGIN:STANDARD
TZOFFSETFROM:-0400
TZOFFSETTO:-0500
TZNAME:EST
DTSTART:20321107T060000
END:STANDARD
END:VTIMEZONE
BEGIN:VEVENT
DTSTART;TZID=America/Toronto:20310203T100000
DTEND;TZID=America/Toronto:20310203T110000
DTSTAMP:20260421T170618
CREATED:20260121T143113Z
LAST-MODIFIED:20260121T143701Z
UID:10012835-1927879200-1927882800@www.brockchc.ca
SUMMARY:Chair Yoga
DESCRIPTION:A supportive chair-based yoga class with a creative and open-minded approach.  Using the chair along with simple props\, participants will explore gentle movements\, breath\, and relaxation while staying curious and willing to try new variations.  Suitable for all bodies and abilities.  To register\, contact Jennifer Josephson at 705.432.3322 ext. 105 or jjosephson@brockchc.ca.
URL:https://www.brockchc.ca/calendar/chair-yoga/2031-02-03/
LOCATION:Brock CHC\, 39 Cameron Street West\, Cannington\, ON\, L0E 1E0\, Canada
ATTACH;FMTTYPE=image/jpeg:https://www.brockchc.ca/wp-content/uploads/2026/01/Chair-Yoga.jpg
END:VEVENT
BEGIN:VEVENT
DTSTART;TZID=America/Toronto:20310210T100000
DTEND;TZID=America/Toronto:20310210T110000
DTSTAMP:20260421T170618
CREATED:20260121T143113Z
LAST-MODIFIED:20260121T143701Z
UID:10012836-1928484000-1928487600@www.brockchc.ca
SUMMARY:Chair Yoga
DESCRIPTION:A supportive chair-based yoga class with a creative and open-minded approach.  Using the chair along with simple props\, participants will explore gentle movements\, breath\, and relaxation while staying curious and willing to try new variations.  Suitable for all bodies and abilities.  To register\, contact Jennifer Josephson at 705.432.3322 ext. 105 or jjosephson@brockchc.ca.
URL:https://www.brockchc.ca/calendar/chair-yoga/2031-02-10/
LOCATION:Brock CHC\, 39 Cameron Street West\, Cannington\, ON\, L0E 1E0\, Canada
ATTACH;FMTTYPE=image/jpeg:https://www.brockchc.ca/wp-content/uploads/2026/01/Chair-Yoga.jpg
END:VEVENT
BEGIN:VEVENT
DTSTART;TZID=America/Toronto:20310217T100000
DTEND;TZID=America/Toronto:20310217T110000
DTSTAMP:20260421T170618
CREATED:20260121T143113Z
LAST-MODIFIED:20260121T143701Z
UID:10012837-1929088800-1929092400@www.brockchc.ca
SUMMARY:Chair Yoga
DESCRIPTION:A supportive chair-based yoga class with a creative and open-minded approach.  Using the chair along with simple props\, participants will explore gentle movements\, breath\, and relaxation while staying curious and willing to try new variations.  Suitable for all bodies and abilities.  To register\, contact Jennifer Josephson at 705.432.3322 ext. 105 or jjosephson@brockchc.ca.
URL:https://www.brockchc.ca/calendar/chair-yoga/2031-02-17/
LOCATION:Brock CHC\, 39 Cameron Street West\, Cannington\, ON\, L0E 1E0\, Canada
ATTACH;FMTTYPE=image/jpeg:https://www.brockchc.ca/wp-content/uploads/2026/01/Chair-Yoga.jpg
END:VEVENT
BEGIN:VEVENT
DTSTART;TZID=America/Toronto:20310224T100000
DTEND;TZID=America/Toronto:20310224T110000
DTSTAMP:20260421T170618
CREATED:20260121T143113Z
LAST-MODIFIED:20260121T143701Z
UID:10012838-1929693600-1929697200@www.brockchc.ca
SUMMARY:Chair Yoga
DESCRIPTION:A supportive chair-based yoga class with a creative and open-minded approach.  Using the chair along with simple props\, participants will explore gentle movements\, breath\, and relaxation while staying curious and willing to try new variations.  Suitable for all bodies and abilities.  To register\, contact Jennifer Josephson at 705.432.3322 ext. 105 or jjosephson@brockchc.ca.
URL:https://www.brockchc.ca/calendar/chair-yoga/2031-02-24/
LOCATION:Brock CHC\, 39 Cameron Street West\, Cannington\, ON\, L0E 1E0\, Canada
ATTACH;FMTTYPE=image/jpeg:https://www.brockchc.ca/wp-content/uploads/2026/01/Chair-Yoga.jpg
END:VEVENT
END:VCALENDAR